BEGIN:VCALENDAR
VERSION:2.0
PRODID:-//wp-events-plugin.com//7.2.3.1//EN
TZID:Europe/Rome
X-WR-TIMEZONE:Europe/Rome
BEGIN:VEVENT
UID:23670@lazioeventi.com
DTSTART;VALUE=DATE:20211122
DTEND;VALUE=DATE:20211129
DTSTAMP:20211103T142926Z
URL:https://lazioeventi.com/eventi/festival-delle-scienze
SUMMARY:Festival delle Scienze - Roma - 22 Novembre 21 00:00
DESCRIPTION:Il Festival delle Scienze di Roma\, come ogni anno\, affronter
 à la tematica principale [SFIDE] attraverso 7 cluster che strutturano tut
 to il programma scientifico. Uno sguardo da vicino ad uno dei 7 cluster\n\
 n𝗨𝗡𝗜𝗩𝗘𝗥𝗦𝗢 𝗘 𝗦𝗣𝗔𝗭𝗜𝗢\n𝗖𝗼
 𝘀𝗺𝗼𝗹𝗼𝗴𝗶𝗮\, 𝗳𝗶𝘀𝗶𝗰𝗮\, 𝗮𝘀𝘁
 𝗿𝗼𝗳𝗶𝘀𝗶𝗰𝗮\, 𝗺𝗮𝘁𝗲𝗿𝗶𝗮\, 𝗲𝗻
 𝗲𝗿𝗴𝗶𝗮\, 𝗽𝗶𝗮𝗻𝗲𝘁𝗶\, 𝘀𝘁𝗲𝗹𝗹
 𝗲\, 𝗴𝗮𝗹𝗮𝘀𝘀𝗶𝗲\, 𝗿𝗲𝗹𝗮𝘁𝗶𝘃𝗶
 𝘁à\, 𝗺𝗲𝗰𝗰𝗮𝗻𝗶𝗰𝗮\nLa corsa verso Marte sta da
 ndo una spinta importante all’esplorazione dello Spazio e alla scoperta 
 di quale potrebbe essere il nostro posto e il nostro ruolo nell’Universo
 . Quali sono oggi le sfide che dovremo affrontare? E i prossimi passi ? sa
 rà possibile vivere su un altro pianeta?\n𝗖𝗮𝗹𝗲𝗻𝗱𝗮
 𝗿𝗶𝗼\n\nLUN 22 NOV | ore 19.45 | ONLINE\n𝗟𝗔 𝗠𝗔𝗧𝗘
 𝗥𝗜𝗔 𝗢𝗦𝗖𝗨𝗥𝗔 𝗡𝗘𝗟 𝗖𝗢𝗦𝗠𝗢 
 𝗗𝗜𝗦𝗢𝗥𝗗𝗜𝗡𝗔𝗧𝗢\n\nMAR 23 NOV | ore 9.45 | ON
 LINE\n𝗗𝗜𝗩𝗘𝗡𝗧𝗔𝗥𝗘 𝗔𝗕𝗜𝗧𝗔𝗡𝗧
 𝗜 𝗗𝗘𝗟 𝗖𝗜𝗘𝗟𝗢\n\nMAR 23 NOV | ore 17:00 | ONLINE\
 n𝗩𝗢𝗖𝗜 𝗗𝗔𝗟𝗟’𝗨𝗡𝗜𝗩𝗘𝗥𝗦𝗢 𝗢
 𝗦𝗖𝗨𝗥𝗢\n\nMAR 23 NOV | ore 21.00 | Sala Petrassi\n𝗟𝗔 
 𝗦𝗖𝗜𝗘𝗡𝗭𝗔 𝗗𝗜 𝗚𝗨𝗘𝗥𝗥𝗘 𝗦𝗧
 𝗘𝗟𝗟𝗔𝗥𝗜\n\nGIO 25 NOV | ore 16:30 | ONLINE\n𝗟𝗘 𝗙
 𝗥𝗢𝗡𝗧𝗜𝗘𝗥𝗘 𝗗𝗘𝗟𝗟’𝗘𝗡𝗘𝗥𝗚
 𝗜𝗔\n\nGIO 25 NOV | Ore 21:00 | Sala Petrassi\n𝗟’𝗢𝗥𝗗
 𝗜𝗡𝗘 𝗡𝗘𝗟 𝗖𝗔𝗢𝗦\n\nVEN 26 NOV | Ore 21:00 | Sal
 a Petrassi + ONLINE\n𝗨𝗡 𝗦𝗘𝗚𝗡𝗢 𝗡𝗘𝗟𝗟𝗢 
 𝗦𝗣𝗔𝗭𝗜𝗢\n\nSAB 27 NOV | ore 10:00 | ONLINE\n𝗡𝗘𝗟
 𝗟𝗢 𝗦𝗣𝗔𝗭𝗜𝗢\, 𝗡𝗘𝗦𝗦𝗨𝗡𝗢 𝗣𝗨
 Ò 𝗦𝗘𝗡𝗧𝗜𝗥𝗧𝗜 𝗦𝗢𝗦𝗣𝗜𝗥𝗔𝗥𝗘\n
 𝗟𝗲𝗼 𝗢𝗿𝘁𝗼𝗹𝗮𝗻𝗶 𝗽𝗿𝗲𝘀𝗲𝗻𝘁
 𝗮 𝗕𝗹𝘂 𝘁𝗿𝗮𝗺𝗼𝗻𝘁𝗼\nA cura di ASI\n\nSAB 2
 7 NOV | ore 12.00 | Teatro Studio Borgna\n𝗔𝗦𝗧𝗥𝗢𝗡𝗢𝗠
 𝗜𝗔 𝗠𝗨𝗟𝗧𝗜𝗠𝗘𝗦𝗦𝗘𝗡𝗚𝗘𝗥\, 𝗜
 𝗡 𝗔𝗦𝗖𝗢𝗟𝗧𝗢 𝗗𝗘𝗟𝗟’𝗨𝗡𝗜𝗩𝗘
 𝗥𝗦𝗢\n\nSAB 27 NOV | Ore 16:15 | ONLINE\n𝗩𝗜𝗔𝗚𝗚𝗜 
 𝗦𝗣𝗔𝗭𝗜𝗔𝗟𝗜\n\nSAB 27 NOV | Ore 17:30 ONLINE\n𝗟
 𝗔 𝗙𝗜𝗦𝗜𝗖𝗔 𝗗𝗘𝗟 𝗣𝗢𝗦𝗦𝗜𝗕𝗜
 𝗟𝗘 𝗘 𝗗𝗘𝗟𝗟’𝗜𝗠𝗣𝗢𝗦𝗦𝗜𝗕𝗜𝗟
 𝗘\n\nDom 28 Nov | Ore 11:15 | ONLINE\n𝗟’𝗨𝗢𝗠𝗢 𝗡𝗘
 𝗟𝗟𝗢 𝗦𝗣𝗔𝗭𝗜𝗢\n\nDom 28 Nov | Ore 12:00 Teatro Stu
 dio Gianni Borgna\n𝗢𝗡𝗗𝗘 𝗚𝗥𝗔𝗩𝗜𝗧𝗔𝗭𝗜
 𝗢𝗡𝗔𝗟𝗜: 𝗗𝗔𝗟 𝗖𝗢𝗦𝗠𝗢 𝗔𝗟 𝗦𝗢
 𝗧𝗧𝗢𝗦𝗨𝗢𝗟𝗢\n\nDOM 28 NOV | Ore 15:00 Sala Petrassi\n
 𝗗𝗔𝗟 𝗖𝗢𝗦𝗠𝗢 𝗔𝗟𝗟𝗔 𝗧𝗘𝗥𝗥𝗔 
 𝗘 𝗥𝗜𝗧𝗢𝗥𝗡𝗢\n\nDOM 28 NOV | Ore 19:00 | Teatro Studi
 o Gianni Borgna\n𝗡𝗼𝘁𝘁𝘂𝗿𝗻𝗼 𝗗𝗮𝗻𝘁𝗲\nA 
 cura del Planetario di Roma Capitale\n\nDOM 28 NOV | ore 21.00 | Sala Petr
 assi + ONLINE\n𝗣𝗥𝗔𝗧𝗜𝗖𝗔𝗠𝗘𝗡𝗧𝗘 𝗧𝗥
 𝗔𝗦𝗖𝗨𝗥𝗔𝗕𝗜𝗟𝗜\n𝗟’𝗲𝗽𝗼𝗽𝗲𝗮 
 𝗱𝗲𝗹𝗹𝗲 𝗼𝗻𝗱𝗲 𝗴𝗿𝗮𝘃𝗶𝘁𝗮𝘇𝗶
 𝗼𝗻𝗮𝗹𝗶\n\nIl Festival delle Scienze Roma vi aspetta dal 22 a
 l 28 novembre per capire\, esplorare e riflettere insieme sul ruolo della 
 scienza di fronte alle sfide globali.
ATTACH;FMTTYPE=image/jpeg:https://lazioeventi.com/wp-content/uploads/2019/
 01/scienze-roma.jpg
CATEGORIES:Arte e Cultura nel Lazio,Varie
LOCATION:Roma\, Via Leopardi\, Roma\, Roma\, Lazio\, Italia
GEO:41.8942;12.5017
X-APPLE-STRUCTURED-LOCATION;VALUE=URI;X-ADDRESS=Via Leopardi\, Roma\, Roma\
 , Lazio\, Italia;X-APPLE-RADIUS=100;X-TITLE=Roma:geo:41.8942,12.5017
END:VEVENT
END:VCALENDAR