BEGIN:VCALENDAR
VERSION:2.0
PRODID:-//wp-events-plugin.com//7.2.3.1//EN
TZID:Europe/Rome
X-WR-TIMEZONE:Europe/Rome
BEGIN:VEVENT
UID:41704@lazioeventi.com
DTSTART;TZID=Europe/Rome;VALUE=DATE:20250613
DTEND;TZID=Europe/Rome;VALUE=DATE:20250624
DTSTAMP:20250528T103635Z
URL:https://lazioeventi.com/eventi/festival-internazionale-di-storytelling
SUMMARY:Festival internazionale di Storytelling - Roma - 13 Giugno 25 00:00
DESCRIPTION:Torna a Roma il FESTIVAL INTERNAZIONALE DI STORYTELLING\, giunt
 o alla sua undicesima edizione\, ideato e organizzato dall'associazione Cu
 lturale Raccontamiunastoria\, con la firma di Paola Balbi e Davide Bardi a
 lla direzione artistica e realizzato grazie al contributo della Regione La
 zio.\n\nIl Festival rappresenta la più grande manifestazione culturale de
 l settore in Italia e mette al centro della scena lo Storytelling ovvero l
 'Arte del racconto\, nella sua accezione performativa contemporanea\, offr
 endo al pubblico della capitale una ricchissima programmazione internazion
 ale che vedrà protagonisti i più affermati performer della scena mondial
 e\, per riscoprire il piacere e il fascino senza tempo del "c'era una volt
 a".\n\nQuella del 2025 è un’edizione speciale ideata in occasione del G
 iubileo 2025 con l'intento di connettere luoghi/storie e persone attravers
 o l'arte del racconto e prevede la più estesa programmazione mai proposta
  fino ad oggi ospitando nella sua cornice anche la Conference della Federa
 zione Europea per lo Storytelling.\n\nSono attesi a Roma più di cento sto
 rytellers/cantastorie professionisti da tutta Italia\, Europa e dal resto 
 del mondo compresa una significativa rappresentanza di artiste donne in ar
 rivo anche dalla Palestina (compresa una storyteller di Gaza) e dal Libano
 \, oltre che da tutta Europa\, India\, Australia\, Messico per una manifes
 tazione culturale che ha al centro dei suoi obiettivi l'interculturalità\
 , l'inclusione e la promozione del patrimonio culturale tangibile ed intan
 gibile del territorio.\n\nSiti Archeologici (Parco Archeologico dell'Appia
  Antica\, Parco degli Acquedotti\, Valle della Caffarella)\, aree di inter
 esse naturalistico (come la Pineta di Castel Fusano ad Ostia e il Parco Re
 gionale dell'Appia Antica) e Chiese d'Arte (come la Basilica di San Sebast
 iano e la Chiesa del Domine Quo Vadis) diventeranno "teatri" per le perfor
 mance site specific dei moderni cantastorie. Mitologia Greco/Romana e di d
 iverse altre culture del mondo\, leggende\, storie della Bibbia\, racconti
  di memoria\, racconti popolari e folkloristici: tutto il materiale appart
 enente alla tradizione orale troverà spazio all'interno della manifestazi
 one. Dall’Iliade al Decameron\, dalla storia di San Sebastiano alle dee 
 della mitologia Indù\, dal racconto della storia di Maria di Nazareth nel
 la versione del Corano\, alle storie magiche sul solstizio d'estate della 
 tradizione del "Midsummer night' della cultural Nordeuropea.\n\nIl Festiva
 l metterà in scena storie per fasce di pubblico di tutte le età e tutti 
 i gusti\, con la maggioranza della programmazione rivolta ad un pubblico a
 dulto\, ma numerosi appuntamenti anche per famiglie. Non mancheranno gli a
 ttesissimi eventi itineranti: passeggiate di storie e story tours.\n\nLa p
 rogrammazione sarà in doppia lingua: italiano ed Inglese per favorire la 
 partecipazione anche del pubblico di stranieri residenti a Roma\, turisti 
 e pellegrini.\n\nChe cos’è lo storytelling?\n\nlo Storytelling è l'art
 e di trasmettere attraverso le parole\, la modulazione della voce\, la ges
 tualità e i movimenti del corpo\, le immagini di una storia ad un pubblic
 o specifico. (Definizione del National Stortyelling Network US e FEST- Fed
 erazione Europea per lo Storytelling)\n\nIn altre parole\, lo Storytelling
  è un'arte performativa che riprende la tradizione degli oratori\, gli ae
 di\, i cantastorie di tradizione classica e medievale\, reinterpretandola 
 per un pubblico contemporaneo.\n\nGli storytellers sono artisti performers
  specializzati nell'oratoria\, in grado di creare spettacoli originali e a
 ffascinanti senza il bisogno di scenografie\, oggetti di scena costumi.\n\
 nOgni performance è unica nel suo genere\, perché` lo Storytelling è un
  Arte basata sull'improvvisazione del testo e l'impatto di uno spettacolo 
 di Storytelling è sempre molto emotivamente coinvolgente perché` la comu
 nicazione fra attori e pubblico è sempre diretta e l'interazione è alla 
 base di questo genere.\n\nPer Storytelling Revival si intende il movimento
  culturale di promozione dell'arte del racconto orale e del suo repertorio
  di riferimento formato da miti\, leggende\, storie di tradizione\, raccon
 ti popolari e folkloristici attraverso il lavoro di performers professioni
 sti specializzati e denominati storytellers. Lo Storytellling Revial ha av
 uto inizio negli anni 60 negli Stati Uniti e in Inghilterra e negli anni '
 70 in nord Europa. Solo a partire dagli anni 90 è arrivato nei Paesi medi
 terranei.\n\nAttualmente esistono Festival di Storytelling in tutti i Paes
 i d'Europa e nella maggior parte di Paesi del Mondo.\n\nLa comunità degli
  artisti dediti allo Storytelling segue\, pratica e diffonde i valori etic
 i di tolleranza\, inclusione e pacifismo promossi dalla cultura hippie rei
 nterpretati in maniera rilevante per la realtà contemporanea.\n\nDIREZION
 E ARTISTICA:\n\nPaola Balbi e Davide Bardi\, sono gli storytellers più af
 fermati d’Italia e molto conosciuti a livello internazionale.\n\nCoppia 
 artistica affiatatissima (nella vita hanno altri partners!) condividono il
  palco dal 2007 e la direzione della Compagnia di Storytelling Raccontamiu
 nastoria\, oltre che del Festival Internazionale di Storytelling dal 2009.
 \n\n"Il nostro sodalizio artistico è ormai più duraturo di un matrimonio
  medio" dicono ridendo e certamente rappresentano nel mondo delle arti per
 fomative un ottimo e raro esempio di partnership artistica leadership cond
 ivisa fra uomo e donna.\n\nFamosi per i loro racconti "in tandem" che inte
 rpretano le storie parallelamente dal punto di vista maschile e da quello 
 femminile\, saranno presenti all'interno della programmazione anche con le
  loro tre nuove produzioni\, che rappresentano l'estrema varietà del loro
  repertorio: "Ad catacumbas- Il pretoriano di Cristo" spettacolo sulla vit
 a di San Sebastiano ideato come perfomance site specific per la Basilica d
 i San Sebastiano\, "La canzone di Teti" ri-racconto dell'Iliade mettendo i
 n luce le relazioni umane\, il punto di vista femminile e LGBTQ+\, oltre c
 he le dinamiche del conflitto e della schiavitù come forte metafora di ci
 ò che accade ai giorni nostri \, e "Il viaggio di Leonardo"\, uno story m
 usical sulla vita di Leonardo Da Vinci con la collaborazione del cantautor
 e Mario Costanzi\, che ne ha composto ed esegue in scena la colonna sonora
  originale”.\n\nGLI OSPITI INTERNAZIONALI\n\nIl programma della manifest
 azione prevede la presenza di numerosissimi artisti internazionali\, con u
 n cast scelto accuratamente dalla direzione artistica per offrire al pubbl
 ico una diversità culturale e rappresentanza difficile da trovare in altr
 e manifestazioni culturali:\n\nLa scena europea sarà rappresentata da art
 isti simbolo dello Storytelling Revival come il gallese Michael Harvey\, s
 pecializzato in racconti della cultura celtica e uno degli artisti più qu
 otati del settore e lo svedese Johan Theodorsson che accompagnato dalle no
 te del violino a chiave di Anders Peev ci trasporterà nelle atmosfere mag
 iche della notte di mezza estate della Scandinavia\, l'inglese Xanthe Gres
 ham specializzata nella mitologia femminile con protagoniste le grandi dee
  da tutto il mondo e i martinichesi Valer Egouy e Marie Goerge Gibayou in 
 arrivo dai Territori d'Oltre Mare\, per ricordarci che l'Europa è più gr
 ande dei suoi confini fisici. Sempre dall'Inghilterra preziosa la presenza
  dello storyteller Sef Townsed di origine ebraica e che dedica la sua arte
  e la sua carriera alla costruzione della pace\, raccontando storie sul te
 ma della "convivencia" il periodo felice in cui in spagna cristiani\, Ebre
 i e Musulmani convissero pacificamente per oltre 800 anni.\n\nDall'India 
 è in arrivo Shereen Saif storyteller e danzatrice classica indiana che ci
  farà scoprire le storie delle dee della mitologia della sua cultura.\n\n
 Attesissima la partecipazione di Fidaa Ataya delle altre artiste del grupp
 o Seraj Libreries di Ramallah in Palestina\, fra cui la storyteller Gazawi
  Alham Sead un'occasione unica per il pubblico italiano di avvicinarsi e c
 onoscere la cultura tradizionale del popolo Palestinese attraverso i suoi 
 racconti di tradizione\, magistralmente interpretati da quella che è rite
 nuta- a ragione- la più grande cantastorie Palestinese della nuova genera
 zione.\n\nSempre dal Medio Oriente Sarah Kassir\, artista Libanese\, che s
 i esibisce sul palco con magistrale disinvoltura e impeccabile tecnica tea
 trale avvolta nel suoi elegantissimi e coloratissimi hijab (velo tradizion
 ale musulmano)\, scardinando ad ogni gesto e ad ogni parola i pregiudizi d
 iffusi sulla sua cultura. Un momento magico del Festival sarà la sua inte
 rpretazione della storia di Maria di Nazareth (la Madonna) all'interno del
 la Basilica di San Sebastiano prevista per il 16 giugno.\n\nFra gli artist
 i Italiani\, oltre ai direttori artistici Paola Balbi e Davide Bardi\, per
 sonalità di riferimento dello Srtorytelling Revival in Italia il ligure L
 orenzo Caviglia\, professore di matematica e cantastorie \, che porterà u
 no spettacolo innovativo proprio sul tema della matematica e la sua connes
 sione con le storie dall'antica Grecia ad oggi\, Valentina Zocca storytell
 er e organizzatrice di viaggi culturali per leggere il mondo e le diverse 
 culture attraverso le storie\, Enedina Sanna specializzata nel repertorio 
 della Sardegna\, e la giovane Germana De Ruvo\, romana DOC\, attrice e sto
 ryteller e amante\, come da sua stessa definizione \, delle storie di gran
 di "matrone" della capitale attraverso i secoli\, da Livia Drusilla a Beat
 rice Cenci\, da Santa Cecilia ad Annia Regilla.\n\nIL PROGRAMMA\n\nIl prog
 ramma prevede due eventi lancio il 30 Giungo presso il cortile della chies
 a del Domine Quo Vadis (solitamente chiuso al pubblico) e una giornata di 
 attività il 2 Giugno presso il Borgo di Farfa (Fara Sabina) comprendente 
 anche uno story trekking (percorso a piedi di livello medio facile\, anima
 to dal racconto di storie in un luogo di interesse paesaggistico e cultura
 le) dall'Abbazia di Farfa ai resti dell'antica Abbazia sul Monte Acuzio e 
 passeggiate di storie alla scoperta del Borgo.\n\nLa programmazione intens
 iva del Festival vero e proprio si estenderà invece nelle giornate 13/14/
 15/16/20/21/22 Giugno.\n\nSegnaliamo la prima dello spettacolo "La canzone
  di Teti" sull'Iliade di Omero nella suggestiva location della Chiesa di S
 an Nicola a Capo di Bove all'interno del Parco Archeologico dell'appia Ant
 ica il 13 Giugno con replica il 27 Giugno\, gli spettacoli itineranti all'
 interno del Parco Regionale dell'Appia Antica e del Parco Archeologico del
 l'Appia Antica il 15 Giugno alle ore 19 nel Parco degli Acquedotti e il 21
  Giugno nella Valle della Caffarella in occasione del solstizio d’estate
 .\n\nSabato 14 giugno a partire dalle ore 18 un'eccezionale serata con cas
 t internazionale presso la Basilica di San Sebastiano\, comprendente anche
  lo spettacolo della storyteller indiana Shereen Saif.\n\nImperdibile ed u
 nica la performance delle artiste Palestinesi capitanate dalla storyteller
  Fidaa Ataya che si terrà venerdì 20 giugno alle ore 21 presso lo spazio
  dell'Associazione La Farfalla nella pineta di Castel Fusano.\n\nPer il pu
 bblico di lingua inglese\, i pellegrini e i turisti segnaliamo le attivit
 à di lunedì 16 giugno con la performance in lingua inglese dello spettac
 olo "Ad Catacumbas- Il pretoriano di Cristo"\, l'interpretazione dalla sto
 ria della Madonna da parte della storyteller libanese e musulmana Sarah Ka
 ssir e la story walk " RomeMemories" nel centro di Roma\, format realizzat
 o in collaborazione fra Storytellers e guide turistiche.\n\nDomenica 22 gi
 ugno gran finale del Festival a Castel Fusano\, con spettacoli per tutte l
 e età insieme a Marie George Gibayou dalla Martinica\, Montassar Lamiri d
 all' Algeria\, Sarah Abu Sharhar dal Canada e un grande concerto finale de
 l Festival con tutti gli artisti e per un pubblico di tutte le età.\n\nNo
 n mancheranno all'interno del Festival anche le occasioni di formazione pe
 r chi desidera approcciarsi o perfezionare l'arte del racconto. Il Festiva
 l offre workshops e masterclass con maestri internazionali sui più svaria
 ti aspetti dall’arte dello Storytelling\, dalla sua declinazione perform
 ativa pura al suo utilizzo nella psicologia e nell'educazione.\n\n“Racco
 ntamiunastoria” si occupa dal 2015 anche del training di Storytelling pe
 r le guide turistiche di Roma Capitale\, conferendo la qualifica di guida 
 -storyteller riconosciuta dalla Federazione Europea per lo Storytelling. N
 el corso del Festival sarà presentato anche il nuovissimo "Master di Stor
 ytelling Performativo per la promozione del patrimonio culturale e la dida
 ttica" promosso dall’Università` Roma Tre per l'anno accademico 2025/20
 26. Il master bilingue Italiano/Inglese è unico nel suo genere in Italia 
 e consentirà di conseguire la qualifica di Storyteller professionista sec
 ondo gli standard della Federazione Europea\, seguendo un training interna
 zionale d'eccellenza sia pratico che teorico.\n\nNell'anno 2019 “Raccont
 amiunastoria” aveva anche attivato un progetto pilota internazionale di 
 formazione nell'arte dello Storytelling presso l'Accademia Nazionale d'Art
 e Drammatica Silvio D'Amico (presso cui la direttrice Paola Balbi è diplo
 mata in recitazione). La sperimentazione è stata bloccata dalla pandemia\
 , ma c’è l'intenzione di riprenderla al più presto\, dal momento che l
 o Storytelling offre ai giovani attori una concreta possibilità di carrie
 ra internazionale di grande soddisfazione e successo.\n\nCONTATTI / CONTAC
 TS:\nTEL / PHONE: (+39) 349.8378830 - 339.6421465\nSITO WEB: www.raccontam
 iunastoria.com\nFACEBOOK: Raccontamiunastoria - Festival Internazionale di
  Storytelling\nINSTAGRAM: compagnia_raccontamiunastoria
ATTACH;FMTTYPE=image/jpeg:https://lazioeventi.com/wp-content/uploads/2025/
 05/TEODORSSON.jpg
CATEGORIES:Arte e Cultura nel Lazio,Musica, Spettacoli e Danza nel Lazio
LOCATION:Roma\, Via Leopardi\, Roma\, Roma\, Lazio\, Italia
GEO:41.8942;12.5017
X-APPLE-STRUCTURED-LOCATION;VALUE=URI;X-ADDRESS=Via Leopardi\, Roma\, Roma\
 , Lazio\, Italia;X-APPLE-RADIUS=100;X-TITLE=Roma:geo:41.8942,12.5017
END:VEVENT
BEGIN:VTIMEZONE
TZID:Europe/Rome
X-LIC-LOCATION:Europe/Rome
BEGIN:DAYLIGHT
DTSTART:20250330T030000
TZOFFSETFROM:+0100
TZOFFSETTO:+0200
TZNAME:CEST
END:DAYLIGHT
END:VTIMEZONE
END:VCALENDAR