BEGIN:VCALENDAR
VERSION:2.0
PRODID:-//wp-events-plugin.com//7.2.3.1//EN
TZID:Europe/Rome
X-WR-TIMEZONE:Europe/Rome
BEGIN:VEVENT
UID:32205@lazioeventi.com
DTSTART;TZID=Europe/Rome:20220930T210000
DTEND;TZID=Europe/Rome:20221002T224500
DTSTAMP:20220905T173740Z
URL:https://lazioeventi.com/eventi/festival-inventaria-la-festa-del-teatro
 -off-teatrosophia
SUMMARY:Festival Inventaria - La festa del teatro off - Roma - 30 Settembre
  22 21:00
DESCRIPTION:"Potere del teatro off: azione!"\, il sottotitolo della XII edi
 zione del Festival INVENTARIA - La festa del teatro off\, organizzato dall
 a compagnia DoveComeQuando\, racchiude in 14 serate  - dal 20 settembre al
  16 ottobre 2022 - il teatro off italiano nelle sue sfaccettature più con
 temporanee: prosa sperimentale\, civile\, biografico\, drammatico\, ironic
 o\, poetico\, stand-up\, d'interazione\, teatro danza\, performance e impr
 ovvisazione\, adattato nelle vesti di spettacoli lunghi e demo corte. \n\n
 Entrato in piena adolescenza\, il Festival INVENTARIA torna ad aprire la s
 tagione del teatro off capitolino e si riappropria della sua natura diffus
 a\, coinvolgendo quattro teatri in quattro quartieri diversi della capital
 e\, un grande\, enorme cuore dai quattro ventricoli diffusi: - Teatro Tras
 tevere – Trastevere\; - Teatrosophia - Piazza Navona\; - Fortezza Est 
 – Torpignattara\; - Carrozzerie n.o.t – Ostiense. \n\nLa prima edizion
 e post pandemica del concorso dedicato al teatro Off più grande d’Itali
 a ha ricevuto oltre duecento fra proposte di spettacoli e demo da compagni
 e di tutta Italia. La selezione curata da Pietro Dattola per la sezione sp
 ettacoli e da Flavia de Lipsis per la sezione Demo (20’)\, porta in scen
 a dieci spettacoli in concorso (più 1 fuori concorso)\, altrettante demo 
 e il ritorno di Drammi di Forza Maggiore SHOW - l'originale format di prom
 ozione dei testi finalisti dell'omonimo e altrettanto originale premio di 
 drammaturgia - caratterizzano questa Festa del teatro off all'insegna dell
 a varietà delle forme e dei linguaggi. \n\nLa forza di INVENTARIA sta anc
 he nella sua rete di partner\, estesa a 20 realtà in 11 regioni d'Italia\
 , per un totale di 35 repliche in palio per le compagnie in concorso. \n\n
 Teatrosophia	\n\n30 settembre		\nCascando!	showcase		\nDoveComeQuando	di P
 ietro Dattola\, con Flavia G. de Lipsis\n\n1 ottobre			\nSembra Amleto in 
 concorso ANTEPRIMA NAZIONALE\nIAC – Malmand di e con Francesco Zaccaro\,
  regia Ivano Picciallo\n\n2 ottobre \nDrammi di Forza Maggiore Show 2  sho
 wcase PRIMA NAZIONALE\nDoveComeQuando	dai testi finalisti di Drammi di For
 za Maggiore 2022\nregia Pietro Dattola con Flavia G. de Lipsis\, Andrea On
 ori\, Mariagrazia Torbidoni\n\n\nspettacoli ore 21.00\nBiglietti Intero 12
  euro\; Ridotto 10 euro\nInfo www.dovecomequando.net\nPrenotazioni inventa
 ria@dovecomequando.net 320.08.29.337 / 334.75.29.917\nTeatro Trastevere in
 fo@teatrotrastevere.it 06.58.14.004\n
ATTACH;FMTTYPE=image/jpeg:https://lazioeventi.com/wp-content/uploads/2020/
 09/INVENTARIA-LOGO_page-0001.jpeg
CATEGORIES:Musica, Spettacoli e Danza nel Lazio
LOCATION:Roma\, Via Leopardi\, Roma\, Roma\, Lazio\, Italia
GEO:41.8942;12.5017
X-APPLE-STRUCTURED-LOCATION;VALUE=URI;X-ADDRESS=Via Leopardi\, Roma\, Roma\
 , Lazio\, Italia;X-APPLE-RADIUS=100;X-TITLE=Roma:geo:41.8942,12.5017
END:VEVENT
BEGIN:VTIMEZONE
TZID:Europe/Rome
X-LIC-LOCATION:Europe/Rome
BEGIN:DAYLIGHT
DTSTART:20220327T030000
TZOFFSETFROM:+0100
TZOFFSETTO:+0200
TZNAME:CEST
END:DAYLIGHT
END:VTIMEZONE
END:VCALENDAR