BEGIN:VCALENDAR
VERSION:2.0
PRODID:-//wp-events-plugin.com//7.2.3.1//EN
TZID:Europe/Rome
X-WR-TIMEZONE:Europe/Rome
BEGIN:VEVENT
UID:35383@lazioeventi.com
DTSTART;TZID=Europe/Rome:20230527T093000
DTEND;TZID=Europe/Rome:20230528T190000
DTSTAMP:20230510T134223Z
URL:https://lazioeventi.com/eventi/fiori-in-farfa-2
SUMMARY:Fiori in Farfa - Fara in Sabina - 27 Maggio 23 09:30
DESCRIPTION:Torna l'appuntamento con i colori e i profumi dei fiori all'Abb
 azia di Farfa.\n\nIl 27 e 28 maggio nel Parco Cremonesi\, l’Associazione
  Culturale VIVI L’ARTE ospita vivaisti con le loro collezioni di piante 
 e fiori rari\, insieme a selezionati espositori di prodotti naturali e art
 igianali.\n\nNella Sala Polivalente è allestita la mostra di pittura a cu
 ra dell’ASSOCIAZIONE ROMANA ACQUERELLISTI.\n\nL'ingresso è libero per e
 ntrambe le mostre.\n\nOltre poi alla visita del Borgo e alle sue botteghe 
 artigiane sarà possibile effettuare visite guidate al complesso abbaziale
  e alla storica biblioteca dove è possibile ammirare\, nella sala esposit
 iva\, preziosi codici\n\n&nbsp\;
ATTACH;FMTTYPE=image/jpeg:https://lazioeventi.com/wp-content/uploads/2023/
 05/Fiori-Farfa-2023_WEB.jpg
CATEGORIES:Fiere e Mercatini nel Lazio
LOCATION:Fara in Sabina\, Comune\, Fara in Sabina\, Rieti\, Lazio\, Italia
GEO:42.2099;12.7291
X-APPLE-STRUCTURED-LOCATION;VALUE=URI;X-ADDRESS=Comune\, Fara in Sabina\, R
 ieti\, Lazio\, Italia;X-APPLE-RADIUS=100;X-TITLE=Fara in Sabina:geo:42.209
 9,12.7291
END:VEVENT
BEGIN:VTIMEZONE
TZID:Europe/Rome
X-LIC-LOCATION:Europe/Rome
BEGIN:DAYLIGHT
DTSTART:20230326T030000
TZOFFSETFROM:+0100
TZOFFSETTO:+0200
TZNAME:CEST
END:DAYLIGHT
END:VTIMEZONE
END:VCALENDAR