BEGIN:VCALENDAR
VERSION:2.0
PRODID:-//wp-events-plugin.com//7.2.3.1//EN
TZID:Europe/Rome
X-WR-TIMEZONE:Europe/Rome
BEGIN:VEVENT
UID:35823@lazioeventi.com
DTSTART;TZID=Europe/Rome:20230610T230000
DTEND;TZID=Europe/Rome:20230610T234500
DTSTAMP:20230609T174719Z
URL:https://lazioeventi.com/eventi/fioriture-musicali
SUMMARY:Fioriture Musicali - Tarquinia - 10 Giugno 23 23:00
DESCRIPTION:Sabato 10 giugno\, mentre in piazza del Duomo\, lungo il Corso 
 Vittorio Emanuele e in piazza Matteotti entreranno nel vivo i lavori per l
 a realizzazione dell’infiorata\, la Chiesa del Suffragio ospiterà\, all
 e 23.00\, un eccezionale appuntamento con la musica: si esibiranno l’org
 anista Luca Purchiaroni e la soprano Maria Asta in un concerto dal titolo 
 “Fioriture musicali” che regalerà ai presenti le sublimi emozioni dei
  più celebri brani\, tra gli altri\, di Bach\, Handel\, Schubert. \n\nIn 
 programma ci sono degli esperimenti inediti su temi classici. \n\nIngresso
  libero.
ATTACH;FMTTYPE=image/jpeg:https://lazioeventi.com/wp-content/uploads/2023/
 06/notte-dei-fiori.jpg
CATEGORIES:Musica, Spettacoli e Danza nel Lazio
LOCATION:Tarquinia\, Comune\, Tarquinia\, Viterbo\, Lazio\, Italia
GEO:42.2546;11.7584
X-APPLE-STRUCTURED-LOCATION;VALUE=URI;X-ADDRESS=Comune\, Tarquinia\, Viterb
 o\, Lazio\, Italia;X-APPLE-RADIUS=100;X-TITLE=Tarquinia:geo:42.2546,11.758
 4
END:VEVENT
BEGIN:VTIMEZONE
TZID:Europe/Rome
X-LIC-LOCATION:Europe/Rome
BEGIN:DAYLIGHT
DTSTART:20230326T030000
TZOFFSETFROM:+0100
TZOFFSETTO:+0200
TZNAME:CEST
END:DAYLIGHT
END:VTIMEZONE
END:VCALENDAR