BEGIN:VCALENDAR
VERSION:2.0
PRODID:-//wp-events-plugin.com//7.2.3.1//EN
TZID:Europe/Rome
X-WR-TIMEZONE:Europe/Rome
BEGIN:VEVENT
UID:29418@lazioeventi.com
DTSTART;TZID=Europe/Rome;VALUE=DATE:20211204
DTEND;TZID=Europe/Rome;VALUE=DATE:20220110
DTSTAMP:20211205T195814Z
URL:https://lazioeventi.com/eventi/fiuggi-christmas-village
SUMMARY:Fiuggi Christmas Village - Fiuggi - 4 Dicembre 21 00:00
DESCRIPTION:A Natale Fiuggi\, si illumina di colori\, attrazioni\, eventi e
  tantissimi spettacoli\, il Borgo di Babbo Natale\, la pista del ghiaccio\
 , i mercatini.\n\nVisita la nostra splendida città termale immersa nell'a
 tmosfera del Natale!\n\nImmergiti nell’atmosfera natalizia e visita le s
 trade e le piazze della città termale e immergiti centro storico\, dove t
 roverai allestimenti a tema\, stand gastronomici\, giochi\, concerti e spe
 ttacoli.\n\nResta qualche giorno e cogli l’occasione per visitare le mer
 aviglie artistiche e culturali che offre il territorio.
ATTACH;FMTTYPE=image/jpeg:https://lazioeventi.com/wp-content/uploads/2021/
 12/fiuggi-natale.jpg
CATEGORIES:Sport, Tempo Libero e Divertimento nel Lazio
LOCATION:Fiuggi\, Comune di Fiuggi\, Fiuggi\, Frosinone\, Lazio\, Italia
GEO:41.8039;13.2218
X-APPLE-STRUCTURED-LOCATION;VALUE=URI;X-ADDRESS=Comune di Fiuggi\, Fiuggi\,
  Frosinone\, Lazio\, Italia;X-APPLE-RADIUS=100;X-TITLE=Fiuggi:geo:41.8039,
 13.2218
END:VEVENT
BEGIN:VTIMEZONE
TZID:Europe/Rome
X-LIC-LOCATION:Europe/Rome
BEGIN:STANDARD
DTSTART:20211031T020000
TZOFFSETFROM:+0200
TZOFFSETTO:+0100
TZNAME:CET
END:STANDARD
END:VTIMEZONE
END:VCALENDAR