BEGIN:VCALENDAR
VERSION:2.0
PRODID:-//wp-events-plugin.com//7.2.3.1//EN
TZID:Europe/Rome
X-WR-TIMEZONE:Europe/Rome
BEGIN:VEVENT
UID:43507@lazioeventi.com
DTSTART;TZID=Europe/Rome:20260108T000000
DTEND;TZID=Europe/Rome:20260118T000000
DTSTAMP:20260102T132847Z
URL:https://lazioeventi.com/eventi/follie-damore
SUMMARY:Follie d'amore - Roma - 8 Gennaio 26 00:00
DESCRIPTION:dall’8 al 18 gennaio 2026\n\nDanilo De Santis\, Roberta Mastr
 omichele\, Piero Scornavacchi\, Roberto Belli\n\nin Follie d’amore\n\ne 
 con Marco Aceti\, Chiara Buratti\, Eleonora D’Achille\n\nscritto e diret
 to da Danilo De Santis\n\nuna produzione Goldenstar AM srl Teatro Golden\n
 \n\nCosa desiderare per il nuovo anno?\n\nSicuramente la cosa più prezios
 a di tutte è l'amore\, che poi è davvero il motore della vita.\n\nE per 
 questo al Teatro Golden riparte il cartellone con le novità del 2026 e la
  prima ad andare in scena è la commedia "Follie d'amore" \, con Danilo De
  Santis\, Roberta Mastromichele\, Piero Scornavacchi\, Roberto Belli e con
  Marco Aceti\, Chiara Buratti\, Eleonora D'Achille\, scritta dallo stesso 
 De Santis.\n\nDall'8 al 18 gennaio lo spazio culturale di via Taranto\, di
 retto da Andrea Maia\, ospita questa produzione Goldenstar Am che ruota at
 torno ad una serie di intrecci\, fraintendimenti e risate che mettono in e
 videnza le debolezze e le criticità umane.\n\n La storia si apre con Lui
 gi\, ancora innamorato di Elena\, che adesso ama Vittorio.\n\n Luigi deci
 de di spiarla dalla finestra di fronte all’appartamento della coppia\, d
 ove vive Ferdinando\, fortemente attratto da Luigi. Pur di restare a casa 
 sua\, Luigi si finge gay\, ma quando le attenzioni di Ferdinando divengono
  pericolose\, Luigi chiede aiuto a Mario\, il suo storico amico\, che si r
 itrova a dover interpretare la parte del suo fidanzato pur di salvarlo dal
 le mire del padrone di casa.\n\nQuando finalmente Mario riesce a rinsavire
  Luigi\, si presenta Ilaria\, l’avvenente nipote di Ferdinando.\n\nDa qu
 el momento le follie d’amore di cui era affetto Luigi\, contagiano anche
  Mario.\n\nDa non perdere\n\nOrari spettacoli\n\n•giovedì – venerdì 
 ore 21.00\n•sabato ore 17.00 e 21.00\n•domenica ore 17.00.
ATTACH;FMTTYPE=image/jpeg:https://lazioeventi.com/wp-content/uploads/2026/
 01/social-FollieDAmore.jpg
CATEGORIES:Musica, Spettacoli e Danza nel Lazio
LOCATION:Roma\, Via Leopardi\, Roma\, Roma\, Lazio\, Italia
GEO:41.8942;12.5017
X-APPLE-STRUCTURED-LOCATION;VALUE=URI;X-ADDRESS=Via Leopardi\, Roma\, Roma\
 , Lazio\, Italia;X-APPLE-RADIUS=100;X-TITLE=Roma:geo:41.8942,12.5017
END:VEVENT
BEGIN:VTIMEZONE
TZID:Europe/Rome
X-LIC-LOCATION:Europe/Rome
BEGIN:STANDARD
DTSTART:20251026T020000
TZOFFSETFROM:+0200
TZOFFSETTO:+0100
TZNAME:CET
END:STANDARD
END:VTIMEZONE
END:VCALENDAR