BEGIN:VCALENDAR
VERSION:2.0
PRODID:-//wp-events-plugin.com//7.2.3.1//EN
TZID:Europe/Rome
X-WR-TIMEZONE:Europe/Rome
BEGIN:VEVENT
UID:29844@lazioeventi.com
DTSTART;TZID=Europe/Rome;VALUE=DATE:20220214
DTEND;TZID=Europe/Rome;VALUE=DATE:20220316
DTSTAMP:20220209T102317Z
URL:https://lazioeventi.com/eventi/fondi-da-scoprire-e-vivere-concorso-fot
 ografico
SUMMARY:Fondi da scoprire e vivere: concorso fotografico - Fondi - 14 Febbr
 aio 22 00:00
DESCRIPTION:Al via il concorso fotografico amatoriale “Fondi da scoprire 
 e vivere”\, promosso dal Comune allo scopo di promuovere e valorizzare i
 l territorio in tutte le sue articolazioni artistiche\, monumentali e natu
 ralistiche. Ogni partecipante potrà inviare un solo scatto che potrà ess
 ere realizzato con qualsiasi tipologia di dispositivo ma dovrà essere nec
 essariamente inedito\, in formato jpeg e con visualizzazione orizzontale.\
 n\nOgni immagine dovrà inoltre avere un titolo e una breve descrizione mo
 tivazionale sul soggetto.\n\nTre i premi in palio: primo\, secondo e terzo
  classificato riceveranno\, rispettivamente\, 200\, 150 e 100 euro. La con
 segna dei riconoscimenti avverrà nel corso di una manifestazione organizz
 ata\, promossa e pubblicizzata dal Comune di Fondi. È possibile partecipa
 re al concorso\, presentando domanda mediante l’apposito modulo\, dal 14
  febbraio alle ore 12:00 del 15 marzo.\n\nLa partecipazione comporta la co
 ncessione al Comune di Fondi da parte degli autori del diritto di utilizzo
  gratuito delle immagini per azioni ed iniziative\, senza fine di lucro\, 
 finalizzate alla promozione e valorizzazione del territorio.\n\n“L’int
 ento del concorso – commentano il sindaco di Fondi Beniamino Maschietto 
 e l’assessore alla Cultura Vincenzo Carnevale – è quello di promuover
 e il territorio\, di far conoscere angoli suggestivi ma meno noti della no
 stra città\, promuovere la fotografia e\, in generale\, stimolare l’esp
 lorazione delle bellezze monumentali\, storiche\, artistiche e naturalisti
 che fondane. L’auspicio è che la cittadinanza partecipi numerosa. Il ri
 sultato\, in tal caso\, sarebbe una campagna di promozione del territorio 
 collettiva\, condivisa e partecipativa perché ogni opera sarebbe il frutt
 o dell’ingegno di un diverso cittadino\, amante del territorio e con la 
 passione per la fotografia”.\n\n“L’iniziativa – aggiunge il presid
 ente della commissione Turismo\, Cultura e Politiche giovanili Cristian Pe
 ppe – è anche quello di coinvolgere i più giovani che\, anche con un s
 emplice smartphone ormai alla portata di tutti\, hanno la possibilità di 
 prendere parte ad un piccolo grande progetto di promozione territoriale. 
 È anche per questo se l’amministrazione ha deciso di aprire il concorso
  agli over 16. L’evento finale\, inoltre\, sarà per tutti i partecipant
 i\, persone di età e formazione diverse ma con la comune passione per la 
 fotografia\, un’occasione per conoscersi e scambiare opinioni su tecnich
 e\, scorci e dispositivi ma anche sul territorio e sulle sue bellezze”.\
 n\nMODALITÀ E TERMINI DI ISCRIZIONE\nI partecipanti dovranno presentare l
 a domanda di iscrizione secondo il modello allegato al presente bando che 
 costituisce anche atto di accettazione del Bando medesimo.\n\nLa domanda d
 i iscrizione al concorso deve essere inviata all’indirizzo pec comune.fo
 ndi@pecaziendale.it oppure alla mail: turismo.cultura@comunedifondi.it\n\n
 Alla domanda di iscrizione deve essere allegato il file della fotografia c
 on cui intende partecipare ed un documento di identità valido del parteci
 pante. Nell’oggetto della pec/e-mail dovrà essere riportata la dicitura
  “PARTECIPAZIONE AL CONCORSO FONDI DA SCOPRIRE E DA VIVERE”.\n\nGli al
 legati dovranno essere denominati con il nome\, il cognome del partecipant
 e e muniti del titolo dello scatto. Il Comune di Fondi declina ogni respon
 sabilità per eventuali disguidi e/o smarrimenti delle immagini\, che dove
 ssero verificarsi con l’inoltro dei messaggi di posta elettronica. Le is
 crizioni saranno aperte dal 14 Febbraio al 15 Marzo 2022\, fino alle ore 1
 2\,00.\n\nIl bando completo e il modulo di adesione sono disponibili al se
 guente link: https://cloud.urbi.it/urbi/progs/urp/ur1ME002.sto?StwEvent=10
 2&amp\;DB_NAME=n1015099&amp\;IdMePubblica=39099&amp\;Archivio=
ATTACH;FMTTYPE=image/jpeg:https://lazioeventi.com/wp-content/uploads/2022/
 02/fondi_castello.jpg
CATEGORIES:Varie
LOCATION:Fondi\, Comune di Fondi\, Fondi\, Latina\, Lazio\, Italia
GEO:41.3569;13.431
X-APPLE-STRUCTURED-LOCATION;VALUE=URI;X-ADDRESS=Comune di Fondi\, Fondi\, L
 atina\, Lazio\, Italia;X-APPLE-RADIUS=100;X-TITLE=Fondi:geo:41.3569,13.431
END:VEVENT
BEGIN:VTIMEZONE
TZID:Europe/Rome
X-LIC-LOCATION:Europe/Rome
BEGIN:STANDARD
DTSTART:20211031T020000
TZOFFSETFROM:+0200
TZOFFSETTO:+0100
TZNAME:CET
END:STANDARD
END:VTIMEZONE
END:VCALENDAR