BEGIN:VCALENDAR
VERSION:2.0
PRODID:-//wp-events-plugin.com//7.2.3.1//EN
TZID:Europe/Rome
X-WR-TIMEZONE:Europe/Rome
BEGIN:VEVENT
UID:37154@lazioeventi.com
DTSTART;TZID=Europe/Rome:20230922T190000
DTEND;TZID=Europe/Rome:20230922T203000
DTSTAMP:20230920T123322Z
URL:https://lazioeventi.com/eventi/fondo-riparazione-ultima-generazione
SUMMARY:Fondo Riparazione / Ultima Generazione - Roma - 22 Settembre 23 19:
 00
DESCRIPTION:Partecipa alla presentazione della campagna Fondo Riparazione e
  scopri la resistenza civile nonviolenta di Ultima Generazione.\n\nLa camp
 agna Fondo Riparazione chiede al Governo italiano un fondo permanente e pr
 eventivo di 20 miliardi per riparare ai danni da calamità ed eventi clima
 tici estremi. \n\nTale fondo\, secondo Ultima Generazione\, andrebbero ott
 enuti livellando le ingiustizie sociali: extra-profitti delle industrie fo
 ssili\, taglio totale dei sussidi pubblici ai combustibili fossili\, tagli
 o degli stipendi dei manager delle industri energivore partecipate dallo s
 tato\, taglio degli stipendi della classe politica\, taglio delle spese mi
 litari.
ATTACH;FMTTYPE=image/jpeg:https://lazioeventi.com/wp-content/uploads/2023/
 09/Locandina-Ultima-Generazione.jpg
CATEGORIES:Varie
LOCATION:Roma\, Via Leopardi\, Roma\, Roma\, Lazio\, Italia
GEO:41.8942;12.5017
X-APPLE-STRUCTURED-LOCATION;VALUE=URI;X-ADDRESS=Via Leopardi\, Roma\, Roma\
 , Lazio\, Italia;X-APPLE-RADIUS=100;X-TITLE=Roma:geo:41.8942,12.5017
END:VEVENT
BEGIN:VTIMEZONE
TZID:Europe/Rome
X-LIC-LOCATION:Europe/Rome
BEGIN:DAYLIGHT
DTSTART:20230326T030000
TZOFFSETFROM:+0100
TZOFFSETTO:+0200
TZNAME:CEST
END:DAYLIGHT
END:VTIMEZONE
END:VCALENDAR