BEGIN:VCALENDAR
VERSION:2.0
PRODID:-//wp-events-plugin.com//7.2.3.1//EN
TZID:Europe/Rome
X-WR-TIMEZONE:Europe/Rome
BEGIN:VEVENT
UID:44273@lazioeventi.com
DTSTART;TZID=Europe/Rome:20260424T210000
DTEND;TZID=Europe/Rome:20260424T223000
DTSTAMP:20260422T141137Z
URL:https://lazioeventi.com/eventi/fontane-parlanti-di-roma
SUMMARY:Fontane Parlanti di Roma - Roma - 24 Aprile 26 21:00
DESCRIPTION:Venerdì 24 aprile per le strade di una Roma agli sgoccioli ris
 uonano le misteriose Fontane Parlanti. Canzoni proibite come lettere anoni
 me\, voci d'inchiostro e parole di sangue\, mani mozzate e streghe di prim
 avera\, maschere che sfilano tra rivoli clandestini e tubature impazzite\,
  schizzi e visioni di un teatrino al veleno.\n\nPassiamo insieme la vigili
 a del 25 aprile festa di Pasquino con le Fontane Parlanti\, celebrando per
  la prima volta in uno show di canzoni inedite\, questa piccola grande sto
 ria dispersa della libertà di espressione. Mejo 'na pasquinata de 'na gue
 ra!\n\nVen 24 aprile ore 21\nTeatro Il Cantiere\, via G. Modena 92 Roma.\n
 Ingresso 10€ - Info e prenotazioni WhatsApp- 3520919422
ATTACH;FMTTYPE=image/jpeg:https://lazioeventi.com/wp-content/uploads/2026/
 04/WhatsApp-Image-2026-04-21-at-08.26.26.jpeg
CATEGORIES:Musica, Spettacoli e Danza nel Lazio
LOCATION:Roma\, Via Leopardi\, Roma\, Roma\, Lazio\, Italia
GEO:41.8942;12.5017
X-APPLE-STRUCTURED-LOCATION;VALUE=URI;X-ADDRESS=Via Leopardi\, Roma\, Roma\
 , Lazio\, Italia;X-APPLE-RADIUS=100;X-TITLE=Roma:geo:41.8942,12.5017
END:VEVENT
BEGIN:VTIMEZONE
TZID:Europe/Rome
X-LIC-LOCATION:Europe/Rome
BEGIN:DAYLIGHT
DTSTART:20260329T030000
TZOFFSETFROM:+0100
TZOFFSETTO:+0200
TZNAME:CEST
END:DAYLIGHT
END:VTIMEZONE
END:VCALENDAR