BEGIN:VCALENDAR
VERSION:2.0
PRODID:-//wp-events-plugin.com//7.2.3.1//EN
TZID:Europe/Rome
X-WR-TIMEZONE:Europe/Rome
BEGIN:VEVENT
UID:40898@lazioeventi.com
DTSTART;TZID=Europe/Rome:20250315T100000
DTEND;TZID=Europe/Rome:20250315T123000
DTSTAMP:20250306T203410Z
URL:https://lazioeventi.com/eventi/forest-bathing-a-tor-marancia-passeggia
 ta-immersiva-nel-bosco
SUMMARY:Forest-bathing a Tor Marancia\, passeggiata immersiva nel bosco - R
 oma - 15 Marzo 25 10:00
DESCRIPTION:"Questa attività fa parte del calendario di visite guidate e a
 ttività didattiche promosse dal Centro Servizi al Turismo in convenzione 
 con l'Ente Regionale Parco dell'Appia Antica"\n\nSiamo lieti di proporre a
 l pubblico un'attività che permetterà\, ai partecipanti\, di conoscere o
  riscoprire un'area poco nota ma estremamente interessante del Parco Regio
 nale dell'Appia Antica\, la Tenuta di Tormarancia.Con un percorso molto ri
 cco di spunti naturalistici relativi anche al tema "forest-bathing"\, si t
 occheranno argomenti Homo/Natura che coinvolgeranno i partecipanti sotto m
 olti punti di vista. Il cosiddetto "bagno di foresta"\, o "forest bathing"
 \, non è una semplice passeggiata guidata ma un'attività immersiva per r
 istabilire un equilibrio psico-fisico all'interno del nostro vero habitat 
 naturale con l'intento di stimolare consapevoleza utile nella vita di tutt
 i giorni\, abbassare i livelli di stress e vivere di più il momento prese
 nte. Tanti i benefici di un'attività che avrete il piacere di scoprire as
 sieme ad una guida naturalistica esperta\, e che potrete sperimentare in f
 uturo soli o in compagnia\, ovunque vogliate.\n\nIl Parco dà il benvenuto
  a tutti.\n\nAppuntamento: h. 9:45\nInizio visita: h. 10:00\nDurata visi
 ta: 2 ore e 30\nFine visita: h.12:30\n\nPunto di partenza e arrivo: Acc
 esso al Parco di Tor Marancia di Viale Londra\nDistanza: 3\,0 km a/r\n\nL
 ingua: italiano\n\nPartecipanti: massimo 20 persone\n\nQuota di partecipa
 zione:\n- ADULTI € 12\,00 (+ spese di prevendita)\n- RAGAZZI DAI 12 AI 1
 8 ANNI € 8\,00 (+ spese di prevendita)\n- RAGAZZI SOTTO I 12 ANNI - part
 ecipazione gratuita\n\nGLI SCONTI PER I POSSESSORI DELLA CARTA AMICI DEL P
 ARCO:\n- ADULTI POSSESSORI CARTA AMICI DEL PARCO € 10\,00 (+ spese di pr
 evendita)\n- RAGAZZI DAI 12 AI 18 ANNI POSSESSORI CARTA AMICI DEL PARCO 
 € 5\,00 (+ spese di prevendita)\n\nNon hai la Carta Amici del Parco? Acq
 uistala prima su https://lc.cx/J75mRR e ricordati di inserire in fase di a
 cquisto il n° e la data della fattura dell'acquisto della tua CAP. La CAP
  è nominativa e ha una durata annuale.\n\nCOME RAGGIUNGERCI:\nMezzi pubbl
 ici per raggiungere il punto di partenza: bus 764\, 767 e 769\nMezzi pubb
 lici disponibili a fine visitia: bus 764\, 767 e 769\nParcheggio: Sì\, 
 lungo Viale Londra e strade limitrofe\n\nAccessibilità: sterrato pianegg
 iante\n\nInformazioni e chiarimenti: infopointappia@gmail.com - 06 51353
 16 (anche WhatsApp).\n\nNB: Ricordiamo\, inoltre\, che se appare la voce
  SOLD OUT (o tutto esaurito) non è possibile acquistare ulteriori bigliet
 ti essendo terminati\, né richiedere di essere inseriti in liste d'attesa
 \, vi invitiamo a tal proposito ad iscrivervi alla newsletter per essere s
 empre aggiornati https://www.parcoappiaantica.it/iscrizionenewsletter/.\n
 \nNB: In caso di pioggia ed annullamento dell'attività da parte dell'orga
 nizzatore sarà possibile utilizzare i ticket per le attività successive\
 ; è possibile cedere il proprio biglietto comunicando il cambio di nomina
 tivo all'indirizzo mail: infopointappia@gmail.com.\nNon sarà possibile va
 riare il giorno dell’attività acquistata dopo la prenotazione.\n\nNB: 
 Il partecipante prende atto sin da ora che la sua immagine personale potre
 bbe essere presente all'interno delle riprese svolte\, e dei materiali di 
 comunicazione realizzati di conseguenza. Il partecipante potrà in ogni ca
 so esprimere il proprio dissenso alla eventuale ripresa e utilizzo della p
 ropria immagine personale\, segnalando tale circostanza al personale incar
 icato da Parco Regionale Appia Antica / EcoBike presso la location dell'ev
 ento\, il quale adotterà ogni accorgimento opportuno a soddisfare la sua 
 richiesta.
ATTACH;FMTTYPE=image/jpeg:https://lazioeventi.com/wp-content/uploads/2025/
 03/forest-bathing.jpg
CATEGORIES:Sport, Tempo Libero e Divertimento nel Lazio
LOCATION:Roma\, Via Leopardi\, Roma\, Roma\, Lazio\, Italia
GEO:41.8942;12.5017
X-APPLE-STRUCTURED-LOCATION;VALUE=URI;X-ADDRESS=Via Leopardi\, Roma\, Roma\
 , Lazio\, Italia;X-APPLE-RADIUS=100;X-TITLE=Roma:geo:41.8942,12.5017
END:VEVENT
BEGIN:VTIMEZONE
TZID:Europe/Rome
X-LIC-LOCATION:Europe/Rome
BEGIN:STANDARD
DTSTART:20241027T020000
TZOFFSETFROM:+0200
TZOFFSETTO:+0100
TZNAME:CET
END:STANDARD
END:VTIMEZONE
END:VCALENDAR