BEGIN:VCALENDAR
VERSION:2.0
PRODID:-//wp-events-plugin.com//7.2.3.1//EN
TZID:Europe/Rome
X-WR-TIMEZONE:Europe/Rome
BEGIN:VEVENT
UID:28607@lazioeventi.com
DTSTART;TZID=Europe/Rome:20220724T083000
DTEND;TZID=Europe/Rome:20220724T190000
DTSTAMP:20220721T143007Z
URL:https://lazioeventi.com/eventi/foresta-olistica
SUMMARY:Foresta Olistica - Ariccia - 24 Luglio 22 08:30
DESCRIPTION:A grande richiesta ritorna Foresta Olistica a Parco Romano Biod
 istretto di Ariccia\n\nDomenica di luglio dedicata all’armonia e al bene
 ssere fra le meravigliose querce secolari di Parco Romano Biodistretto con
  tante attivita’ e operatori olistici qualificati.\n\nLa mattina (8\,30 
 – 13\,30) come di consueto svolgimento del Mercato Contadino Roma e Cast
 elli Romani.\n\nMarket magico e artigianato dalle ore 9 fino al tramonto.\
 n\nGrazie alla partecipazione dei terapeuti olistici\, con alcuni di loro 
 sarà possibile effettuare i diversi trattamenti:\n\n 	Mara Arcangeli Cris
 talli e le meravigliose pietre\, Cristallo terapeuta\, Reiki delfini Atlan
 tide\, Registri akashici\n 	Primo Tempo Associazione Creattiva con Sara Ca
 pizzi e Marco Chiari\, Genesa Crystal e Merkaba\n 	Sonia Oliviero\, Casa N
 atura Creativa e Spiritual Makko-ho\n 	Clodette Psicomagia: tarologia e tr
 attamenti energetici.\n 	Sara Ponton “Massaggio ayurvedico con campane a
 rmoniche” Centro olistico Energia a quattro mani\n 	Fiorenza Bartoli\, A
 rjan Manjeet Kaur\, tarocchi metodo Jodorowskj\n 	Claudio Pettirossi\, nat
 uropata\n 	Elisabetta Carnevali “Riflessologia plantare”\n 	Paola Luci
 a Grechi “I sogni di Noor” creazioni Japamala\n 	Alessia Macci\, Natur
 opata “I rimedi dell’anima”\n 	Fabio Posa Suvijjo\, La Pace del Cuor
 e\n 	Daniela Gianni “La Bussola dell’Anima”\n 	Riccardo Rosati\, ‘
 Il tempio delle erbe’ la magia degli incensi\n 	Sandra Baglioni\, Discip
 line Bio Naturali\, Massaggi\n 	Michele Passarella\, Master reiki delfini 
 Atlantide\, coaching e consulenze\, sviluppo e evoluzione personale\n 	Dan
 iele Aldrighetti\, massaggiatore olistico\n 	Chris La Fee Lettura con le R
 une\n 	Eugenia Porro\, tarocchi di Marsiglia /Jodorowskj\n 	Silvia Cestra 
 consulente del benessere: ‘Lasciati andare e’ tempo di giocare’\n 	G
 ianluca Sabetti\, ‘l’Alchimia della bellezza’\n 	Andrea Carrera\, pi
 ramide-terapia e consulenza lettura numerologica\n 	Francesca Pucci\, Fior
 i di Bach\n 	Alessandro Quarta e Chiara Zitarosa\, operatori olistici mass
 aggi.\n 	Francesca Cipriani “Lettura carte angeliche”\, Centro olistic
 o Energia a Quattro mani.\n 	Alex Cavalcanti e la piramide energetica\n 	D
 aniele Pulciani\, pranoterapeuta e riflessologo plantare.\n 	Oriana Voltan
 \, Life coach\, Centro olistico Energia a Quattro mani.\n 	Valeria Lombard
 o\, Reiki e costellazioni familiari\, Centro olistico Energia a quattro ma
 ni.\n 	Miko Michele Folco\, Annalaura Siercovich e i Gong Master di Gong U
 niverse\n\n\nPROGRAMMA\n\n10\,00 -11.30 Lezione di HATHA YOGA con Barbara 
 Paladini\ncontributo euro 10\,00\nhttps://www.facebook.com/events/edit/535
 947954930208\nArea Magnificent the Camp\, palestra open air\n\n10\,30 – 
 11\,30 LABORATORIO “Conosciamo i cristalli\, messaggeri di Luce\, guarig
 ione e saggezza” a cura\ndi Mara Arcangeli Cristalli\npartecipazione gra
 tuita\nArea palco centrale\n\n11\,30 – 12\,30 LABORATORIO teorico pratic
 o “Realizzazione di saponi naturali\, le benefiche proprietà\ndell’al
 loro\, dell’iperico\, del caffe'” a cura di CasaNatura Creativa con So
 nia Oliviero – Slow Food Albano e\nAriccia\npartecipazione gratuita\nAre
 a palco centrale\n\n11:30 BAGNO SONORO con campane di cristallo a cura di 
 “I sacri suoni dell’Universo” con Damazho e\nValentina\ncontributo e
 uro 20\nhttps://www.facebook.com/events/5878371205525214/\nArea Magnificen
 t the Camp – palestra open air\n\n15:00 – 16:00 CERCHIO sciamanico di 
 guarigione con il tamburo e altri strumenti a cura di La Bussola\ndell’A
 nima con Daniela Gianni e Riccardo Rosati\npartecipazione gratuita\, Area 
 entrata dx terrazza\n\n16:30 -17.30 CERCHIO olfattivo di guarigione con ol
 ii essenziali\, canti e angeli con Alessia Macci –\npartecipazione gratu
 ita\nArea Magnificent the Camp – palestra open air\nBAGNO di GONG\, libe
 rtà sotto il Cielo\n\n17:00 registrazione ingressi\n\n18:00 – 19\,00 du
 rata concerto\ncon Miko Michele Folco e i Gong Master di Gong Universe\nco
 ntributo euro 15\,00.\n\nINFO E CONTATTI\n– gonguniverse@gmail.com\n– 
 Miko: 338 5962011\nhttps://www.facebook.com/events/578420010499054\narea p
 alco pedana\n\n19:30 – 20:30 EQUILIBRIUM a cura di Emanuela Zura Puntaro
 ni Laboratorio “Testa e Cuore\, un gesto dopo l’altro”\n“Non mi in
 teressa come si muovono le persone\, ma quello che le muove” (Pina Bausc
 h)\ncontributo euro 15\nArea Magnificent the Camp – palestra open air\n\
 n——————–\nSono previste attività per i bambini!\nore 10 -12
  Laboratori CreAttivi\n\n==========================\nINFO messaggi whatsap
 p 3898830642\n==========================\n\nAperitivo\, pranzo e cena in u
 no luogo unico caleidoscopio di colori dentro la splendida cornice del par
 co\ndei castelli romani dove la natura e la materia prima di qualità fann
 o da protagoniste.\nAgri Pizza a scelta\, lievitazione 72h prodotta con fa
 rine biologiche di grani antichi macinati a pietra\,\nanche Margherita\, O
 rtolana\, Boscaiola Veg!\nInoltre tagliere delle delizie del contadino\, t
 agliere Veg\, Parco Burger\, Orto burger Veg\, fritti e sfizi\, birra\nart
 igianale selezionata by FUSTOCK birreria\, vini biologici del Lazio\, una 
 nuova cocktail station per\ndissetarci con miscelazioni che esaltano le no
 te botaniche e floreali della natura??\nAperti dal martedì alla domenica 
 per l’aperitivo e cena\, e con la birreria e i drink fino a tarda sera.\
 nTi aspettiamo!
ATTACH;FMTTYPE=image/jpeg:https://lazioeventi.com/wp-content/uploads/2021/
 10/foresta-olistica-2.jpg
CATEGORIES:Varie,Fiere e Mercatini nel Lazio,Musica, Spettacoli e Danza
 nel Lazio,Sport, Tempo Libero e Divertimento nel Lazio
LOCATION:Ariccia\, Comune\, Ariccia\, Roma\, Lazio\, Italia
GEO:41.72;12.671
X-APPLE-STRUCTURED-LOCATION;VALUE=URI;X-ADDRESS=Comune\, Ariccia\, Roma\, L
 azio\, Italia;X-APPLE-RADIUS=100;X-TITLE=Ariccia:geo:41.72,12.671
END:VEVENT
BEGIN:VTIMEZONE
TZID:Europe/Rome
X-LIC-LOCATION:Europe/Rome
BEGIN:DAYLIGHT
DTSTART:20220327T030000
TZOFFSETFROM:+0100
TZOFFSETTO:+0200
TZNAME:CEST
END:DAYLIGHT
END:VTIMEZONE
END:VCALENDAR