BEGIN:VCALENDAR
VERSION:2.0
PRODID:-//wp-events-plugin.com//7.2.3.1//EN
TZID:Europe/Rome
X-WR-TIMEZONE:Europe/Rome
BEGIN:VEVENT
UID:27511@lazioeventi.com
DTSTART;TZID=Europe/Rome:20200828T213000
DTEND;TZID=Europe/Rome:20200828T233000
DTSTAMP:20200827T111559Z
URL:https://lazioeventi.com/eventi/formello-jazz-festival-2
SUMMARY:Formello Jazz Festival - Formello - 28 Agosto 20 21:30
DESCRIPTION:Un’edizione un po’ anomala quella del Formello Jazz Festiva
 l 2020\, che ha voluto comunque proseguire il suo cammino anche quest’an
 no\, regalando al pubblico tanta buona musica. La prima serata si è svolt
 a il 12 Agosto\, in via del tutto eccezion
ATTACH;FMTTYPE=image/jpeg:https://lazioeventi.com/wp-content/uploads/2020/
 08/DSC_7602-min-2.jpg
CATEGORIES:Musica, Spettacoli e Danza nel Lazio
LOCATION:Formello\, Comune\, Formello\, Roma\, Lazio\, Italia
GEO:42.0801;12.4005
X-APPLE-STRUCTURED-LOCATION;VALUE=URI;X-ADDRESS=Comune\, Formello\, Roma\, 
 Lazio\, Italia;X-APPLE-RADIUS=100;X-TITLE=Formello:geo:42.0801,12.4005
END:VEVENT
BEGIN:VTIMEZONE
TZID:Europe/Rome
X-LIC-LOCATION:Europe/Rome
BEGIN:DAYLIGHT
DTSTART:20200329T030000
TZOFFSETFROM:+0100
TZOFFSETTO:+0200
TZNAME:CEST
END:DAYLIGHT
END:VTIMEZONE
END:VCALENDAR