BEGIN:VCALENDAR
VERSION:2.0
PRODID:-//wp-events-plugin.com//7.2.3.1//EN
TZID:Europe/Rome
X-WR-TIMEZONE:Europe/Rome
BEGIN:VEVENT
UID:35111@lazioeventi.com
DTSTART;TZID=Europe/Rome;VALUE=DATE:20230519
DTEND;TZID=Europe/Rome;VALUE=DATE:20230522
DTSTAMP:20230419T154745Z
URL:https://lazioeventi.com/eventi/forte-festival-music-and-art-festival
SUMMARY:Forte Festival music and art festival - Civitavecchia - 19 Maggio 2
 3 00:00
DESCRIPTION:Forte Festival music and art festival: l’appuntamento che ved
 ra oltre 200 musicisti e più di 40 spettacoli alternarsi tra il 19 e il 2
 1 maggio. \n\nL’evento è organizzato dall’associazione Forte Festival
 \, rappresentata dal suo presidente Domenico Di Giorgio\, e da oltre 20 as
 sociazioni insieme a Comune\, Regione Lazio e Commissione Europea. Alla pr
 esentazione dell’evento erano presenti il sindaco Ernesto Tedesco\, l’
 assessore alla cultura Simona Galizia\, il presidente della commissione cu
 ltura Vincenzo Palombo e il presidente della Compagnia portuale di Civitav
 ecchia Patrizio Scilipoti. Una collaborazione tra associazioni\, istituzio
 ni e realtà lavorative locali che ha portato alla realizzazione di un eve
 nto che guarda già al futuro. Domani un assaggio del festival con i jazzi
 sti Francesco Pierotti e Marco Guidolotti che saranno a via Montegrappa pe
 r un concerto a partire dalle 19\,30.\n\nLe realtà coinvolte nel festival
  (direzione artistica di Alberto Burattini e Francesco Di Iorio): Forte Fe
 stival\, Baita Crew APS\, Centro del Buongusto\, CineCircolo XXI\, CNA Vit
 erbo e Civitavecchia\, Compagnia Portuale\, Creando\, Dokc Lab/Ercolani Br
 os.\, EMRO Video\, Ensemble InCantus\, Filarmonica di Civitavecchia\, Frid
 ays For Future Civitavecchia\, Granari Spazio Off\, Ass. Musicale Musikant
 en\, Ass. Cult. Ponchielli\, Rete degli Studenti Medi\, Stazione Musica\, 
 Unione Musicale Civitavecchiese\, WoW Records\, Zillion Watt Records.
ATTACH;FMTTYPE=image/jpeg:https://lazioeventi.com/wp-content/uploads/2023/
 04/FORTE-Festival-2023.jpg
CATEGORIES:Musica, Spettacoli e Danza nel Lazio
LOCATION:Civitavecchia\, Comune\, Civitavecchia\, Roma\, Lazio\, Italia
GEO:42.0911;11.7968
X-APPLE-STRUCTURED-LOCATION;VALUE=URI;X-ADDRESS=Comune\, Civitavecchia\, Ro
 ma\, Lazio\, Italia;X-APPLE-RADIUS=100;X-TITLE=Civitavecchia:geo:42.0911,1
 1.7968
END:VEVENT
BEGIN:VTIMEZONE
TZID:Europe/Rome
X-LIC-LOCATION:Europe/Rome
BEGIN:DAYLIGHT
DTSTART:20230326T030000
TZOFFSETFROM:+0100
TZOFFSETTO:+0200
TZNAME:CEST
END:DAYLIGHT
END:VTIMEZONE
END:VCALENDAR