BEGIN:VCALENDAR
VERSION:2.0
PRODID:-//wp-events-plugin.com//7.2.3.1//EN
TZID:Europe/Rome
X-WR-TIMEZONE:Europe/Rome
BEGIN:VEVENT
UID:31563@lazioeventi.com
DTSTART;TZID=Europe/Rome:20220707T213000
DTEND;TZID=Europe/Rome:20220709T233000
DTSTAMP:20220705T145259Z
URL:https://lazioeventi.com/eventi/fra-diavolo-festival
SUMMARY:Fra' Diavolo Festival - Itri - 7 Luglio 22 21:30
DESCRIPTION:Il Comune di Itri\, Assessorato alla Cultura e Turismo\, vi inv
 ita alla primissima edizione del "FRA DIAVOLO FESTIVAL"\, evento musicale 
 dedicato al famosissimo brigante di origini itrane che si svolgerà nel me
 se di luglio a Itri.\n\nIl 7\, 8 e 9 Luglio presso il Piazzale Carabinieri
  d'Italia\, importanti nomi della musica saliranno sul palco per dar vita 
 alla kermesse che si preannuncia di grande interesse artistico.\n\nGli app
 untamenti:\n07 Luglio – Ore 21.30\nMimì Varriale e Bagaria Band\nSpecia
 l Guest Tony Panico\n\n08 Luglio – Ore 21.30\nTony Esposito\nSpecial Gue
 st: Carlo Avitabile e i Napoli Metrò\nTributo Speciale a Pino Daniele - O
 spite d'eccezione Cristina Daniele\n\n09 Luglio – Ore 21.30\nJames Senes
 e\nIngresso Libero\nUn premio speciale verrà consegnato a Vincenzo Addess
 i che con la Sua imbarcazione ha portato il nome di Itri e Frà Diavolo ne
 l Mondo.\n\nMedia Partner Robert Rivera Press Events\nMedia Partner Radio 
 Show Italia\n\nEvento organizzato anche grazie al contributo del Parco Nat
 urale dei Monti Aurunci e di Itri in Europa.
ATTACH;FMTTYPE=image/jpeg:https://lazioeventi.com/wp-content/uploads/2022/
 07/fra-diavolo-festival.jpg
CATEGORIES:Musica, Spettacoli e Danza nel Lazio
LOCATION:Itri\, Piazza Umberto I\, Itri\, Latina\, Lazio\, Italia
GEO:41.290876;13.531233
X-APPLE-STRUCTURED-LOCATION;VALUE=URI;X-ADDRESS=Piazza Umberto I\, Itri\, L
 atina\, Lazio\, Italia;X-APPLE-RADIUS=100;X-TITLE=Itri:geo:41.290876,13.53
 1233
END:VEVENT
BEGIN:VTIMEZONE
TZID:Europe/Rome
X-LIC-LOCATION:Europe/Rome
BEGIN:DAYLIGHT
DTSTART:20220327T030000
TZOFFSETFROM:+0100
TZOFFSETTO:+0200
TZNAME:CEST
END:DAYLIGHT
END:VTIMEZONE
END:VCALENDAR