BEGIN:VCALENDAR
VERSION:2.0
PRODID:-//wp-events-plugin.com//7.2.3.1//EN
TZID:Europe/Rome
X-WR-TIMEZONE:Europe/Rome
BEGIN:VEVENT
UID:31003@lazioeventi.com
DTSTART;TZID=Europe/Rome:20220522T094500
DTEND;TZID=Europe/Rome:20220522T130000
DTSTAMP:20220518T211801Z
URL:https://lazioeventi.com/eventi/fra-fratte-e-frattali
SUMMARY:Fra fratte e frattali - Caprarola - 22 Maggio 22 09:45
DESCRIPTION:Per la Settimana Europea dei Parchi la prima iniziativa che vie
 ne organizzata dalla Riserva Naturale Lago di Vico è una piacevole escurs
 ione alla ricerca dei mille segreti della Natura.\nPercorreremo alcuni dei
  sentieri dell'area protetta per conoscere quali leggi della Natura govern
 ino il caos e come la matematica possa aprire le porte delle geometrie nat
 urali.\n\nINFORMAZIONI\n\nCome sempre la partecipazione è gratuita.\n\nAp
 puntamento ore 9.45 presso la sede della Riserva Naturale Lago di Vico in 
 SP1 Cassia Cimina km 12.000 Caprarola (Vt) (Visualizza la posizione su Goo
 gle StreetView™ )\n\nPer motivi di sicurezza sono obbligatorie calzature
  antisdrucciolo\, consigliati bastoncini da montagna e acqua propria.\nLun
 ghezza percorso: 8 km\ndislivello complessivo 300m\ndifficoltà: E\, escur
 sionistico\, media.\nINFO e prenotazioni alla casella viviiparchi@riservav
 ico.it
ATTACH;FMTTYPE=image/jpeg:https://lazioeventi.com/wp-content/uploads/2022/
 05/locandina25.jpg
CATEGORIES:Sport, Tempo Libero e Divertimento nel Lazio
LOCATION:Caprarola\, Comune di Caprarola\, Caprarola\, Viterbo\, Lazio\, It
 alia
GEO:42.3275;12.2381
X-APPLE-STRUCTURED-LOCATION;VALUE=URI;X-ADDRESS=Comune di Caprarola\, Capra
 rola\, Viterbo\, Lazio\, Italia;X-APPLE-RADIUS=100;X-TITLE=Caprarola:geo:4
 2.3275,12.2381
END:VEVENT
BEGIN:VTIMEZONE
TZID:Europe/Rome
X-LIC-LOCATION:Europe/Rome
BEGIN:DAYLIGHT
DTSTART:20220327T030000
TZOFFSETFROM:+0100
TZOFFSETTO:+0200
TZNAME:CEST
END:DAYLIGHT
END:VTIMEZONE
END:VCALENDAR