BEGIN:VCALENDAR
VERSION:2.0
PRODID:-//wp-events-plugin.com//7.2.3.1//EN
TZID:Europe/Rome
X-WR-TIMEZONE:Europe/Rome
BEGIN:VEVENT
UID:34217@lazioeventi.com
DTSTART;TZID=Europe/Rome:20230225T210000
DTEND;TZID=Europe/Rome:20230225T223000
DTSTAMP:20230222T100413Z
URL:https://lazioeventi.com/eventi/frammenti-di-memoria
SUMMARY:Frammenti di Memoria - Cassino - 25 Febbraio 23 21:00
DESCRIPTION:Il 25 Febbraio alle ore 21 presso Sala Atelier del Museo Histor
 iale di Cassino appuntamento con FRAMMENTI DI MEMORIA\, un progetto di sto
 rytelling e valorizzazione della storia e delle memorie del Cassinate.\n\n
 I frammenti raccontati sono quelli del salvataggio delle opere d’arte e 
 delle vite segnate dai tragici eventi avvenuti tra Settembre 1943 e Maggio
  1944. Sospese le vite di chi ha vissuto quei momenti\, rapidi gli attimi 
 di chi\, in quel fragore\, ha messo in salvo le opere d'arte conservate ne
 ll'Abbazia di Montecassino prima del bombardamento del 15 febbraio '44.\nD
 iari\, scritti\, testi\, articoli di giornale\, memorie\, foto\, filmati\,
  interviste. Tanto il materiale collezionato\, raccolto e selezionato. Un 
 racconto a più voci che attraversa lo spettacolo FRAMMENTI e il cortometr
 aggio ATTIMI SOSPESI a Cassino e le nuove installazioni audio che saranno 
 realizzate per il giardino della memoria di Esperia.\nProdotto nel 2019\, 
 il video Attimi Sospesi ha portato la storia di Cassino in Italia e nel mo
 ndo\, ricevendo diversi premi: Riff di Roma (selezione)\, Guangzhou Intern
 ational Documentary Film Festival (selezione)\, Rassegna Internazionale de
 l Cinema Archeologico di Rovereto (selezione) - Montreal International His
 tory Film Festival- FIFHM (premiato)\, Varese International Film Festival 
 (premiato). Il video racconta Cassino durante la Seconda Guerra Mondiale\,
  quando l’Abbazia di Montecassino è tra i luoghi individuati per custod
 ire parte del patrimonio italiano dalla razzia tedesca e dalle bombe. Nell
 ’Ottobre 1943 questa certezza vacilla: anche l’Abbazia potrebbe essere
  colpita dal bombardamento da parte degli Alleati. Il video conduce lo spe
 ttatore dentro questa storia avvincente quanto dolorosa attraverso le paro
 le\, i gesti e gli sguardi dei protagonisti. Attimi cruciali\, decisioni t
 ormentate che hanno permesso di salvare gran parte di questo tesoro e di p
 oterlo riconsegnare dopo la guerra alla comunità italiana e mondiale.\n\n
 Il racconto di Cassino tra Settembre 1943 e Maggio 1944 entra nel testo\, 
 nella danza e nelle scenografie digitali dello SPETTACOLO FRAMMENTI a cura
  della Compagnia Fuori Contesto. Mesi di fuoco\, morte e devastazione sull
 a linea Gustav\; i tedeschi sopra\, gli americani sotto. Cassino si raccon
 ta\, perché tra le macerie rimanga almeno una parola. E allora ogni narra
 zione è testimonianza di tutto quanto è stato. Ogni storia è frammento 
 di una memoria che va preservata. Ogni vita è opera d’arte. La narrazio
 ne\, la danza e il videomapping si intrecciano in uno scenario di guerra c
 he frammenta una comunità\, il patrimonio sociale\, storico e culturale d
 i una città\, di un paese.\n\nRicordare\, per non dimenticare\, e da Cass
 ino pensare a tutte le città che ancora oggi sono rase al suolo dalla gue
 rra\, dove patrimoni culturali e sociali sono sepolti sotto le macerie\, f
 orse\, andati perduti per sempre. Attimi Sospesi diventa porta della memor
 ia\, un viaggio per vivere i ricordi\, interpretare il presente e agire su
 l domani.\nFRAMMENTI DI MEMORIA è realizzato\, grazie al contributo della
  Regione Lazio\, a cura di Hubstract – Made for art\, con il patrocinio 
 del Comune di Cassino – Assessorato alla Cultura e dell’Università de
 gli studi di Cassino e del Lazio meridionale - Delega rettorale per la Dif
 fusione della cultura e della conoscenza- SCIRE\, in collaborazione con il
  Laboratorio Museo Facile del Dipartimento di Lettere e Filosofia della st
 essa Università di Cassino.\n\nPer informazioni e prenotazioni: info@hubs
 tract.org\, 3291554787.
ATTACH;FMTTYPE=image/jpeg:https://lazioeventi.com/wp-content/uploads/2023/
 02/frammenti.jpg
CATEGORIES:Arte e Cultura nel Lazio,Musica, Spettacoli e Danza nel Lazio
LOCATION:Cassino\, Comune di Cassino\, Cassino\, Frosinone\, Lazio\, Italia
GEO:41.4929518;13.830372300000022
X-APPLE-STRUCTURED-LOCATION;VALUE=URI;X-ADDRESS=Comune di Cassino\, Cassino
 \, Frosinone\, Lazio\, Italia;X-APPLE-RADIUS=100;X-TITLE=Cassino:geo:41.49
 29518,13.830372300000022
END:VEVENT
BEGIN:VTIMEZONE
TZID:Europe/Rome
X-LIC-LOCATION:Europe/Rome
BEGIN:STANDARD
DTSTART:20221030T020000
TZOFFSETFROM:+0200
TZOFFSETTO:+0100
TZNAME:CET
END:STANDARD
END:VTIMEZONE
END:VCALENDAR