BEGIN:VCALENDAR
VERSION:2.0
PRODID:-//wp-events-plugin.com//7.2.3.1//EN
TZID:Europe/Rome
X-WR-TIMEZONE:Europe/Rome
BEGIN:VEVENT
UID:42765@lazioeventi.com
DTSTART;TZID=Europe/Rome:20251122T100000
DTEND;TZID=Europe/Rome:20251204T200000
DTSTAMP:20251015T193317Z
URL:https://lazioeventi.com/eventi/frammenti-didentita
SUMMARY:Frammenti d'identità - Roma - 22 Novembre 25 10:00
DESCRIPTION:La Galleria Arte Sempione è lieta di presentare la mostra “F
 rammenti d’identità” dell’Artista Stefania Pinci\, che si terrà da
 l 22 novembre al 4 dicembre 2025 presso la propria sede in Corso Sempione 
 8/10 a Roma.\n\nL'esposizione\, curata in collaborazione con il critico d
 ’arte Daniele Radini Tedeschi e lo scrittore Rocco Ruggiero\, presenta l
 e ultime opere prodotte dall’Artista espresse con un linguaggio figurati
 vo informale.\n\nLa ricerca di Stefania Pinci nasce e si sviluppa intorno 
 alla modulazione di tecniche tradizionali\, sapientemente studiate\, per p
 ortare alla luce opere contemporanee in diretta comunicazione con le influ
 enze del passato. Le sue creazioni\, infatti\, combinano l’eredità del 
 mosaico con quella pittorica per restituire composizioni ricche\, compless
 e\, ma dai soggetti semplici\, come paesaggi\, nature morte e ritratti. La
  peculiarità artistica dell’Artista risiede nella capacità di far conf
 luire questi media insieme\, esaltando gli effetti luministici e cromatici
 \, senza tralasciare un’attenzione alla dimensione intima e spirituale.\
 n\nFrammenti d’identità\nMostra personale di pittura dell’Artista Ste
 fania Pinci\n(Roma\, dal 22 novembre al 4 dicembre 2025)\nTesto critico a 
 cura di Daniele Radini Tedeschi\nTesto introduttivo e intervista di Rocco 
 Ruggiero\nGalleria Arte Sempione - Corso Sempione 8\, Roma\nOrganizzazione
  di Mario Borgato\n\nOrari di apertura\nTutti i giorni dalle 10:00 alle 20
 :00\n\nINGRESSO GRATUITO\n\nInaugurazione\nSabato 22 novembre 2025 alle or
 e 18:00\, seguirà vin d’honneur per celebrare l'inizio della mostra.\n\
 nContatti:\nMario Borgato +39 375 820 6933\nartesempione@gmail.com
ATTACH;FMTTYPE=image/jpeg:https://lazioeventi.com/wp-content/uploads/2025/
 10/05La-farfallaOlioSuTela80x120_c-1.jpg
CATEGORIES:Arte e Cultura nel Lazio
LOCATION:Roma\, Via Leopardi\, Roma\, Roma\, Lazio\, Italia
GEO:41.8942;12.5017
X-APPLE-STRUCTURED-LOCATION;VALUE=URI;X-ADDRESS=Via Leopardi\, Roma\, Roma\
 , Lazio\, Italia;X-APPLE-RADIUS=100;X-TITLE=Roma:geo:41.8942,12.5017
END:VEVENT
BEGIN:VTIMEZONE
TZID:Europe/Rome
X-LIC-LOCATION:Europe/Rome
BEGIN:STANDARD
DTSTART:20251026T020000
TZOFFSETFROM:+0200
TZOFFSETTO:+0100
TZNAME:CET
END:STANDARD
END:VTIMEZONE
END:VCALENDAR