BEGIN:VCALENDAR
VERSION:2.0
PRODID:-//wp-events-plugin.com//7.2.3.1//EN
TZID:Europe/Rome
X-WR-TIMEZONE:Europe/Rome
BEGIN:VEVENT
UID:32931@lazioeventi.com
DTSTART;TZID=Europe/Rome:20221118T180000
DTEND;TZID=Europe/Rome:20221125T210000
DTSTAMP:20221107T082059Z
URL:https://lazioeventi.com/eventi/francesco-patane-imperfection-is-beauty
 -la-mostra
SUMMARY:Francesco Patanè Imperfection Is Beauty la mostra - Roma - 18 Nove
 mbre 22 18:00
DESCRIPTION:Francesco Patanè\, artista siciliano di origini\, romano di ad
 ozione\, presenta la sua prima personale a Roma “Imperfection Is Beauty
 ” dal 18 novembre al 25 novembre 2022\, all’Associazione SinergieSolid
 ali a Via Volsinio 21\, nel quartiere Trieste.\n\nRomano\, classe 1986\, m
 aterico\, predilige l’uso di materiali “non convenzionali” per le su
 e opere come l’asfalto e la juta\, la sua è una ricerca della perfezion
 e nell’imperfezione: il contrasto di corpi e figure appena abbozzate che
  sembrano emergere dalla juta\, la forza materica dell’asfalto\, l’uso
  di materiali inconsueti\, queste sono le caratteristiche pittoriche di Fr
 ancesco Patanè.\n\nIn mostra circa 15 opere\, alcune anche di formati imp
 onenti\, com’è d’uso dell’artista che in questa sua prima personale
  romana\, strizza l’occhio anche al riuso e al riciclo\, così in voga e
  oltre alla classica juta\, si cimenta anche sul cartone e su altri materi
 ali di scarto\, mescolando con l’acrilico.\n\nL’artista da sempre gioc
 a sull’imperfezione\, per far emergere la vera natura del soggetto raffi
 gurato\, la sua essenza profonda\, il suo “io” nascosto\, la sensibili
 tà del singolo individuo a prescindere dall’aspetto fisico\, il suo slo
 gan infatti è: imperfection is beauty.\n\nLa sua arte è volta al recuper
 o di un ideale primordiale di raffigurazione e il suo incentrarsi sui corp
 i o sui visi della gente comune è legato alla predilezione per le imperfe
 zioni estetiche che\, a suo avviso\, sono la parte più affascinante ed en
 igmatica di ogni singolo individuo\, la perfezione è nell’essere non ne
 ll’apparire.\n\nSecondo Patanè l’arte deve riprodurre\, evocare ed em
 ozionare l’osservatore ma\, cosa più importante\, è nell’artista che
  l’opera d’arte deve riuscire a trasmettere quell’emozione.\n\nUn fi
 gurativo riflessivo\, ama definire il suo stile l’artista\, poiché ad i
 spirare il suo immaginario più che soggetti definiti e armonici sono bozz
 e di “persone”. Non semplici corpi\, dunque\, ma persone.\n\nIn contra
 pposizione alla “imperfezione” delle persone riprodotte\, l’artista 
 ha una minuziosa cura nella lavorazione dei materiali utilizzati\, che lo 
 portano ad iniziare addirittura dal telaio di legno sul quale sarà fissat
 a l’opera\, per poi passare alla lavorazione del sacco di juta\, nel qua
 le crea un’imprimitura con colla e acrilico e\, alla fine\, una volta as
 ciugato il tutto\, delinea il personaggio da riportare su tela. Successiva
 mente procede con la colatura di asfalto catramoso per giungere alla reali
 zzazione finale dell’opera.\n\nNelle opere di Francesco Patanè si può 
 intravedere un accenno solo iniziale all’astrattismo\, che poi\, attrave
 rso la sovrapposizione dei materiali utilizzati\, produce\, quasi per magi
 a\, attraverso linee disordinate e colate di asfalto\, figure e corpi uman
 i\, nei quali si può intravedere la sua primaria fonte di ispirazione\, l
 a genialità e il neoespressionismo di Jean Michel Basquiat.\n\nTra le ope
 re in mostra: “Movimento Sospeso”\, “Love &amp\; Flowers”\, “Nin
 fe”\, “Rebirth”\, solo per citarne alcune.\n\nImperfection Is Beauty
  – Francesco Patanè Art\n\nSinergieSolidali Via Volsinio 21 – Roma (q
 uartiere Trieste)\n\nVernissage 18 novembre dalle ore 18.00\n\nLa personal
 e sarà visitabile dal 22 al 25 novembre con i seguenti orari: 22 e 23 dal
 le 8 alle 12\, 24 dalle 19 alle 21\, finissage venerdì 25 dalle ore 18.\n
 \nNote biografiche di Francesco Patanè:\n\nFrancesco Patanè\, romano\, c
 lasse 1986\, si forma al “Corso di paesaggistica” presso la Facoltà d
 i Architettura Ludovico Quaroni de La Sapienza\, ma ben presto sviluppa
  uno stile originale che lo porta\, piuttosto che a progettare\, a dipinge
 re\, discostandosi nettamente dalle tecniche pittoriche consuete.\n\nLa su
 a passione per l’arte inizia tra le mura domestiche\, dove la creativit
 à è di casa\, lo zio era un pittore e uno scultore\, la madre una disegn
 atrice\, stilista e gli ha trasmesso sin da subito l’amore per l’arte.
  Una parte significativa\, però\, la occupa il suo primo professore di a
 rte delle scuole medie\, che apprezzando i suoi lavori ha incoraggiato la 
 sua vena artistica.\n\nArtista eclettico si diletta anche nella musica\, p
 er pura passione.\n\nDichiara l’artista: “Il mondo dell’arte mi ha s
 empre affascinato anche se gli ostacoli della vita mi hanno messo di front
 e ad una scelta obbligata. Per motivi economici non ho potuto proseguire g
 li studi accademici.\n\n&nbsp\;\n\n \n\nTra le ultime mostre sia personal
 i che collettive\, si ricordano:\n\n01-02-03 Aprile 2022: Museo Delle Civi
 ltà MuCiv Eur Roma\, Evento Incontri\n\n04 Marzo 2022: Galleria Patrizia 
 Anastasi\, viale Mazzini\,1 Roma “24 ore sguardi”\n\n26 febbraio 18 Ma
 rzo 2022: Libreria ELI\, Roma Fame di libri sete di arte\n\n04-11 dicembre
  2021: Cosmogonie Museo storico dell’arte sanitaria\, Roma Fame di libri
 \n\nsete di arte\n\n12-15 novembre 2021: Arte Padova - Galleria ArtePlusAr
 t - Patrizia Anastasi\n\n12-24 novembre 2021: Tempo da New York a Caltanis
 etta Pitturiamo - mostra d'arte contemporanea maestri\n\n21-24 Ottobre 10-
 13 marzo 2021: WhiteSpaceChelsea New York city (USA) video esposizione\n\n
 9 novembre 2019: Tempo Imperfetto TAG – Tevere Art Gallery Roma\, collet
 tiva e live painting\n\n18-20 ottobre 2019: ART SHOPPING Parigi\, Carrouse
 l du Louvre\, collettiva PassepARTout Unconventional Gallery di Milano\n\n
 14-24 settembre 2019: Quinta edizione del Gran Premio dell’Arte\, presso
  Unahotel Expo Fiera\, collettiva della Galleria PassepARTout Unconvention
 al Gallery di Milano.\n\n24 agosto -1 settembre 2019: Ferrara Buskers Fest
 ival\, personale all’interno del Festival e live painting\n\n12 Luglio- 
 20 Settembre 2019: Voia Art Gallery\, Via Nomentana (RM)\, personale\, pre
 sentazione\, live painting\n\n5-7 Luglio 2019: Thoma Garden\, Piazza Sempi
 one (RM)\, presentazione\, personale\n\n18 giugno-5 luglio 2019: Papel\, M
 onterotondo (RM) personale\, presentazione\, live painting\n\n26 aprile - 
 10 maggio 2019: Elevation Exotic Bar\, Monterotondo (RM)\, personale\, pre
 sentazione\, live painting\n\n24-29 Gennaio 2019: Area Contesa “Artistic
 amente centro” Via Margutta (RM)\,  esposizione\, presentazione\, pubbl
 icazione su REPORT THIS AD\n\n20 Settembre 2018: LARGO VENUE for ARTWAVE R
 enaissance – La rinascita delle arti (RM)\, esposizione di 8 opere\, pre
 sentazione con evento\, live painting.\n\n30 Maggio 2018: L’Arte in most
 ra\, Roma (RM) Palazzo Ferrajoli\, esposizione di 3 opere\, presentazione 
 con evento\n\n26 Maggio 3 giugno 2018: Connect Festival Eur (RM) Bibliotec
 hina ARTWAVE Via di Santa Passera – Roma\, esposizione di 3 opere\, pres
 entazione con evento\, live painting.\n\n2 Luglio 2017: I Don’t Mafia (R
 M) Piazza Padre Pio – Fonte Nuova\, personale con  esposizione di 16 op
 ere in allestimento alla piazza\, presentazione alla Radio regionale “Ra
 dio Impegno”.\n\n28 Aprile – 7 Maggio 2017: L’Arte nel Cuore Scuderi
 e Estensi (Tivoli)\, esposizione di 4 opere\, pubblicazione su media local
 e.\n\nAnno 2016: Annuario D’Arte moderna (RM) Artisti contemporanei\, pu
 bblicazione di 2 opere\, con critica e quotazione.\n\n22 luglio 2016: Pubb
 licazione con critica su Messaggero di 1 opera\n\n13 Giugno – 18 Giugno 
 2016: Scorci di Vita (RM) Galleria Borghese – Mentana Esposizione\n\ndi 
 4 opere\, intervista su Sky Arte\, pubblicazione su Messaggero\, critica.\
 n\n26 Marzo – 3 Aprile 2016: Parata di Primavera (RM) Galleria Borghese 
 – Mentana. Esposizione di 4 opere\, intervista su Sky Arte\, pubblicazio
 ne su Hinterland e rivista Zurban\,\n\npremiazione e critica.\n\n27 Novemb
 re – 19 Dicembre 2015: L’Arte e la Musica (RM) Grafica Campioli Monter
 otondo Nuova Arcadia – Mentana. Esposizione di 6 o
ATTACH;FMTTYPE=image/jpeg:https://lazioeventi.com/wp-content/uploads/2022/
 11/Movimento-sospeso-1.jpg
CATEGORIES:Arte e Cultura nel Lazio
LOCATION:Roma\, Via Leopardi\, Roma\, Roma\, Lazio\, Italia
GEO:41.8942;12.5017
X-APPLE-STRUCTURED-LOCATION;VALUE=URI;X-ADDRESS=Via Leopardi\, Roma\, Roma\
 , Lazio\, Italia;X-APPLE-RADIUS=100;X-TITLE=Roma:geo:41.8942,12.5017
END:VEVENT
BEGIN:VTIMEZONE
TZID:Europe/Rome
X-LIC-LOCATION:Europe/Rome
BEGIN:STANDARD
DTSTART:20221030T020000
TZOFFSETFROM:+0200
TZOFFSETTO:+0100
TZNAME:CET
END:STANDARD
END:VTIMEZONE
END:VCALENDAR