BEGIN:VCALENDAR
VERSION:2.0
PRODID:-//wp-events-plugin.com//7.2.3.1//EN
TZID:Europe/Rome
X-WR-TIMEZONE:Europe/Rome
BEGIN:VEVENT
UID:34809@lazioeventi.com
DTSTART;TZID=Europe/Rome:20230403T183000
DTEND;TZID=Europe/Rome:20230403T200000
DTSTAMP:20230323T162353Z
URL:https://lazioeventi.com/eventi/franco-califano-vita-successi-canzoni-e
 d-eccessi
SUMMARY:FRANCO CALIFANO Vita\, successi\, canzoni ed eccessi - Roma - 3 Apr
 ile 23 18:30
DESCRIPTION:Dal 23 marzo in libreria\n\nFRANCO CALIFANO\n\nVita\, successi\
 , canzoni ed eccessi del “Prévert di Trastevere”\n\ndi Giangilberto M
 onti e Vito Vita\n\n(Gremese Editore)\n\n \n\nPRESENTAZIONE IN ANTEPRIMA  
 \n\nLunedì 3 aprile 2023 – Ore 18:30\n\nLibreria Notebook all'Auditoriu
 m\n\nVia Pietro de Coubertin\, 30 - 00196 Roma\n\n\n\nA dieci anni esatti 
 dalla scomparsa di Franco Califano un libro ne ripercorre la storia person
 ale e la carriera artistica: fresco di stampa e disponibile dal 23 marzo i
 n tutte le librerie e rivenditori online\, FRANCO CALIFANO. Vita\, success
 i\, canzoni ed eccessi del “Prévert di Trastevere”\, scritto da Giang
 ilberto Monti e Vito Vita e pubblicato da Gremese Editore\, verrà present
 ato in anteprima a Roma\, alla presenza degli autori\, lunedì 3 aprile\, 
 alle ore 18:30 presso la Libreria “Notebook” all’Auditorium.\n\nUn i
 ncontro aperto a tutti e moderato dallo scrittore e critico musicale Miche
 le Neri e dal promoter e produttore discografico Gianni Marsili\, testimon
 e di una lunga amicizia con il cantante.\n\nArtista discontinuo ma di ecce
 zionale talento\, autore di grandi successi\, interprete di canzoni dialet
 tali romanesche\, infaticabile animatore delle notti capitoline e talvolta
  protagonista di storie di cronaca nera\, Franco Califano nasce a Tripoli 
 nel 1938 ma cresce e vive a Roma dove scompare il 30 marzo 2013\, lasciand
 o in eredità\, tra canzoni e poesie\, circa 1000 opere.\n\nLa sua vocalit
 à arrocchita\, accentuata da stravizi e sigarette\, ha tonalità medio ba
 sse e una tessitura limitata\, ma le sue composizioni acquistano uno strao
 rdinario respiro melodico quando sono eseguite da interpreti del calibro d
 i Ornella Vanoni (La musica è finita\, Una ragione di più)\, Mia Martini
  (Minuetto\, La nevicata del ’56)\, Mina (Amanti di valore)\, Peppino Di
  Capri (Un grande amore e niente più)\, Bruno Martino (E la chiamano esta
 te)\, Fred Bongusto (Questo nostro grande amore) e moltissimi altri interp
 reti.\n\nUn libro che racconta come un romanzo l’avventurosa vita del Ca
 liffo riportando le dichiarazioni di amici e collaboratori intervistati pe
 r l’occasione e attingendo ai tanti spunti autobiografici sparsi nelle s
 ue canzoni: a cominciare da due capolavori come Tutto il resto è noia (19
 77) e La mia libertà (1981)\, canzoni-manifesto della sua ispirazione e d
 el suo stile di vita anticonformista.\n\n \nGiangilberto Monti è interpre
 te\, compositore e saggista. Ha firmato testi di teatro e cabaret\,\n\nscr
 itto canzoni d’autore e ideato radiodrammi per la Radio Svizzera Italian
 a. Da anni conduce ricerche sulla canzone italiana e francese\, con libri\
 , dischi e spettacoli. Tra le sue opere\, il Dizionario dei Cantautori e i
 l Dizionario dei Comici (Garzanti).\n\n \n\nVito Vita\, giornalista\, ha s
 critto per diverse riviste musicali\, tra cui «Raropiù»\, «BEATi voi!
 » e «Storie di giovani pop»\, e collabora con «Vinile»\, «Prog Itali
 a»\, «Musica leggera» e «Classic Rock». Ha partecipato alla stesura d
 i libri sulla canzone italiana. Nel 2019 ha pubblicato Musica solida\, vol
 ume dedicato alla storia dell’industria discografica italiana.\n\n \n\nI
 nsieme\, Giangilberto Monti e Vito Vita hanno scritto Gli anni d’oro del
 la canzone francese (Gremese\, 2022\, 228 pp.\, € 28\,00)\, un volume ri
 cco di immagini d’epoca che ripercorre il trentennio aureo della canzone
  francese del Novecento attraverso le carriere dei suoi protagonisti assol
 uti\, con un’attenta analisi degli intrecci tra la produzione musicale i
 taliana e quella dei cugini d’Oltralpe.\n\nCon gli autori intervengono:\
 nMichele Neri – saggista e critico musicale\nGianni Marsili – promoter
  e produttore discografico
ATTACH;FMTTYPE=image/jpeg:https://lazioeventi.com/wp-content/uploads/2023/
 03/cover-Califano.jpg
CATEGORIES:Arte e Cultura nel Lazio
LOCATION:Roma\, Via Leopardi\, Roma\, Roma\, Lazio\, Italia
GEO:41.8942;12.5017
X-APPLE-STRUCTURED-LOCATION;VALUE=URI;X-ADDRESS=Via Leopardi\, Roma\, Roma\
 , Lazio\, Italia;X-APPLE-RADIUS=100;X-TITLE=Roma:geo:41.8942,12.5017
END:VEVENT
BEGIN:VTIMEZONE
TZID:Europe/Rome
X-LIC-LOCATION:Europe/Rome
BEGIN:DAYLIGHT
DTSTART:20230326T030000
TZOFFSETFROM:+0100
TZOFFSETTO:+0200
TZNAME:CEST
END:DAYLIGHT
END:VTIMEZONE
END:VCALENDAR