BEGIN:VCALENDAR
VERSION:2.0
PRODID:-//wp-events-plugin.com//7.2.3.1//EN
TZID:Europe/Rome
X-WR-TIMEZONE:Europe/Rome
BEGIN:VEVENT
UID:43909@lazioeventi.com
DTSTART;TZID=Europe/Rome:20260306T103000
DTEND;TZID=Europe/Rome:20260321T193000
DTSTAMP:20260303T165437Z
URL:https://lazioeventi.com/eventi/franco-marzilli-il-richiamo-dei-sensi
SUMMARY:Franco Marzilli | Il richiamo dei sensi - Roma - 6 Marzo 26 10:30
DESCRIPTION:Venerdì 6 marzo alle ore 17:30\, presso la galleria Edarcom Eu
 ropa in via Macedonia 12 a Roma\, verrà inaugurata la personale di Franco
  Marzilli dal titolo “Il richiamo dei sensi”.\n\nLa mostra\, a cura di
  Francesco Ciaffi e Alice Crisponi\, ripercorre il lavoro e le tematiche p
 rincipali di Marzilli a quindici anni dalla sua scomparsa\, avvenuta nel 2
 010 a Poggio Mirteto. L’artista\, nato a Roma nel 1934\, aveva infatti t
 rasferito da molto tempo il suo indirizzo nel territorio sabino\, divenuto
  in parte anche elemento di ispirazione per il suo immaginario pittorico.\
 n\nFrancesco Ciaffi\, in catalogo\, annota che “Attraverso la sua raffin
 ata pittura tonale\, fatta di densi colori ad olio resi ruvidi dall’impa
 sto con le tempere e stesi sul fondo preparato a gesso\, egli affrontava t
 ematiche tradizionali quali il paesaggio\, la natura morta e la figura\, c
 on il peculiare talento di far dialogare forme reali con volumi informali
 ”.\n\nE\, sempre in catalogo\, Alice Crisponi osserva che “Si rasenter
 ebbe la follia\, ma le sue nature morte meriterebbero di essere odorate. Q
 uello che la neuroscienza definirebbe “attivazione olfattiva crossmodale
 ” in questo caso si fa stimolo immediato e involontario e\, alla sola vi
 sta dei copiosi cesti di frutta di Marzilli\, sembra si possa sentire l’
 acredine dei limoni\, il profumo zuccherino dell’uva matura e la fragran
 za acidulo-aromatica della mela cotogna”.\n\nVenerdì 6 marzo il brindis
 i inaugurale sarà curato dall’enoteca Raspo Urbano. La mostra sarà vis
 itabile con ingresso libero fino al 21 marzo.\n\nINFORMAZIONI\n\nMOSTRA: F
 ranco Marzilli | Il richiamo dei sensi PERIODO: 6 – 21 marzo 2026 INDIRI
 ZZO: Via Macedonia 12\, Roma (San Giovanni – Appio Latino) INAUGURAZIONE
  MOSTRA: Venerdì 6 marzo 2026 ore 17:30 ORARIO MOSTRA: da lunedì a sabat
 o ore 10:30/13:00 e 15:30/19:30 INGRESSO MOSTRA: Libero INFO: 06 7802620
ATTACH;FMTTYPE=image/jpeg:https://lazioeventi.com/wp-content/uploads/2026/
 03/Franco-Marzilli-Il-Tevere-a-Poggio-mirteto-anni-90-olio-su-tela-cm-30x4
 0-1.jpg
CATEGORIES:Arte e Cultura nel Lazio
LOCATION:Roma\, Via Leopardi\, Roma\, Roma\, Lazio\, Italia
GEO:41.8942;12.5017
X-APPLE-STRUCTURED-LOCATION;VALUE=URI;X-ADDRESS=Via Leopardi\, Roma\, Roma\
 , Lazio\, Italia;X-APPLE-RADIUS=100;X-TITLE=Roma:geo:41.8942,12.5017
END:VEVENT
BEGIN:VTIMEZONE
TZID:Europe/Rome
X-LIC-LOCATION:Europe/Rome
BEGIN:STANDARD
DTSTART:20251026T020000
TZOFFSETFROM:+0200
TZOFFSETTO:+0100
TZNAME:CET
END:STANDARD
END:VTIMEZONE
END:VCALENDAR