BEGIN:VCALENDAR
VERSION:2.0
PRODID:-//wp-events-plugin.com//7.2.3.1//EN
TZID:Europe/Rome
X-WR-TIMEZONE:Europe/Rome
BEGIN:VEVENT
UID:29384@lazioeventi.com
DTSTART;TZID=Europe/Rome;VALUE=DATE:20211217
DTEND;TZID=Europe/Rome;VALUE=DATE:20220121
DTSTAMP:20211126T132336Z
URL:https://lazioeventi.com/eventi/freedom-for-free
SUMMARY:Freedom for Free - Roma - 17 Dicembre 21 00:00
DESCRIPTION:FREEDOM FOR FREE\nMostra Collettiva internazionale Fotografica 
 / Video / Digital Visual Design\nPresso Millepiani\, via N. Odero\,13 Roma
 \nIngresso Libero\n\nFacebook Event: https://bit.ly/3xrED03\n-\nDal 17 Dic
 embre '21 - al 20 Gennaio '22\, visitabile dal lunedì al venerdì dalle o
 re 9:00 alle ore 19:00 │Ingresso gratuito│Accesso consentito ai posses
 sori di green pass / esito test molecolare (-)\nPrenotazione obbligatoria.
  email: info@loosenart.com / sms: +39 3474962253\nEvento curato da LoosenA
 rt\n-\nFreedom for Free\n\nNell'età moderna rinveniamo un concetto di lib
 ertà sempre più legato al diritto di riscatto di qualcosa ottenuto in ca
 mbio di qualcos'altro. Mezzo di scambio è la moneta\, un bypass per la li
 bertà che ci consente di appagare i nostri desideri\, vizi e necessità.\
 n\nE' la stessa struttura invisibile entro la quale conduciamo la nostra e
 sistenza a proporre le vetrine della libertà\, una selezione di prodotti 
 e servizi che ci richiamano nelle stanze dei piaceri\, dove i sensi assopi
 ti sono stimolati e riattivati per riaccendere le nostre emozioni\, gli un
 ici residui appartenenti alla natura umana e che ci rendono vivi.\n\nI pro
 tagonisti del mondo dell'arte\, così come qualsiasi autore di qualsiasi f
 orma di libera espressione\, ha compreso per prima la necessità di vivere
  oltre queste strutture\, come dimostrano artisti new dada e concettuali\,
  che proprio agli esordi del boom consumistico degli anni 60\, scardinano 
 i confini degli spazi convenzionali di rappresentazione per abbracciare la
  vita\, come così accade nel rapporto con le regole imposte dal sistema d
 el mercato dell'arte\, infrante con il solo scopo di liberarsi dalle logic
 he insite del consumismo.\n\nLa Mostra Freedom for Free presentata al Mill
 epiani di Roma raccoglie lavori che hanno saputo dare testimonianza di que
 sta rottura\, dove la libertà è ottenuta senza scambio alcuno\, non è u
 n prodotto\, non ha prezzo.\n\n• •\n\nArtisti\n\n17 - 30 Dicembre\n\nA
 lenaTsss\, Andrés Juárez Troncoso\, Andrii Chahin\, Arianna Poverini\, C
 ecilia Seok\, Chiara Alessandri\, Ellie Sass\, Evgeniya Chapaykina\, Fabio
  Sozza\, Kirsty Lee\, Konstantinos Irakleous\, Luciano Freaza\, Marcel Top
 \, Sethembiso Zulu\, Simone Pasotti\, Vilma Leino\, Zoya Shu\n\n3 - 11 Gen
 naio\n\nAdam C. Powers\, Anastasiya Balaban\, Beatriz Montes Lozano\, Chal
 ei Marie\, Christie Goldstein\, Dan Pavsic\, Elizaveta Kalinina\, Faiz Puj
 o Jatmiko\, Fiona Klenke\, Jerry Qiao\, Justyna Mikina\, Kaiana Aizpurua\,
  Sarah Fellner\, Therin Cedric\, Tuty Moreno Campos\, Vigmantas Balevičiu
 s\, Xiaoling Jin\n\n12 - 20 Gennaio\n\nAli Kanibelli\, Brenda Maria Fernan
 dez\, Danail Arizanow\, Denis Borovskikh\, Elizaveta Frolova\, Erin Fussel
 l\, Hadriel Torres\, Keith Kim\, Kseniia Antipina\, Luke Wilson\, Maria Gy
 armati\, María Marcos Alvarez\, Mariana Blinova\, Marie Marchandise\, Mat
 ityahu Neriya\, Michael Filmowicz\, Michael Kelly-DeWitt\, Mila Yunusova\,
  Nelson Morales\, Paola Estrella\, Steven Baboun\, Szabina Péter\, Teresa
  Letizia Bontà
ATTACH;FMTTYPE=image/jpeg:https://lazioeventi.com/wp-content/uploads/2021/
 11/Freedom-for-Free-R-2-cc.jpg
CATEGORIES:Arte e Cultura nel Lazio
LOCATION:Roma\, Via Leopardi\, Roma\, Roma\, Lazio\, Italia
GEO:41.8942;12.5017
X-APPLE-STRUCTURED-LOCATION;VALUE=URI;X-ADDRESS=Via Leopardi\, Roma\, Roma\
 , Lazio\, Italia;X-APPLE-RADIUS=100;X-TITLE=Roma:geo:41.8942,12.5017
END:VEVENT
BEGIN:VTIMEZONE
TZID:Europe/Rome
X-LIC-LOCATION:Europe/Rome
BEGIN:STANDARD
DTSTART:20211031T020000
TZOFFSETFROM:+0200
TZOFFSETTO:+0100
TZNAME:CET
END:STANDARD
END:VTIMEZONE
END:VCALENDAR