BEGIN:VCALENDAR
VERSION:2.0
PRODID:-//wp-events-plugin.com//7.2.3.1//EN
TZID:Europe/Rome
X-WR-TIMEZONE:Europe/Rome
BEGIN:VEVENT
UID:42018@lazioeventi.com
DTSTART;TZID=Europe/Rome:20250804T190000
DTEND;TZID=Europe/Rome:20250804T234500
DTSTAMP:20250714T075146Z
URL:https://lazioeventi.com/eventi/frittpizza-festival
SUMMARY:Fritt&Pizza Festival - Roccasecca - 4 Agosto 25 19:00
DESCRIPTION:Torna a Roccasecca il “Fritt&Pizza Festival” – XII edizio
 ne tra gusto\, musica e tradizione\n\nROCCASECCA (FR) – Lunedì 4 agosto
 \, a partire dalle ore 19\, Via Roma diventa il cuore pulsante di un event
 o tra i più attesi dell’estate: la XII edizione del Fritt&Pizza Festiva
 l\, un appuntamento che unisce cultura gastronomica\, musica popolare e co
 nvivialità sotto le stelle.\n\nOrganizzato dall’Associazione Terra Bian
 ca in collaborazione con il Ristorante Pizzeria Casa Magnolia di Roccasecc
 a\, il festival celebra una delle icone dello street food italiano: la piz
 za fritta\, proposta in chiave tradizionale e innovativa da chef e pizzaio
 li provenienti da tutta Italia.\n\nRegina indiscussa della serata\, la piz
 za fritta sarà affiancata dalle migliori espressioni di pizza romana e pi
 zza napoletana\, oltre a fritti tipici laziali e campani e ai classici gno
 cchi fatti a mano\, come da tradizione.\n\nTutte le pizze – fritte\, rom
 ane e napoletane – saranno realizzate con la pregiata farina Polselli\, 
 prodotta ad Arce\, eccellenza italiana del settore e main sponsor dell’e
 vento.\n\nInclusività e qualità vanno di pari passo: presenti anche stan
 d senza glutine e senza lattosio\, per garantire il gusto a tutti i visita
 tori.\n\nDoppio concerto per celebrare i 25 anni degli MBL\n\nLa colonna s
 onora della serata sarà firmata dagli MBL – Musica del Basso Lazio\, st
 orica formazione che festeggerà proprio qui i 25 anni di carriera. Due gl
 i appuntamenti live:\n- alle 21:00\, con il concerto MBL in chiave folk-po
 polare\;\n- alle 23:00\, con Saltarello House\, performance che mescola ri
 tmi tradizionali e sonorità elettroniche.\n\nUn festival per tutta la fam
 iglia\n\nNon solo gastronomia e musica: il festival ospiterà un mercatino
  di hobbisti e artigiani\, momenti di animazione per grandi e piccoli\, e 
 una cornice fatta di emozioni\, sapori autentici e atmosfera familiare.\n\
 nAppuntamento: lunedì 4 agosto\, dalle ore 19\, in Via Roma – Roccasecc
 a (FR)\nInfo evento: 389 6988169\n\nEvento organizzato da Associazione Ter
 ra Bianca\, in collaborazione con il Ristorante Pizzeria Casa Magnolia.\nM
 ain Sponsor: Polselli – La Farina Italiana\, da Arce.
ATTACH;FMTTYPE=image/jpeg:https://lazioeventi.com/wp-content/uploads/2025/
 07/Screenshot_20250713_143835_Gallery.jpg
CATEGORIES:Sagre, Gastronomia e Tradizioni nel Lazio
LOCATION:Roccasecca\, Via Severino\, Roccasecca\, Frosinone\, Lazio\, Itali
 a
GEO:41.5537;13.6683
X-APPLE-STRUCTURED-LOCATION;VALUE=URI;X-ADDRESS=Via Severino\, Roccasecca\,
  Frosinone\, Lazio\, Italia;X-APPLE-RADIUS=100;X-TITLE=Roccasecca:geo:41.5
 537,13.6683
END:VEVENT
BEGIN:VTIMEZONE
TZID:Europe/Rome
X-LIC-LOCATION:Europe/Rome
BEGIN:DAYLIGHT
DTSTART:20250330T030000
TZOFFSETFROM:+0100
TZOFFSETTO:+0200
TZNAME:CEST
END:DAYLIGHT
END:VTIMEZONE
END:VCALENDAR