BEGIN:VCALENDAR
VERSION:2.0
PRODID:-//wp-events-plugin.com//7.2.3.1//EN
TZID:Europe/Rome
X-WR-TIMEZONE:Europe/Rome
BEGIN:VEVENT
UID:42714@lazioeventi.com
DTSTART;TZID=Europe/Rome:20251010T100000
DTEND;TZID=Europe/Rome:20251013T190000
DTSTAMP:20251011T195214Z
URL:https://lazioeventi.com/eventi/from-seeds-to-food-la-mostra-collettiva
SUMMARY:From Seeds to Food la mostra collettiva - Roma - 10 Ottobre 25 10:0
 0
DESCRIPTION:Fino al prossimo 13 ottobre il Parco di Porta Capena a Roma\, i
 n occasione dell'80° anniversario della fondazione dell'Organizzazione de
 lle Nazioni Unite per l'alimentazione e l'agricoltura (FAO)\,  presenta l
 a mostra “From Seeds to Food" con le opere di Ding Jie\, di Francesco Im
 pellizzeri e Mario Carlo Iusi\, a cura di Giusy Emiliano.\n\nLa mostra di 
 pittura cinese di Ding Jie "Il cibo protegge il mondo - Ink Paintings of F
 arming" sul tema dei campi terrazzati arriva come un tributo artistico tem
 pestivo e potente alla sicurezza alimentare globale. Questa festa artistic
 a\, che utilizza pennelli come mezzo e campi terrazzati come soggetto narr
 ativo\, non solo offre una sincera riflessione sull'eredità della civilt
 à agricola\, ma presenta anche una profonda indagine sulle sfide della si
 curezza alimentare globale.\n\nMentre a rappresentare un grande percorso a
 rtistico all’interno di uno spazio non convenzionale è l’installazion
 e a pavimento di Francesco Impellizzeri\, intitolata Neosfera\, che\, attr
 averso un poetico intreccio tra terra\, acqua e suolo\, offre una metafora
  visiva in dialogo con il lavoro della Land and Water Division della FAO\n
 \nIn Neosfera\, frammenti di travertino\, un tempo scarti di lavorazione\,
  rinascono come simboli di trasformazione\, resilienza e armonia tra creaz
 ione umana e forma naturale.\n\nAttraverso la memoria della materia e la r
 isonanza poetica\, l’opera incarna il dialogo profondo tra gli elementi 
 vitali della vita sulla Terra: la terra\, l’acqua e l’aria.\n\nL’art
 ista riflette sul rapporto fragile ma necessario che l’uomo intrattiene 
 con l’ambiente\, e sulla costante attenzione che esso richiede. Le “pi
 etre parlanti” di Impellizzeri evocano “echi di schiuma solida”\, co
 me recita il testo inciso sull’opera.\n\nNeosfera invita così alla cont
 emplazione dell’interdipendenza tra cultura umana ed ecosistemi naturali
 \, in piena sintonia con la visione della FAO: promuovere la sostenibilit
 à\, la conoscenza e il rispetto per il mondo che ci ospita. Un ringraziam
 ento speciale anche a Roberto Locci per aver sponsorizzato l’intervento 
 creativo di Francesco Impellizzeri in un’esposizione internazionale.\n\n
 Il cibo ci accomuna: plasma la vita quotidiana\, la cultura e la salute di
  tutti noi. Eppure\, raramente ci soffermiamo a riflettere sul viaggio che
  gli alimenti compiono per arrivare fino a noi.  Questi affascinanti perc
 orsi sono al centro della rassegna “Dal Seme al Cibo – From Seeds to F
 ood”\, un’esposizione che accompagna il pubblico alla scoperta delle f
 iliere dell’agricoltura\, dell’orticoltura\, dell’allevamento\, dell
 a silvicoltura e della pesca\, intrecciando tradizione\, innovazione e sen
 sibilità ambientale. All’interno di questo contesto si inserisce “Por
 traits” di Mario Carlo Iusi\, un’opera che reinterpreta il concetto di
  ritratto trasformandolo in un dialogo tra uomo e natura.\n\nTradizionalme
 nte\, un ritratto cattura l’essenza e l’interiorità di una persona\; 
 in questo caso\, l’artista sceglie di ritrarre un seme di zucca\, simbol
 o di vita\, potenzialità e trasformazione. Le opere sono realizzate in ve
 troresina e dominate da colori intensi: un grande seme blu dedicato all’
 acqua (per la divisione FAO Land and Water) e uno giallo posto di fronte a
 ll’area IPPC. Il lavoro di Iusi esprime un equilibrio tra arte e scienza
 . Attraverso il colore e la materia\, l’artista invita a riflettere sull
 a fragilità e sulla forza della natura\, sulla diversità e sull’energi
 a vitale che risiede nei semi\, origine e promessa di ogni forma di nutrim
 ento. In questo modo\, “Portraits” dialoga perfettamente con il tema c
 entrale di “From Seeds to Food”\, restituendo un messaggio universale:
  ogni seme è una possibilità\, ogni gesto di cura verso la terra è un a
 tto creativo e collettivo per il futuro del pianeta.
ATTACH;FMTTYPE=image/jpeg:https://lazioeventi.com/wp-content/uploads/2025/
 10/Neosfera-Francesco-Impellizeri-Photo-credits-Matteo-Sala-2.jpg
CATEGORIES:Arte e Cultura nel Lazio
LOCATION:Roma\, Via Leopardi\, Roma\, Roma\, Lazio\, Italia
GEO:41.8942;12.5017
X-APPLE-STRUCTURED-LOCATION;VALUE=URI;X-ADDRESS=Via Leopardi\, Roma\, Roma\
 , Lazio\, Italia;X-APPLE-RADIUS=100;X-TITLE=Roma:geo:41.8942,12.5017
END:VEVENT
BEGIN:VTIMEZONE
TZID:Europe/Rome
X-LIC-LOCATION:Europe/Rome
BEGIN:DAYLIGHT
DTSTART:20250330T030000
TZOFFSETFROM:+0100
TZOFFSETTO:+0200
TZNAME:CEST
END:DAYLIGHT
END:VTIMEZONE
END:VCALENDAR