BEGIN:VCALENDAR
VERSION:2.0
PRODID:-//wp-events-plugin.com//7.2.3.1//EN
TZID:Europe/Rome
X-WR-TIMEZONE:Europe/Rome
BEGIN:VEVENT
UID:37952@lazioeventi.com
DTSTART;TZID=Europe/Rome;VALUE=DATE:20231201
DTEND;TZID=Europe/Rome;VALUE=DATE:20231215
DTSTAMP:20231124T165452Z
URL:https://lazioeventi.com/eventi/future-landscapes-senses-international-
 art-fair
SUMMARY:Future Landscapes - Senses International Art Fair - Roma - 1 Dicemb
 re 23 00:00
DESCRIPTION:ITSLIQUID Group is pleased to announce the opening of FUTURE LA
 NDSCAPES\, second event of SENSES ART FAIR 2023\, international exhibition
  of photography\, painting\, video art\, installation/sculpture and perfor
 mance art\, on December 01\, 2023\, at 06:00 PM at Medina Art Gallery in R
 ome. The exhibition will run until December 14\, 2023.\n\nSENSES is an Int
 ernational Art Fair that showcases collective and solo projects by leading
  and emerging international artists. The 2023 edition represents a dynamic
  forum for the direct exchange of ideas and contacts between collectors\, 
 artists\, photographers\, designers and art professionals.\n\nHuman creati
 vity always spreads all over the world. For thousands of years\, we have a
 pplied our imagination and inventiveness to shape our landscapes. Cities a
 re leading to a new aesthetic change that aims to rebalance the combinatio
 n of humans and nature\, not only to restore natural systems and ecologica
 l integrity but also to deliver beautiful\, engaging and remarkable landsc
 ape experiences. Today we face many challenges that require a big effort i
 n mixing new frontiers to create new extraordinary places and spaces. We a
 im to generate future landscapes without mental and physical borders\, in 
 which the human being is completely free.\n\nMedina Art Gallery itself\, s
 ituated in the heart of Rome\, will add a layer of significance to the exh
 ibition\, enduring commitment to artistic expression\, where the richness 
 of the past will intertwine with the boldness of the contemporary.\n\n&nbs
 p\;\n\nOPENING \n\nDecember 01\, 2023 | 06:00 PM\n\nMedina Art Gallery | 
 Rome\, Italy\n\nVia Angelo Poliziano 32-34\, 4-6\n\nOpening hours | Monday
  - Sunday . 10:00 AM - 01:00 PM and 03:00 PM - 07:00 PM\n\n&nbsp\;\n\nRSVP
 \n\ninfo@itsliquid.com\n\nClick here to register for the event (free entry
 )\n\n&nbsp\;\n\nITSLIQUID SRLS\n\nCorso Vittorio Emanuele II\, 33 70122 Ba
 ri\, Italy\n\nCampo Santi Filippo e Giacomo\, 4341\, 30122 Venezia\, Italy
 \n\n+39.0804117337\n\n+39.3387574098\n\ninfo@itsliquid.com\n\nwww.itsliqui
 d.com
ATTACH;FMTTYPE=image/jpeg:https://lazioeventi.com/wp-content/uploads/2023/
 11/future_land_rome_05_-768x566-1.jpg
CATEGORIES:Arte e Cultura nel Lazio,Varie
LOCATION:Roma\, Via Leopardi\, Roma\, Roma\, Lazio\, Italia
GEO:41.8942;12.5017
X-APPLE-STRUCTURED-LOCATION;VALUE=URI;X-ADDRESS=Via Leopardi\, Roma\, Roma\
 , Lazio\, Italia;X-APPLE-RADIUS=100;X-TITLE=Roma:geo:41.8942,12.5017
END:VEVENT
BEGIN:VTIMEZONE
TZID:Europe/Rome
X-LIC-LOCATION:Europe/Rome
BEGIN:STANDARD
DTSTART:20231029T020000
TZOFFSETFROM:+0200
TZOFFSETTO:+0100
TZNAME:CET
END:STANDARD
END:VTIMEZONE
END:VCALENDAR