BEGIN:VCALENDAR
VERSION:2.0
PRODID:-//wp-events-plugin.com//7.2.3.1//EN
TZID:Europe/Rome
X-WR-TIMEZONE:Europe/Rome
BEGIN:VEVENT
UID:18311@lazioeventi.com
DTSTART:20230805T190000Z
DTEND:20230807T224500Z
DTSTAMP:20230628T184310Z
URL:https://lazioeventi.com/eventi/gallinarock-festiva
SUMMARY:GallinaRock Festival - Gallinaro - 5 Agosto 23 20:00
DESCRIPTION:GallinaRock è un festival di musica rock riservato ai cantanti
  e gruppi emergenti di questo genere musicale che intendono presentarsi al
 l’attenzione del mondo artistico. In un territorio che dimostra straordi
 naria sensibilità al mondo della musica in genere si contano ormai numero
 sissime rassegne musicali divenute importanti e di spicco nazionale nel co
 rso degli anni. Tutte queste manifestazioni sono accomunate dal fatto di e
 ssere ognuna una rassegna di personaggi noti e conosciuti spesso leader de
 l loro genere musicale.\n\nGallinaRock come manifestazione si distingue da
  tutte le altre perché non ha la funzione di portare artisti o gruppi gi
 à affermati ma di essere punto di riferimento e trampolino di lancio di t
 anti giovani in cerca di visibilità. Un festival di nuovi talenti che div
 enterà un appuntamento costante di ogni anno e che tenderà a dare oltre 
 alla visibilità anche una serie di strumenti ai nuovi artisti per poter c
 ominciare più agevolmente a muovere i primi passi verso una carriera arti
 stico – musicale.\n\nGallina Rock Festival 2023 dal 5 al 7 Agosto appunt
 amento con la quattordicesima edizione con ingresso gratuito.\nE poi #Area
 Creativa #GallinArtRock con estemporanee\, mostre\, performance\, laborato
 ri creativi + Premio artistico ai vincitori del contest prodotto in esclus
 iva da #AccademiaBelleArti.\n\nGallinaRock Festival Nuovi Talenti\, detto 
 anche GallinaRock\, fondato e presieduto da Luigi Vacana è un’iniziativ
 a giunta alla tredicesima edizione e nata per promuovere nuovi talenti in 
 ambito musicale. Il Festival che si svolge nel Parco San Leonardo di Galli
 naro\, in provincia di Frosinone\, il 5\, 6 e 7 agosto è prodotto e promo
 sso in esclusiva dall’Associazione Culturale “Talenti”. L’associaz
 ione ha come oggetto la ricerca e la valorizzazione di nuovi talenti in og
 ni campo dell’arte universalmente riconosciuto come tale\, senza nessun 
 limite\, dalle arti figurative a quelle della musica e della scrittura in 
 tutto il territorio nazionale.\n\nPROGRAMMA\n5 agosto MELLOW MOOD (opening
  Known Physics\, aftershow Pakkia Crew)\n6 agosto BUGO (opening Contest\, 
 Mondern Stars\, aftershow Dj Set)\n7 agosto GIANCANE (opening vincitori co
 ntest\, aftershow Dj Set)\n\nEvento 100% plastic free e con l'interpretari
 co in Lis\, la Lingua dei Segni Italiana. Rai official media partner attra
 verso Rai Radio Tutta Italiana. Area artistica “GallinArtRock” con est
 emporanee\, mostre\, performance. Premio band vincitrice del contest prodo
 tto in esclusiva dall’Accademia di Belle Arti di Frosinone.\n\nPrevendit
 e https://www.i-ticket.it/eventi?s=gallinarock
ATTACH;FMTTYPE=image/jpeg:https://lazioeventi.com/wp-content/uploads/2023/
 06/Locandina-Ufficiale-orizzontale.jpg
CATEGORIES:Musica, Spettacoli e Danza nel Lazio
LOCATION:Gallinaro\, Comune \, Gallinaro\, Frosinone\, Lazio\, Italia
GEO:41.6572;13.7986
X-APPLE-STRUCTURED-LOCATION;VALUE=URI;X-ADDRESS=Comune \, Gallinaro\, Frosi
 none\, Lazio\, Italia;X-APPLE-RADIUS=100;X-TITLE=Gallinaro:geo:41.6572,13.
 7986
END:VEVENT
END:VCALENDAR