BEGIN:VCALENDAR
VERSION:2.0
PRODID:-//wp-events-plugin.com//7.2.3.1//EN
TZID:Europe/Rome
X-WR-TIMEZONE:Europe/Rome
BEGIN:VEVENT
UID:30618@lazioeventi.com
DTSTART;TZID=Europe/Rome:20220430T170000
DTEND;TZID=Europe/Rome:20220513T200000
DTSTAMP:20220422T141611Z
URL:https://lazioeventi.com/eventi/gesto-materia
SUMMARY:Gesto Materia - Roma - 30 Aprile 22 17:00
DESCRIPTION:\n\n\n\n\n\nSabato 30 aprile alle ore 17:00 nuovo appuntamento 
 con l'arte.\n\nAndrea Zuppa e Sara Stavla in mostra alla Galleria Ess&amp\
 ;rrE nella meravigliosa location sita al Porto turistico di Roma.\n\nLe sp
 lendide imbarcazioni fanno da cornice ad una mostra di elevato livello art
 istico. Due artisti complementari che fanno dell'astratto il punto fermo d
 ella loro arte. Paesaggi immaginari\, sfondi eterei\, cromie sognanti per 
 far partecipe il pubblico sempre molto attento alle esposizioni organizzat
 e dallo staff della Galleria. Alessandra Antonelli curatrice della mostra 
 e Fabrizio Sparaci perfetto nell'allestimento\, saranno presenti nel ricev
 ere il pubblico per un brindisi inaugurale con gli artisti e il pubblico.\
 n\nIl tutto sarà ripreso dalle telecamere di Ztl TV con le interviste agl
 i artisti e a Roberto Sparaci.\n\nMedia partner Art&amp\;trA con un serviz
 io dedicato all'evento.\n\nDal 30 aprile al 13 maggio 2022.\n\n\n\n\n\n
ATTACH;FMTTYPE=image/jpeg:https://lazioeventi.com/wp-content/uploads/2022/
 04/Locandina-Zuppa-Stavla.jpg
CATEGORIES:Arte e Cultura nel Lazio
LOCATION:Roma\, Via Leopardi\, Roma\, Roma\, Lazio\, Italia
GEO:41.8942;12.5017
X-APPLE-STRUCTURED-LOCATION;VALUE=URI;X-ADDRESS=Via Leopardi\, Roma\, Roma\
 , Lazio\, Italia;X-APPLE-RADIUS=100;X-TITLE=Roma:geo:41.8942,12.5017
END:VEVENT
BEGIN:VTIMEZONE
TZID:Europe/Rome
X-LIC-LOCATION:Europe/Rome
BEGIN:DAYLIGHT
DTSTART:20220327T030000
TZOFFSETFROM:+0100
TZOFFSETTO:+0200
TZNAME:CEST
END:DAYLIGHT
END:VTIMEZONE
END:VCALENDAR