BEGIN:VCALENDAR
VERSION:2.0
PRODID:-//wp-events-plugin.com//7.2.3.1//EN
TZID:Europe/Rome
X-WR-TIMEZONE:Europe/Rome
BEGIN:VEVENT
UID:27368@lazioeventi.com
DTSTART;TZID=Europe/Rome:20200827T213000
DTEND;TZID=Europe/Rome:20200827T230000
DTSTAMP:20200819T064853Z
URL:https://lazioeventi.com/eventi/giacomo-puccini-gianni-schicchi
SUMMARY:Giacomo Puccini “Gianni Schicchi” - Cerveteri - 27 Agosto 20 2
 1:30
DESCRIPTION:Dopo le serate evento dedicate a Vivaldi\, Bach e Mozart\, l
 ’Assessorato alle Politiche Culturali del Comune di Cerveteri e l’Orch
 estra Sinfonica di Europa Musica propongono un altro prestigioso appuntame
 nto dedicato alla musica classica e all’opera.\n\nGiovedì 27 agosto al
 le ore 21:30 l’arena spettacolo del Parco della Legnara ospiterà l’
 opera comica in un atto di Giacomo Puccini “Gianni Schicchi”\, una 
 delle opere di maggior successo del celebre compositore italiano.\n\nL’i
 ngresso allo spettacolo (biglietto 10 euro) è da prenotarsi obbligatoriam
 ente attraverso il Punto di Informazione Turistica sito in Piazza Aldo M
 oro\n\nInformazioni ai numeri: 0699552637\, 3534107535 e 3270168318.\n\nPe
 r accedere al Parco della Legnara\, i cui posti a sedere sono correttament
 e distanziati l’uno dall’altro nel rispetto delle vigenti normative an
 ti-covid\, è obbligatorio indossare la mascherina protettiva\, inoltre è
  presente in loco un efficiente servizio di assistenza al pubblico.
ATTACH;FMTTYPE=image/jpeg:https://lazioeventi.com/wp-content/uploads/2020/
 08/Gianni-Schicchi-Puccini.jpg
CATEGORIES:Musica, Spettacoli e Danza nel Lazio
LOCATION:Cerveteri\, Comune di Cerveteri\, Cerveteri\, Roma\, Lazio\, Itali
 a
GEO:41.9938;12.0935
X-APPLE-STRUCTURED-LOCATION;VALUE=URI;X-ADDRESS=Comune di Cerveteri\, Cerve
 teri\, Roma\, Lazio\, Italia;X-APPLE-RADIUS=100;X-TITLE=Cerveteri:geo:41.9
 938,12.0935
END:VEVENT
BEGIN:VTIMEZONE
TZID:Europe/Rome
X-LIC-LOCATION:Europe/Rome
BEGIN:DAYLIGHT
DTSTART:20200329T030000
TZOFFSETFROM:+0100
TZOFFSETTO:+0200
TZNAME:CEST
END:DAYLIGHT
END:VTIMEZONE
END:VCALENDAR