BEGIN:VCALENDAR
VERSION:2.0
PRODID:-//wp-events-plugin.com//7.2.3.1//EN
TZID:Europe/Rome
X-WR-TIMEZONE:Europe/Rome
BEGIN:VEVENT
UID:29151@lazioeventi.com
DTSTART;TZID=Europe/Rome:20211125T163000
DTEND;TZID=Europe/Rome:20211125T173000
DTSTAMP:20211113T154532Z
URL:https://lazioeventi.com/eventi/gianni-contarino-presentazione-del-roma
 nzo-punto-zero-incontro-con-lautore
SUMMARY:Gianni Contarino - Presentazione del romanzo "Punto zero" - Incontr
 o con l'autore - Ladispoli - 25 Novembre 21 16:30
DESCRIPTION:IL ROMANZO\nCatania. Nell’ecosistema della Sivutech\, societ
 à nel ramo prodotti informatici\, Emilio Di Bella è un esemplare che sop
 ravvive sopra la soglia della scure del licenziamento. A scombussolare il 
 fragile equilibrio e imbarbarire gli uffici arriva un nuovo capo\, il ripu
 gnante dottor Trombetta: l’impatto è destinato ad avere risvolti anche 
 nella vita privata di Emilio\, poiché di mezzo c’è Moira\, una vicina 
 di casa con cui ha scoperto di avere più affinità rispetto all’ormai l
 ogoro ménage familiare che lo vede legato da anni a Violetta.\nQuando Moi
 ra “rischia” di essere assunta alla Sivutech\, Emilio comprende che do
 vrà uscire dalla sua impasse per impedire che avvenga l’irreparabile. S
 coprendo\, in realtà\, che c’è da mettere in discussione molto più di
  un semplice matrimonio.\n\nL'AUTORE\nGianni Contarino è nato a Siracusa 
 nel 1972 e vive tra un bosco vicino Torino e un borgo sull’Etna. Scrive 
 racconti e poesie. Questo è il suo primo romanzo.
ATTACH;FMTTYPE=image/jpeg:https://lazioeventi.com/wp-content/uploads/2021/
 11/211115-EVENTO-PUNTO-ZERO-LADISPOLI-45°-BIS.jpg
CATEGORIES:Arte e Cultura nel Lazio
LOCATION:Ladispoli\, Comune\, Ladispoli\, Roma\, Lazio\, Italia
GEO:41.955;12.0698
X-APPLE-STRUCTURED-LOCATION;VALUE=URI;X-ADDRESS=Comune\, Ladispoli\, Roma\,
  Lazio\, Italia;X-APPLE-RADIUS=100;X-TITLE=Ladispoli:geo:41.955,12.0698
END:VEVENT
BEGIN:VTIMEZONE
TZID:Europe/Rome
X-LIC-LOCATION:Europe/Rome
BEGIN:STANDARD
DTSTART:20211031T020000
TZOFFSETFROM:+0200
TZOFFSETTO:+0100
TZNAME:CET
END:STANDARD
END:VTIMEZONE
END:VCALENDAR