BEGIN:VCALENDAR
VERSION:2.0
PRODID:-//wp-events-plugin.com//7.2.3.1//EN
TZID:Europe/Rome
X-WR-TIMEZONE:Europe/Rome
BEGIN:VEVENT
UID:43271@lazioeventi.com
DTSTART;TZID=Europe/Rome:20251208T100000
DTEND;TZID=Europe/Rome:20251208T150000
DTSTAMP:20251202T102729Z
URL:https://lazioeventi.com/eventi/giardino-di-ninfa-apertura-straordinari
 a
SUMMARY:Giardino di Ninfa: Apertura Straordinaria - Cisterna di Latina - 8 
 Dicembre 25 10:00
DESCRIPTION:Giardino di Ninfa: Apertura Straordinaria per l'Immacolata Conc
 ezione. Una Giornata Speciale tra Natura e Storia\n\nLa Fondazione Roffred
 o Caetani annuncia un'apertura eccezionale per celebrare la festività del
 l'Immacolata Concezione: il Giardino di Ninfa e il Castello Caetani di Ser
 moneta accoglieranno i visitatori lunedì 8 dicembre 2025.\n\nQuesta giorn
 ata speciale\, realizzata in collaborazione con Etikey\, offre l'opportuni
 tà unica di immergersi nello splendore autunnale di quello che è conside
 rato uno dei giardini più belli del mondo\, e di visitare la maestosa for
 tezza medievale del Castello Caetani.\n\nL’intero ricavato sarà devolut
 o a Etikey Impresa Sociale\, nata a Latina dall’incontro tra Centro Donn
 a Lilith APS e Diaphorá APS\, due realtà impegnate da anni nella tutela 
 dei diritti e nell’inclusione sociale.\nEtikey promuove l’inserimento 
 lavorativo di donne che hanno vissuto situazioni di violenza e di giovani 
 con disabilità\, offrendo percorsi di formazione e crescita professionale
 . Un progetto che mette al centro le persone e la comunità\, trasformando
  la fragilità in risorsa e costruendo opportunità di autonomia e dignit
 à per tutti.\n\nL’apertura dell’8 dicembre rappresenta l’incontro t
 ra la cura delle persone e quella del territorio\, un gesto concreto di so
 lidarietà per sostenere questa missione.\nModalità di Visita e Prenotazi
 oni\nL'accesso a entrambi i siti è strettamente contingentato e consentit
 o esclusivamente su prenotazione online.\n\nVisite Guidate: Sia per il Gia
 rdino di Ninfa che per il Castello Caetani\, l'ingresso è organizzato in 
 fasce orarie con visite guidate della durata di circa un'ora.\n\nOrari: Le
  visite al Giardino di Ninfa saranno disponibili in diverse fasce orarie c
 on un costo del biglietto di €15\,75. Le visite al Castello Caetani\, an
 ch'esse a fasce orarie\, hanno un costo di €8\,25.\n\nAcquisto Biglietti
 : I biglietti sono acquistabili solo online sul sito ufficiale www.giardin
 odininfa.eu. È importante notare che i biglietti non sono rimborsabili e 
 la fascia oraria scelta non è modificabile.\n\nSi invita il pubblico a co
 nsultare il sito ufficiale per tutte le informazioni tecniche e per assicu
 rarsi il proprio posto in questa apertura straordinaria.
ATTACH;FMTTYPE=image/jpeg:https://lazioeventi.com/wp-content/uploads/2022/
 03/IMG_4871.jpg
CATEGORIES:Arte e Cultura nel Lazio,Varie
LOCATION:Cisterna di Latina\, Comune di Cisterna di Latina\, Cisterna di La
 tina\, Latina\, Lazio\, Italia
GEO:41.5927;12.8286
X-APPLE-STRUCTURED-LOCATION;VALUE=URI;X-ADDRESS=Comune di Cisterna di Latin
 a\, Cisterna di Latina\, Latina\, Lazio\, Italia;X-APPLE-RADIUS=100;X-TITL
 E=Cisterna di Latina:geo:41.5927,12.8286
END:VEVENT
BEGIN:VTIMEZONE
TZID:Europe/Rome
X-LIC-LOCATION:Europe/Rome
BEGIN:STANDARD
DTSTART:20251026T020000
TZOFFSETFROM:+0200
TZOFFSETTO:+0100
TZNAME:CET
END:STANDARD
END:VTIMEZONE
END:VCALENDAR