BEGIN:VCALENDAR
VERSION:2.0
PRODID:-//wp-events-plugin.com//7.2.3.1//EN
TZID:Europe/Rome
X-WR-TIMEZONE:Europe/Rome
BEGIN:VEVENT
UID:34396@lazioeventi.com
DTSTART;TZID=Europe/Rome;VALUE=DATE:20230308
DTEND;TZID=Europe/Rome;VALUE=DATE:20230309
DTSTAMP:20230307T100522Z
URL:https://lazioeventi.com/eventi/giornata-della-donna-a-formello
SUMMARY:Giornata della Donna a Formello - Formello - 8 Marzo 23 00:00
DESCRIPTION:Il Comune di Formello\, Assessorato alle Politiche Sociali - Pa
 ri Opportunità\, organizza una serie di iniziative che non vogliono esser
 e solo celebrative\, ma anche utili per analizzare e riflettere sulle azio
 ni utili a contrastare discriminazioni e violenze di genere. \n\nOre 9.00-
 16.00\nOPEN DAY del Centro Antiviolenza Galassia\nConosciamo le attività 
 di sensibilizzazione\nsul contrasto della violenza di genere\n-ore 9-13 
 – Incontro con le scuole \nSala Grande di Palazzo Chigi\n- ore 13-14- In
 contro con Amministratori \ne Dipendenti del Comune di Formello\nSede di V
 ia XX Settembre\n-ore 14-16 – Incontro con la cittadinanza \nSede di Via
  XX Settembre\n\nOre 19.00\nLA NOTA FEMMINILE\nMusica Emozione Canzone\nin
  un viaggio attraverso interpreti \nche hanno messo in luce l’universo f
 emminile\nA cura dell’AGM Cooperativa Sociale\nCon Roberta Albanesi – 
 voce\nStefano Zaccagnigni – chitarra\nFrancesco Calogiuri – percussion
 i\nLa serata sarà impreziosita dagli abiti di NeroLuce\nrealizzati a mano
  con stoffe riciclate dalle donne di Rebibbia femminile\nIngresso libero\,
  Tel. 371.5769315\nTeatro Comunale J. P. Velly
ATTACH;FMTTYPE=image/jpeg:https://lazioeventi.com/wp-content/uploads/2023/
 03/nota-femminile.jpg
CATEGORIES:Arte e Cultura nel Lazio,Musica, Spettacoli e Danza nel Lazio
LOCATION:Formello\, Comune\, Formello\, Roma\, Lazio\, Italia
GEO:42.0801;12.4005
X-APPLE-STRUCTURED-LOCATION;VALUE=URI;X-ADDRESS=Comune\, Formello\, Roma\, 
 Lazio\, Italia;X-APPLE-RADIUS=100;X-TITLE=Formello:geo:42.0801,12.4005
END:VEVENT
BEGIN:VTIMEZONE
TZID:Europe/Rome
X-LIC-LOCATION:Europe/Rome
BEGIN:STANDARD
DTSTART:20221030T020000
TZOFFSETFROM:+0200
TZOFFSETTO:+0100
TZNAME:CET
END:STANDARD
END:VTIMEZONE
END:VCALENDAR