BEGIN:VCALENDAR
VERSION:2.0
PRODID:-//wp-events-plugin.com//7.2.3.1//EN
TZID:Europe/Rome
X-WR-TIMEZONE:Europe/Rome
BEGIN:VEVENT
UID:36884@lazioeventi.com
DTSTART;TZID=Europe/Rome:20230906T163000
DTEND;TZID=Europe/Rome:20230906T193000
DTSTAMP:20230901T075858Z
URL:https://lazioeventi.com/eventi/giornata-europea-della-cultura-ebraica-
 sezze
SUMMARY:Giornata Europea della Cultura Ebraica - Sezze - 6 Settembre 23 16:
 30
DESCRIPTION:Fiuggi\, Roma e Sezze ospitaranno le manifestazioni della 24esi
 ma Giornata Europea della Cultura Ebraica.\n\nQuesto tipo di manifestazion
 e istituita nel 1999 e annualmente celebrata nell’Unione Europea\, per p
 ermettere al mondo circostante di entrare in contatto con l’ampio patrim
 onio ebraico italiano e riflettere sul profondo tema del “bello”. \n\n
 La bellezza è un argomento di grande rilevanza nell’ebraismo non solo p
 er le arti decorative\, le musiche liturgiche\, i manoscritti\, le archite
 tture sinagogali che sono sopravvissuti\, ma per la poesia di molti testi 
 sacri\, dai Salmi al Cantico dei Cantici\, e per il ricordo tramandato del
 la bellezza del tempio di Gerusalemme e dei suoi arredi.
ATTACH;FMTTYPE=image/jpeg:https://lazioeventi.com/wp-content/uploads/2023/
 09/Giornata-Europea-della-Cultura-Ebraica-sezze.jpg
CATEGORIES:Arte e Cultura nel Lazio
LOCATION:Sezze\, Comune di Sezze\, Sezze\, Latina\, Lazio\, Italia
GEO:41.4986;13.0589
X-APPLE-STRUCTURED-LOCATION;VALUE=URI;X-ADDRESS=Comune di Sezze\, Sezze\, L
 atina\, Lazio\, Italia;X-APPLE-RADIUS=100;X-TITLE=Sezze:geo:41.4986,13.058
 9
END:VEVENT
BEGIN:VTIMEZONE
TZID:Europe/Rome
X-LIC-LOCATION:Europe/Rome
BEGIN:DAYLIGHT
DTSTART:20230326T030000
TZOFFSETFROM:+0100
TZOFFSETTO:+0200
TZNAME:CEST
END:DAYLIGHT
END:VTIMEZONE
END:VCALENDAR