BEGIN:VCALENDAR
VERSION:2.0
PRODID:-//wp-events-plugin.com//7.2.3.1//EN
TZID:Europe/Rome
X-WR-TIMEZONE:Europe/Rome
BEGIN:VEVENT
UID:33087@lazioeventi.com
DTSTART;TZID=Europe/Rome:20221121T103000
DTEND;TZID=Europe/Rome:20221121T103000
DTSTAMP:20221116T074953Z
URL:https://lazioeventi.com/eventi/giornata-nazionale-degli-alberi
SUMMARY:Giornata Nazionale degli Alberi - San Cesareo - 21 Novembre 22 10:3
 0
DESCRIPTION:Protagonista il Cedro del Libano minacciato dal riscaldamento g
 lobale\nA San Cesareo (RM) 200 mq di arte a tutela del patrimonio arboreo\
 n\nSimbolo di bellezza\, benessere e sostenibilità - già citato nel Poem
 a di Gilgamesh\, tra le più antiche opere letterarie della nostra civilt
 à - il Cedro del Libano diventa protagonista il 21 novembre nella Giornat
 a Nazionale degli Alberi 2022. Succede a San Cesareo\, in provincia di Rom
 a\, in quel territorio del centro Italia che gli imperatori romani elesser
 o come villeggiatura e in cui piantarono i primi esemplari italici della m
 illenaria specie\, trasformando nei secoli questi luoghi del Lazio nell’
 area geografica con la maggior presenza di cedro del Libano della penisola
 .\n\nLa specie millenaria - oggi minacciata dal riscaldamento globale\, co
 me già denunciato nel 2018 dal New York Times - viene omaggiato a San Ces
 areo con progetti di piantumazione già in essere\, ma anche con la nascit
 a di due monumentali opere di eco street art. \n\nDue eco-murales di 200 m
 q firmati dallo street artist Luogo Comune\, le cui immagini hanno già co
 lorato palazzi e muri in tutta Italia\, ma anche in Francia\, Spagna e Ing
 hilterra. Due interventi di arte pubblica dal linguaggio simbolico che com
 bina elementi della flora e della fauna per dare visibilità alla minaccia
  climatica\, indicando la via da perseguire: la tutela del patrimonio arbo
 reo. \n\nIl 21 novembre 2022\, Giornata Nazionale degli Alberi\, diventa c
 osì una vera e propria festa del cedro del Libano nella sua area italiana
  d’elezione: un protagonista speciale per raccontare tutti gli alberi\, 
 con un evento inclusivo promosso dal Comune di San Cesareo\, finanziato da
  Regione Lazio nell’ambito del bando “Accordo di Programma per l’ado
 zione coordinata e congiunta di misure per il miglioramento della qualità
  dell’aria nella Regione Lazio. Scheda n.4\, Murales Antismog e Campagna
  Informativa”\, e a cura della no profit Yourban2030.\n\nUn messaggio pe
 r tutti in una giornata che invita tutta la popolazione a intervenire a tu
 tela degli alberi e che a San Cesareo vede il coinvolgimento di oltre 100 
 giovanissimi studenti ai quali è stato chiesto: che albero sei? Rappresen
 tare gli alberi per i bambini e i ragazzi è un modo per rappresentare e r
 accontare sé stessi: chi sono i giovani abitanti del mondo? Che rapporto 
 hanno con la natura e la sua tutela? Come vedono il futuro? In poche parol
 e: che albero sono e che albero vogliono essere?\n\nIl nostro viaggio acco
 mpagnato dall’albero di Cedro del Libano va avanti nel corso dei secoli 
 e dei millenni. Da sempre è stato al servizio dell’uomo\, grazie al suo
  legno che ha contribuito alla costruzione di opere fondamentali nella sto
 ria della civiltà. A partire proprio dal Tempio di Salomone\, primo tempi
 o di Gerusalemme\, la cui costruzione risale a quasi 3000 anni fa e che co
 mprende l’utilizzo del legno di Cedro\, donato dal re di Tiro proprio a 
 Salomone. Oggi il rischio estinzione del Cedro del Libano è sempre più e
 levato. Si tratta di una pianta che necessita di oltre mille anni per cres
 cere autonomamente\, sostenuta dai climi freddi. Il caldo porta\, invece\,
  il Cedro del Libano ad accelerare il suo processo di crescita\, andando c
 ontro la sua natura ed esponendolo agli attacchi degli agenti atmosferici 
 e degli insetti.\n\nLa realizzazione dei due eco-murales\, su una superfic
 ie totale di 200 metri quadrati\, sarà l’equivalente di aver piantato 8
  alberi di Cedro a San Cesareo\, che elimineranno 110 kg di Co2 nell’ari
 a\, assorbiranno 10 kg di Co2 durante il primo mese di applicazione e port
 eranno a zero l’inquinamento di 40 auto a benzina euro 6 ogni giorno. Qu
 esto è possibile attraverso l’utilizzo della pittura Airlite mangia-smo
 g che verrà applicata sulla parete dell’Istituto Comprensivo di San Ces
 areo e sul muro di cinta del Campo sportivo di San Cesareo.\n\nInaugurazio
 ne lunedì 21 novembre alle ore 10.30\, presso il Teatro Comunale Giulanco
  - Traversa della Cultura\, San Cesareo.
ATTACH;FMTTYPE=image/jpeg:https://lazioeventi.com/wp-content/uploads/2022/
 11/VIALE-DEI-CEDRI.jpg
CATEGORIES:Varie
LOCATION:San Cesareo\, Comune\, San Cesareo\, Roma\, Lazio\, Italia
GEO:41.8197;12.8008
X-APPLE-STRUCTURED-LOCATION;VALUE=URI;X-ADDRESS=Comune\, San Cesareo\, Roma
 \, Lazio\, Italia;X-APPLE-RADIUS=100;X-TITLE=San Cesareo:geo:41.8197,12.80
 08
END:VEVENT
BEGIN:VTIMEZONE
TZID:Europe/Rome
X-LIC-LOCATION:Europe/Rome
BEGIN:STANDARD
DTSTART:20221030T020000
TZOFFSETFROM:+0200
TZOFFSETTO:+0100
TZNAME:CET
END:STANDARD
END:VTIMEZONE
END:VCALENDAR