BEGIN:VCALENDAR
VERSION:2.0
PRODID:-//wp-events-plugin.com//7.2.3.1//EN
TZID:Europe/Rome
X-WR-TIMEZONE:Europe/Rome
BEGIN:VEVENT
UID:41134@lazioeventi.com
DTSTART;TZID=Europe/Rome:20250412T090000
DTEND;TZID=Europe/Rome:20250413T190000
DTSTAMP:20250403T085934Z
URL:https://lazioeventi.com/eventi/giornate-della-cultura-e-del-territorio
SUMMARY:Giornate della Cultura e del Territorio - Paliano - 12 Aprile 25 09
 :00
DESCRIPTION:“𝑮𝒊𝒐𝒓𝒏𝒂𝒕𝒆 𝒅𝒆𝒍𝒍𝒂 𝑪
 𝒖𝒍𝒕𝒖𝒓𝒂 𝒆 𝒅𝒆𝒍 𝒕𝒆𝒓𝒓𝒊𝒕𝒐
 𝒓𝒊𝒐”\nUna nuova occasione per parlare e vivere Paliano\, la sua
  storia\, le sue tradizioni\, il suo patrimonio culturale.\n\nDomenica 6 a
 prile\, ore 17\,00\, chiesa di S.Maria di Pugliano\nConcerto del Coro Erni
 co Città di Alatri\, diretto dal maestro Antonio D’Antò\n\nSabato 12 a
 prile\ndalle ore 9\,00 alle ore 12\,00\nvisita della Biblioteca storica de
 i Padri Passionisti di S.Maria di Pugliano\nore 10\,00\nTrekking dalla chi
 esa di S.Maria di Pugliano al Sacrario XVII Martiri in loc. Le Mole e visi
 ta ai Mulini\, a cura di Umberto Romani\nore 17\,00\, sala conferenze BCC\
 , piazza Marcantonio Colonna\nPresentazione del libro “Inseguendo Carava
 ggio. Nei suoi luoghi e nei suoi quadri” di Vania Colasanti\n\nDomenica 
 13 aprile\, ore 8\,00\nTRAIL nel Bosco di Paliano
ATTACH;FMTTYPE=image/jpeg:https://lazioeventi.com/wp-content/uploads/2025/
 04/giornate-della-cultura-e-del-territorio_ver2-2.jpg
CATEGORIES:Arte e Cultura nel Lazio,Sport, Tempo Libero e Divertimento nel
 Lazio
LOCATION:Paliano\, Comune\, Paliano\, Frosinone\, Lazio\, Italia
GEO:41.8048;13.0599
X-APPLE-STRUCTURED-LOCATION;VALUE=URI;X-ADDRESS=Comune\, Paliano\, Frosinon
 e\, Lazio\, Italia;X-APPLE-RADIUS=100;X-TITLE=Paliano:geo:41.8048,13.0599
END:VEVENT
BEGIN:VTIMEZONE
TZID:Europe/Rome
X-LIC-LOCATION:Europe/Rome
BEGIN:DAYLIGHT
DTSTART:20250330T030000
TZOFFSETFROM:+0100
TZOFFSETTO:+0200
TZNAME:CEST
END:DAYLIGHT
END:VTIMEZONE
END:VCALENDAR