BEGIN:VCALENDAR
VERSION:2.0
PRODID:-//wp-events-plugin.com//7.2.3.1//EN
TZID:Europe/Rome
X-WR-TIMEZONE:Europe/Rome
BEGIN:VEVENT
UID:27988@lazioeventi.com
DTSTART;VALUE=DATE:20241012
DTEND;VALUE=DATE:20241014
DTSTAMP:20241011T072553Z
URL:https://lazioeventi.com/eventi/giornate-fai-dautunno-casperia
SUMMARY:Casperia - Giornate FAI - Casperia - 12 Ottobre 24 00:00
DESCRIPTION:Sabato 17 e domenica 18 ottobre e Sabato 24 e domenica 25 ottob
 re  in occasione delle Giornate FAI d'Autunno visita i Beni FAI e vieni
  a scoprire da vicino come ci prendiamo cura tutto l'anno di tanti luoghi 
 speciali di tutta Italia.
ATTACH;FMTTYPE=image/jpeg:https://lazioeventi.com/wp-content/uploads/2020/
 10/madonna-della-neve_196911.jpg
CATEGORIES:Arte e Cultura nel Lazio,Giornate FAI
LOCATION:Casperia\, Comune di Casperia\, Casperia\, Rieti\, Lazio\, Italia
GEO:42.3381;12.6705
X-APPLE-STRUCTURED-LOCATION;VALUE=URI;X-ADDRESS=Comune di Casperia\, Casper
 ia\, Rieti\, Lazio\, Italia;X-APPLE-RADIUS=100;X-TITLE=Casperia:geo:42.338
 1,12.6705
END:VEVENT
END:VCALENDAR