BEGIN:VCALENDAR
VERSION:2.0
PRODID:-//wp-events-plugin.com//7.2.3.1//EN
TZID:Europe/Rome
X-WR-TIMEZONE:Europe/Rome
BEGIN:VEVENT
UID:32589@lazioeventi.com
DTSTART;TZID=Europe/Rome:20241012T093000
DTEND;TZID=Europe/Rome:20241013T180000
DTSTAMP:20241011T071210Z
URL:https://lazioeventi.com/eventi/giornate-fai-dautunno-fondi
SUMMARY:Fondi - Giornate FAI - Fondi - 12 Ottobre 24 09:30
DESCRIPTION:APPIA ANTICA TRATTO FONDI – ITRI\nSpostarsi tra Fondi a Itri 
 è un'esperienza che offre due opzioni straordinarie: la moderna strada st
 atale Appia\, carrabile e l'antico basolato. La seconda opzione rappresent
 a un percorso storico che con i suoi 2 km di pavimentazione originale\, è
  un tesoro che racconta storie di epoche passate. La Via Appia da sempre c
 ollega questi due incantevoli paesi italiani che si trovano nel basso Lazi
 o.\nTra Fondi e Itri\, esiste ancora integro un tratto della Regina Viariu
 m. Si tratta di un percorso di circa 2 chilometri che conserva ancora test
 imonianze della storia millenaria. I lavori per la costruzione iniziarono 
 nel 312 a.C. a cura del censole Appio Claudio Cieco\, sulla base di una st
 rada preesistente che collegava Roma ai Colli Albani\, e poi fino a Capua.
  Nel III sec. a.C. il tragitto fu esteso fino a Beneventum\, poi Tarentum 
 e infine fu completato il percorso fino a Brundisium. Funzione primaria de
 l tracciato era di garantire un rapido movimento delle truppe verso l'Ital
 ia meridionale\, ma fu anche fondamentale via di commercio\, facilitando i
  contatti con le città della Magna Graecia.\nIl tratto di Appia tra Itri 
 e Fondi è particolarmente interessante per la conservazione del basolato 
 originale che testimonia l'abilità dei costruttori romani. Attraversando 
 il Parco Naturale dei Monti Aurunci\, il percorso offre una vista su colli
 ne ondulate e la tipica vegetazione mediterranea. I resti delle antiche 'm
 ansio'\, le stazioni di posta dove i viaggiatori potevano riposarsi e rifo
 cillarsi\, sono ancora visibili lungo la via\, come testimoni silenziosi d
 i un passato in cui la Via Appia era una delle principali arterie dell'Imp
 ero Romano. Inoltre\, questo tratto ha un significato storico aggiuntivo\,
  essendo stato il palcoscenico della resistenza di Michele Pezza\, meglio 
 conosciuto come Frà Diavolo\, contro l'occupazione francese alla fine del
  XVIII secolo. La Via Appia non è solo un monumento all'ingegneria antica
 \, ma anche un corridoio attraverso il tempo\, che connette il presente co
 n le storie di coloro che l'hanno percorsa prima di noi.\n\nINDIRIZZO\nVia
  Appia Lato Itri\, km 125.8\, FONDI\, LT\n\nORARIO\nSabato: 10:00 - 13:00 
 / 14:00 - 17:00\nDomenica: 10:00 - 13:00 / 14:00 - 17:00 (ultimo ingresso 
 17:00)\n\nDURATA VISITA\n50 minuti
ATTACH;FMTTYPE=image/jpeg:https://lazioeventi.com/wp-content/uploads/2022/
 10/appia-antica-tratto-fondi-–-itri_201223.jpg
CATEGORIES:Arte e Cultura nel Lazio,Giornate FAI
LOCATION:Fondi\, Comune di Fondi\, Fondi\, Latina\, Lazio\, Italia
GEO:41.3569;13.431
X-APPLE-STRUCTURED-LOCATION;VALUE=URI;X-ADDRESS=Comune di Fondi\, Fondi\, L
 atina\, Lazio\, Italia;X-APPLE-RADIUS=100;X-TITLE=Fondi:geo:41.3569,13.431
END:VEVENT
BEGIN:VTIMEZONE
TZID:Europe/Rome
X-LIC-LOCATION:Europe/Rome
BEGIN:DAYLIGHT
DTSTART:20240331T030000
TZOFFSETFROM:+0100
TZOFFSETTO:+0200
TZNAME:CEST
END:DAYLIGHT
END:VTIMEZONE
END:VCALENDAR