BEGIN:VCALENDAR
VERSION:2.0
PRODID:-//wp-events-plugin.com//7.2.3.1//EN
TZID:Europe/Rome
X-WR-TIMEZONE:Europe/Rome
BEGIN:VEVENT
UID:40796@lazioeventi.com
DTSTART:20250223T153000Z
DTEND:20250223T170000Z
DTSTAMP:20250219T110655Z
URL:https://lazioeventi.com/eventi/giovannin-senza-parole
SUMMARY:Giovannin senza parole - Roma - 23 Febbraio 25 16:30
DESCRIPTION:Arriva da Taranto il prossimo spettacolo della rassegna Infanzi
 e in gioco 2024-25 a Centrale Preneste Teatro (Via Alberto da Giussano\, 5
 8 - Roma): domenica 23 febbraio alle ore 16.30 la compagnia Crest porta in
  scena “Giovannin senza parole”. La drammaturgia è di Catia Caramia\,
  la regia e le scene sono di Andrea Bettaglio\, sul palco ci sono Nicolò 
 Antioco Ximenes\, Andrea Bettaglio\, Catia Caramia e Nicolò Toschi.\n\nEs
 iste un paese\, dove la prima grande regola è obbedire agli ordini del su
 o Capo\, padrone anche della grande officina delle parole\, che corregge a
  proprio piacimento. Questo è un grande giorno\, il Capo ha deciso di far
 e un discorso ai suoi sudditi. Quali nuove regole li attendono? Ma l’imp
 revisto\, si sa\, è in agguato anche quando gli ordini sembrano regolare 
 a perfezione ogni cosa. Infatti\, un giorno arriva nel paese un giovane\, 
 che le regole non sa. La storia in scena è un apologo buffo pensato per i
  ragazzi e per i ragazzi che siamo stati. Viene affrontato il tema delicat
 o dell’esercizio della forza attraverso la parola\, osservandolo con gli
  occhi innocenti di un ragazzo che\, grazie ai suoi “errori”\, trasfor
 merà l’intero paese. Perché\, si sa\, gli errori sono solo un tentativ
 o di fare quello che non si sa.\n\nIl lavoro d’attore si mescola al lavo
 ro sul clown\, alla manipolazione di oggetti e alla musica dal vivo\, per 
 accompagnare con leggerezza questa sorta di viaggio dal buio alla luce\, r
 estituendo ai personaggi e al loro sogno di libertà la dolcezza scanzonat
 a del clown.\n\nAdatto dai 5 anni. Il costo del biglietto è per tutti di 
 7 euro. Acquisto esclusivamente on-line su www.centraleprenesteteatro.it/c
 alendario-eventi o in biglietteria il giorno dello spettacolo dalle ore 16
 .00 previa disponibilità dei posti.\n\n \n\nGiovannin senza parole\nCrest
 \nDrammaturgia: Catia Caramia\nRegia e scene: Andrea Bettaglio\nCon Nicol
 ò Antioco Ximenes\, Andrea Bettaglio\, Catia Caramia\, Nicolò Toschi\nMu
 siche: Nicolò Toschi\nCostumi: Maria Martinese\nDisegno luci: Michelangel
 o Campanale\nDisegno del suono: Roberto Cupertino\nAiuto regia: Catia Cara
 mia\nResponsabile di produzione: Sandra Novellino\nTecnico luci: Vito Marr
 a\n\n \n\nBiglietto unico: 7.00 € - Acquisto solo on-line su www.central
 eprenesteteatro.it/calendario-eventi o in biglietteria il giorno dello spe
 ttacolo dalle ore 16.00 previa disponibilità dei posti.\nInformazioni: 06
  27801063 lun / ven 10.00 – 17.00 - info@ruotalibera.eu - www.centralepr
 enesteteatro.it\n\nPagina Facebook: www.facebook.com/CentralePrenesteTeatr
 o\nPagina Instagram: www.instagram.com/centralepreneste/\n
ATTACH;FMTTYPE=image/jpeg:https://lazioeventi.com/wp-content/uploads/2025/
 02/Giovannin-senza-parole_Ph-Tea-Primiterra-3.jpg
CATEGORIES:Musica, Spettacoli e Danza nel Lazio
LOCATION:Roma\, Via Leopardi\, Roma\, Roma\, Lazio\, Italia
GEO:41.8942;12.5017
X-APPLE-STRUCTURED-LOCATION;VALUE=URI;X-ADDRESS=Via Leopardi\, Roma\, Roma\
 , Lazio\, Italia;X-APPLE-RADIUS=100;X-TITLE=Roma:geo:41.8942,12.5017
END:VEVENT
END:VCALENDAR