BEGIN:VCALENDAR
VERSION:2.0
PRODID:-//wp-events-plugin.com//7.2.3.1//EN
TZID:Europe/Rome
X-WR-TIMEZONE:Europe/Rome
BEGIN:VEVENT
UID:43182@lazioeventi.com
DTSTART;TZID=Europe/Rome:20251130T173000
DTEND;TZID=Europe/Rome:20251130T193000
DTSTAMP:20251124T102701Z
URL:https://lazioeventi.com/eventi/giradischi-e-papillon-show
SUMMARY:Giradischi e Papillon Show - Roma - 30 Novembre 25 17:30
DESCRIPTION:Con: Franco Ventura alla chitarra e Roberto Rocchetti al pi
 anoforte\n\nPer celebrare i 15 anni del loro sodalizio artistico\, Attili
 o Fontana ed Emiliano Reggente tornano in scena con lo spettacolo simbo
 lo della loro intesa: Giradischi e Papillon\, frutto del loro estro e d
 ella loro complicità teatrale\, per far rivivere al pubblico quella magic
 a armonia di talento\, musica e divertimento che li accompagna fin dal pri
 mo incontro.\n\nUno spettacolo di classe tra musica e comicità frutto di 
 oltre dieci anni di collaborazione e numerosi successi teatrali\, lo spett
 acolo firmato dalla coppia Fontana-Reggente è una commedia musicale che u
 nisce eleganza e ironia\, senza mai ricorrere alla volgarità.\n\nTra canz
 oni e musiche inedite\, lo spettacolo rievoca le atmosfere scintillanti di
  Studio Uno e la comicità irresistibile del duo Dean Martin &amp\; Jerr
 y Lewis\, reinterpretate con uno sguardo contemporaneo e un linguaggio vic
 ino alla sensibilità di oggi.\n\nIl ritmo\, la leggerezza e l’ironia si
  fondono in un equilibrio perfetto tra tradizione e modernità\, creando u
 n intrattenimento dal sapore vintage ma dall’anima sorprendentemente att
 uale.\n\nUno dei momenti più attesi è l’inserimento\, perfettamente in
 tegrato nella drammaturgia\, delle celebri imitazioni con cui Attilio Fon
 tana (ex componente della boy band I Ragazzi Italiani) ha conquistato i
 l pubblico e la critica a Tale e Quale Show. Queste incursioni\, mai fini
  a sé stesse\, si trasformano in veri e propri numeri di teatro-canzone\,
  che amplificano il gioco scenico e mettono in luce la straordinaria versa
 tilità dell’artista.\n\nUn’esperienza coinvolgente che fonde talento\
 , musica e divertimento in un perfetto equilibrio tra passato e presente\,
  dando vita a uno spettacolo capace di trascinare e conquistare il pubblic
 o dall’inizio alla fine.\n\nOrari botteghino: dal lunedì al sabato da
 lle ore 16.00 alle 20.00
ATTACH;FMTTYPE=image/jpeg:https://lazioeventi.com/wp-content/uploads/2025/
 11/Locandina-AE.jpg
CATEGORIES:Musica, Spettacoli e Danza nel Lazio
LOCATION:Roma\, Via Leopardi\, Roma\, Roma\, Lazio\, Italia
GEO:41.8942;12.5017
X-APPLE-STRUCTURED-LOCATION;VALUE=URI;X-ADDRESS=Via Leopardi\, Roma\, Roma\
 , Lazio\, Italia;X-APPLE-RADIUS=100;X-TITLE=Roma:geo:41.8942,12.5017
END:VEVENT
BEGIN:VTIMEZONE
TZID:Europe/Rome
X-LIC-LOCATION:Europe/Rome
BEGIN:STANDARD
DTSTART:20251026T020000
TZOFFSETFROM:+0200
TZOFFSETTO:+0100
TZNAME:CET
END:STANDARD
END:VTIMEZONE
END:VCALENDAR