BEGIN:VCALENDAR
VERSION:2.0
PRODID:-//wp-events-plugin.com//7.2.3.1//EN
TZID:Europe/Rome
X-WR-TIMEZONE:Europe/Rome
BEGIN:VEVENT
UID:32783@lazioeventi.com
DTSTART;TZID=Europe/Rome;VALUE=DATE:20250927
DTEND;TZID=Europe/Rome;VALUE=DATE:20250929
DTSTAMP:20250920T080305Z
URL:https://lazioeventi.com/eventi/giramonte
SUMMARY:GiraMonte - Monte San Giovanni Campano - 27 Settembre 25 00:00
DESCRIPTION:Il 27 e 28 settembre 2025 a Monte San Giovanni Campano\, torna 
 la terza edizione dell’evento più atteso di Giramonte\, tra i suggestiv
 i vicoli del nostro centro storico!\n\nSarà un’esperienza unica\, piena
  di sorprese e meraviglie che non vorrete perdere.\n\nNon mancate\, vi asp
 ettiamo per festeggiare insieme!
ATTACH;FMTTYPE=image/jpeg:https://lazioeventi.com/wp-content/uploads/2022/
 10/giramonte2025.webp
CATEGORIES:Sagre, Gastronomia e Tradizioni nel Lazio,Musica, Spettacoli e
 Danza nel Lazio
LOCATION:Monte San Giovanni Campano\, Comune di Monte San Giovanni Campano\
 , Monte San Giovanni Campano\, Frosinone\, Lazio\, Italia
GEO:41.6401;13.5154
X-APPLE-STRUCTURED-LOCATION;VALUE=URI;X-ADDRESS=Comune di Monte San Giovann
 i Campano\, Monte San Giovanni Campano\, Frosinone\, Lazio\, Italia;X-APPL
 E-RADIUS=100;X-TITLE=Monte San Giovanni Campano:geo:41.6401,13.5154
END:VEVENT
BEGIN:VTIMEZONE
TZID:Europe/Rome
X-LIC-LOCATION:Europe/Rome
BEGIN:DAYLIGHT
DTSTART:20250330T030000
TZOFFSETFROM:+0100
TZOFFSETTO:+0200
TZNAME:CEST
END:DAYLIGHT
END:VTIMEZONE
END:VCALENDAR