BEGIN:VCALENDAR
VERSION:2.0
PRODID:-//wp-events-plugin.com//7.2.3.1//EN
TZID:Europe/Rome
X-WR-TIMEZONE:Europe/Rome
BEGIN:VEVENT
UID:32308@lazioeventi.com
DTSTART;TZID=Europe/Rome:20220917T180000
DTEND;TZID=Europe/Rome:20220917T230000
DTSTAMP:20220913T080835Z
URL:https://lazioeventi.com/eventi/gonfalone-del-gusto-arcese
SUMMARY:Gonfalone del Gusto Arcese - Arce - 17 Settembre 22 18:00
DESCRIPTION:Sabato 17 Settembre 2022 ad Arce in piazza Umberto I appuntamen
 to con la seconda edizione del Gonfalone del Gusto Arcese competizione tra
  contrade. \n\nAlle 18:00 premio miglior olio\, alle 19:00 il premio migli
 or vino e alle 20:00 miglior piatto di fettuccine. \n\nDalle ore 20:00 ci 
 sarà una stand gastronomico con cui si potranno degustare prodotti tipici
 \, alle 21:00 concerto spettacolo dei dissonanti con balli e musica popola
 re.
ATTACH;FMTTYPE=image/jpeg:https://lazioeventi.com/wp-content/uploads/2022/
 09/gonfalone-arcese.jpg
CATEGORIES:Sagre, Gastronomia e Tradizioni nel Lazio,Sport, Tempo Libero e
 Divertimento nel Lazio
LOCATION:Arce\, Comune\, Arce\, Frosinone\, Lazio\, Italia
GEO:41.5881;13.5725
X-APPLE-STRUCTURED-LOCATION;VALUE=URI;X-ADDRESS=Comune\, Arce\, Frosinone\,
  Lazio\, Italia;X-APPLE-RADIUS=100;X-TITLE=Arce:geo:41.5881,13.5725
END:VEVENT
BEGIN:VTIMEZONE
TZID:Europe/Rome
X-LIC-LOCATION:Europe/Rome
BEGIN:DAYLIGHT
DTSTART:20220327T030000
TZOFFSETFROM:+0100
TZOFFSETTO:+0200
TZNAME:CEST
END:DAYLIGHT
END:VTIMEZONE
END:VCALENDAR