BEGIN:VCALENDAR
VERSION:2.0
PRODID:-//wp-events-plugin.com//7.2.3.1//EN
TZID:Europe/Rome
X-WR-TIMEZONE:Europe/Rome
BEGIN:VEVENT
UID:29676@lazioeventi.com
DTSTART;TZID=Europe/Rome:20211230T180000
DTEND;TZID=Europe/Rome:20211230T193000
DTSTAMP:20211228T183804Z
URL:https://lazioeventi.com/eventi/gran-concerto-di-fine-anno
SUMMARY:Gran concerto di Fine Anno - Jenne - 30 Dicembre 21 18:00
DESCRIPTION:Torna il Gran concerto di Fine Anno a Jenne.\n\nL’appuntament
 o è  per Giovedì 30 dicembre 2021 alle ore 18.00 nella suggestiva corni
 ce della Chiesa di Sant’Andrea Apostolo in Jenne.\n\nL’iniziativa è o
 rganizzata dal Comune di Jenne in collaborazione con la regione Lazio.\n\n
 “Per garantire la fruizione in tranquillità e sicurezza – spiega il s
 indaco Giorgio Pacchiarotti – forniremo gratuitamente all’ingresso mas
 cherine FFP2 certificate e saranno inoltre osservate tutte le normative an
 ticovid. Con questo concerto\, vogliamo comunque regalarci l’ascolto di 
 buona musica e salutare il nuovo anno sperando che sia migliore per tutti.
 ”
ATTACH;FMTTYPE=image/jpeg:https://lazioeventi.com/wp-content/uploads/2021/
 12/concerto-di-fine-anno-2021-jenne.jpg
CATEGORIES:Musica, Spettacoli e Danza nel Lazio
LOCATION:Jenne\, Comune\, Jenne\, Roma\, Lazio\, Italia
GEO:41.8876;13.1677
X-APPLE-STRUCTURED-LOCATION;VALUE=URI;X-ADDRESS=Comune\, Jenne\, Roma\, Laz
 io\, Italia;X-APPLE-RADIUS=100;X-TITLE=Jenne:geo:41.8876,13.1677
END:VEVENT
BEGIN:VTIMEZONE
TZID:Europe/Rome
X-LIC-LOCATION:Europe/Rome
BEGIN:STANDARD
DTSTART:20211031T020000
TZOFFSETFROM:+0200
TZOFFSETTO:+0100
TZNAME:CET
END:STANDARD
END:VTIMEZONE
END:VCALENDAR