BEGIN:VCALENDAR
VERSION:2.0
PRODID:-//wp-events-plugin.com//7.2.3.1//EN
TZID:Europe/Rome
X-WR-TIMEZONE:Europe/Rome
BEGIN:VEVENT
UID:31639@lazioeventi.com
DTSTART;TZID=Europe/Rome:20220716T183000
DTEND;TZID=Europe/Rome:20220716T213000
DTSTAMP:20220712T165525Z
URL:https://lazioeventi.com/eventi/gran-finale-di-paesaggi-del-corpo-festi
 val
SUMMARY:Gran finale di Paesaggi del Corpo Festival - Velletri - 16 Luglio 2
 2 18:30
DESCRIPTION:Il gran finale di 𝗣𝗮𝗲𝘀𝗮𝗴𝗴𝗶 𝗱𝗲𝗹
  𝗖𝗼𝗿𝗽𝗼 - 𝗙𝗲𝘀𝘁𝗶𝘃𝗮𝗹 𝗜𝗻𝘁𝗲
 𝗿𝗻𝗮𝘇𝗶𝗼𝗻𝗮𝗹𝗲 𝗗𝗮𝗻𝘇𝗮 𝗖𝗼𝗻
 𝘁𝗲𝗺𝗽𝗼𝗿𝗮𝗻𝗲𝗮\, è previsto il 16 luglio con la
  presentazione\, presso la 𝗖𝗮𝘀𝗮 𝗱𝗲𝗹𝗹𝗲 𝗖𝘂
 𝗹𝘁𝘂𝗿𝗲 𝗲 𝗱𝗲𝗹𝗹𝗮 𝗠𝘂𝘀𝗶𝗰𝗮 a 
 𝗩𝗲𝗹𝗹𝗲𝘁𝗿𝗶 (RM)\, di tre spettacoli e performance 
 𝘴𝘪𝘵𝘦 𝘴𝘱𝘦𝘤𝘪𝘧𝘪𝘤 al debutto assoluto in I
 talia a cura di 𝗖𝗼𝗺𝗽𝗮𝗴𝗻𝗶𝗮 𝗔𝘁𝗮𝗰𝗮
 𝗺𝗮\, 𝗥𝗲𝘀𝗘𝘅𝘁𝗲𝗻𝘀𝗮 𝗗𝗮𝗻𝗰𝗲 
 𝗖𝗼𝗺𝗽𝗮𝗻𝘆\, 𝗚𝗶𝗼𝘃𝗮𝗻𝗻𝗮 𝗥𝗼
 𝘃𝗲𝗱𝗼 e 𝗦𝗵𝗮𝗿𝗼𝗻 𝗘𝘀𝘁𝗮𝗰𝗶𝗼.\
 n\nProsegue la lunga tournée estiva in italia e in Europa di 𝗔𝘁𝗮
 𝗰𝗮𝗺𝗮\, compagnia di danza riconosciuta dal MiC - Ministero del
 la Cultura e diretta da 𝗣𝗮𝘁𝗿𝗶𝘇𝗶𝗮 𝗖𝗮𝘃𝗼
 𝗹𝗮 𝗲 𝗜𝘃𝗮𝗻 𝗧𝗿𝘂𝗼𝗹\, che a Velletri prese
 nta 𝘋𝘢𝘯𝘻𝘦 𝘴𝘱𝘦𝘤𝘪𝘧𝘪𝘤 𝘱𝘦𝘳 
 𝘭𝘢 𝘊𝘢𝘴𝘢 𝘥𝘦𝘭𝘭𝘦 𝘊𝘶𝘭𝘵𝘶𝘳
 𝘦 𝘦 𝘥𝘦𝘭𝘭𝘢 𝘔𝘶𝘴𝘪𝘤𝘢\, una creazione 
 𝘴𝘪𝘵𝘦 𝘴𝘱𝘦𝘤𝘪𝘧𝘪𝘤 al debutto assoluto che 
 rende omaggio ai luoghi densi di fascino e suggestioni della struttura sei
 centesca dell’ex Convento del Carmine\, in un percorso itinerante dove l
 e danze animeranno e attraverseranno: l'Auditorium\, il Chiostro\, i Porti
 ci\, il Giardino con il colonnato ottocentesco e le aree verdi\, la Sala d
 egli affreschi.\n\nNata grazie al sostegno di Carolyn Carlson\, Susanne Li
 nke\, Danio Manfredini\, Urs Dietrich\, in seno all’esperienza Accademia
  Isola Danza\, la Biennale di Venezia\, 𝗥𝗲𝘀𝗘𝘅𝘁𝗲𝗻
 𝘀𝗮 𝗗𝗮𝗻𝗰𝗲 𝗖𝗼𝗺𝗽𝗮𝗻𝘆\, compagnia di 
 danza riconosciuta dal MiC - Ministero della Cultura\, arriva a Velletri d
 opo aver presentato e creato spettacoli in Italia\, Europa\, India\, Brasi
 le\, Kenya\, Stati Uniti\, Cina\, Tunisia. In 𝘗𝘶𝘻𝘻𝘭𝘦\, c
 reazione artistica di 𝗘𝗹𝗶𝘀𝗮 𝗕𝗮𝗿𝘂𝗰𝗰𝗵
 𝗶𝗲𝗿𝗶\, la compagnia prende ispirazione dai lavori di Calvino. 
 Una serie di racconti specifici e personali\, che traggono spunto dallo st
 esso numero finito di elementi\, per moltiplicarsi in infinite storie nuov
 e e differenti e creare un labirinto di voci e narrazioni in danza.\n\nLa 
 giornata del 16 luglio continua con 𝘖𝘳𝘤𝘩𝘦𝘴𝘵𝘳𝘢
 𝘵𝘪𝘯𝘨 𝘚𝘱𝘢𝘤𝘦𝘴 di 𝗚𝗶𝗼𝘃𝗮𝗻𝗻
 𝗮 𝗥𝗼𝘃𝗲𝗱𝗼\, danzatrice\, autrice e antropologa che ha 
 presentato i suoi lavori in Europa\, Asia e America e 𝗦𝗵𝗮𝗿𝗼
 𝗻 𝗘𝘀𝘁𝗮𝗰𝗶𝗼\, dance artist newyorkese di origini fil
 ippine laureata alla NYU/ Tisch School of the Arts dove ha ricevuto il pre
 mio JS Seidman. Orchestrating Spaces prende piede da un'indagine sull’id
 entità contemporanea\, i suoi continui adattamenti riferiti a confini geo
 grafici e culturali\, e si sposta sul concetto dell’abitare e sul rappor
 to tra spazio\, movimento\, ruolo sociale\, identità e alterità. Una cop
 roduzione 𝗖𝗮𝗿𝗼𝘃𝗮𝗻𝗮 𝗦.𝗠.𝗜. 𝗲 𝗔𝘀
 𝘀. 𝗔𝘁𝗮𝗰𝗮𝗺𝗮 𝗢𝗻𝗹𝘂𝘀.\n\nIl Festival è
  realizzato dall’associazione culturale 𝗟𝗮 𝗦𝗰𝗮𝘁𝗼
 𝗹𝗮 𝗱𝗲𝗹𝗹’𝗔𝗿𝘁𝗲\, sotto la Direzione artistic
 a di 𝗣𝗮𝘁𝗿𝗶𝘇𝗶𝗮 𝗖𝗮𝘃𝗼𝗹𝗮\, con il co
 ntributo di 𝗠𝗶𝗖 - 𝗠𝗶𝗻𝗶𝘀𝘁𝗲𝗿𝗼 𝗱𝗲
 𝗹𝗹𝗮 𝗖𝘂𝗹𝘁𝘂𝗿𝗮 𝗲 𝗥𝗲𝗴𝗶𝗼𝗻
 𝗲 𝗟𝗮𝘇𝗶𝗼\, in collaborazione con 𝗙𝗢𝗡𝗗𝗔𝗥
 𝗖 𝗙𝗼𝗻𝗱𝗮𝘇𝗶𝗼𝗻𝗲 𝗱𝗶 𝗣𝗮𝗿𝘁
 𝗲𝗰𝗶𝗽𝗮𝘇𝗶𝗼𝗻𝗲 𝗔𝗿𝘁𝗲 𝗲 𝗖𝘂
 𝗹𝘁𝘂𝗿𝗮 𝗖𝗶𝘁𝘁𝗮̀ 𝗱𝗶 𝗩𝗲𝗹𝗹𝗲
 𝘁𝗿𝗶 e con il patrocinio del 𝗖𝗼𝗺𝘂𝗻𝗲 𝗱𝗶 
 𝗩𝗲𝗹𝗹𝗲𝘁𝗿𝗶.\n\nPer info e prenotazioni scrivere a in
 fo@paesaggidelcorpo.it. La biglietteria è aperta 𝘪𝘯 𝘭𝘰𝘤
 𝘰 due ore prima degli spettacoli. Il programma completo del Festival è
  su: 𝗽𝗮𝗲𝘀𝗮𝗴𝗴𝗶𝗱𝗲𝗹𝗰𝗼𝗿𝗽𝗼.𝗶
 𝘁\n\n&nbsp\;\n\n𝗣𝗥𝗢𝗚𝗥𝗔𝗠𝗠𝗔 𝟭𝟲 𝗹𝘂
 𝗴𝗹𝗶𝗼 - 𝗣𝗔𝗘𝗦𝗔𝗚𝗚𝗜 𝗗𝗘𝗟 𝗖𝗢
 𝗥𝗣𝗢 𝟮𝟬𝟮𝟮\n\n𝗖𝗔𝗦𝗔 𝗗𝗘𝗟𝗟𝗘 
 𝗖𝗨𝗟𝗧𝗨𝗥𝗘 𝗘 𝗗𝗘𝗟𝗟𝗔 𝗠𝗨𝗦𝗜
 𝗖𝗔\n\n𝟭𝟲 𝗹𝘂𝗴𝗹𝗶𝗼 𝗵 𝟭𝟴:𝟯𝟬\n\n&n
 bsp\;\n\n𝗖𝗢𝗠𝗣𝗔𝗚𝗡𝗜𝗔 𝗔𝗧𝗔𝗖𝗔𝗠𝗔
  “𝗗𝗮𝗻𝘇𝗲 𝘀𝗽𝗲𝗰𝗶𝗳𝗶𝗰 𝗽𝗲𝗿 
 𝗹𝗮 𝗖𝗮𝘀𝗮 𝗱𝗲𝗹𝗹𝗲 𝗖𝘂𝗹𝘁𝘂𝗿
 𝗲 𝗲 𝗱𝗲𝗹𝗹𝗮 𝗠𝘂𝘀𝗶𝗰𝗮”\n\nPREMIERE 202
 2\n\nIdeazione\, Coreografia\, Regia: Patrizia Cavola - Ivan Truol\n\nCon:
  Nicholas Baffoni\, Andrea Di Matteo\, Valeria Loprieno\, Camilla Perugini
 \, Antonio Taurino\n\nMusiche Originali e dal vivo: Epsilon Indi\n\nProduz
 ione: Atacama\n\nCon il contributo di: MIC\n\n&nbsp\;\n\n𝗥𝗘𝗦𝗘
 𝗫𝗧𝗘𝗡𝗦𝗔 𝗗𝗔𝗡𝗖𝗘 𝗖𝗢𝗠𝗣𝗔𝗡𝗬
  “𝗣𝘂𝘇𝘇𝗹𝗲”\n\nPREMIERE 2022\n\nIdeazione\, coreografi
 a e direzione: Elisa Barucchieri\n\nDanzatori Elisa Barucchieri\, Cassandr
 a Bianco\, Andrea Biagioni\, Moreno Guadalupi\n\nMusica AAVV – a cura di
  Elisa Barucchieri\, consulenza Gianvincenzo Cresta\n\n&nbsp\;\n\n𝗚𝗜
 𝗢𝗩𝗔𝗡𝗡𝗔 𝗥𝗢𝗩𝗘𝗗𝗢 - 𝗦𝗛𝗔𝗥𝗢
 𝗡 𝗘𝗦𝗧𝗔𝗖𝗜𝗢 /𝗔𝘀𝘀. 𝗖𝘂𝗹𝘁. 𝗔
 𝘁𝗮𝗰𝗮𝗺𝗮 𝗢𝗻𝗹𝘂𝘀 “𝗢𝗿𝗰𝗵𝗲𝘀
 𝘁𝗿𝗮𝘁𝗶𝗻𝗴 𝗦𝗽𝗮𝗰𝗲𝘀”\n\nPREMIERE 2022\
 n\nUn progetto di Sharon Estacio e Giovanna Rovedo\n\ncoproduzione Carovan
 a S.M.I. e Ass. Atacama Onlus\n\nelaborazione sonora AnzwArt\n\ncon il sos
 tegno di Company Blu (Art.43) e CSS Dialoghi - Residenze delle Arti Perfor
 mative a Villa Manin\n\n&nbsp\;\n\npaesaggidelcorpo.it\n\n𝗳𝗮𝗰𝗲
 𝗯𝗼𝗼𝗸 | 𝗶𝗻𝘀𝘁𝗮𝗴𝗿𝗮𝗺: paesaggidelcorpo\
 n\ninfo@paesaggidelcorpo.it
ATTACH;FMTTYPE=image/jpeg:https://lazioeventi.com/wp-content/uploads/2022/
 07/16-Luglio-ResExtensaPuzzle.jpg
CATEGORIES:Musica, Spettacoli e Danza nel Lazio
LOCATION:Velletri\, Comune\, Velletri\, Roma\, Lazio\, Italia
GEO:41.6865;12.7776
X-APPLE-STRUCTURED-LOCATION;VALUE=URI;X-ADDRESS=Comune\, Velletri\, Roma\, 
 Lazio\, Italia;X-APPLE-RADIUS=100;X-TITLE=Velletri:geo:41.6865,12.7776
END:VEVENT
BEGIN:VTIMEZONE
TZID:Europe/Rome
X-LIC-LOCATION:Europe/Rome
BEGIN:DAYLIGHT
DTSTART:20220327T030000
TZOFFSETFROM:+0100
TZOFFSETTO:+0200
TZNAME:CEST
END:DAYLIGHT
END:VTIMEZONE
END:VCALENDAR