BEGIN:VCALENDAR
VERSION:2.0
PRODID:-//wp-events-plugin.com//7.2.3.1//EN
TZID:Europe/Rome
X-WR-TIMEZONE:Europe/Rome
BEGIN:VEVENT
UID:43083@lazioeventi.com
DTSTART;TZID=Europe/Rome:20251213T150000
DTEND;TZID=Europe/Rome:20251213T200000
DTSTAMP:20251113T082126Z
URL:https://lazioeventi.com/eventi/guarcino-al-tempo-del-malpensa
SUMMARY:Guarcino al tempo del Malpensa - Guarcino - 13 Dicembre 25 15:00
DESCRIPTION:Un tuffo nel Medioevo per celebrare l'eroe della città\n\nSaba
 to 13 dicembre\, il borgo di Guarcino ospita una grande rievocazione stori
 ca con mercati\, spettacoli e antichi mestieri per onorare il leggendario 
 milite che salvò il paese.\n\nIl Comune di Guarcino si prepara a rivivere
  le sue antiche origini con l'evento "Guarcino al tempo del Malpensa"\, un
  pomeriggio interamente dedicato al Medioevo. L'appuntamento è fissato pe
 r sabato 13 dicembre 2025\, dalle ore 15:00 alle ore 20:00.\n\nL'iniziativ
 a nasce con l'intento di rinnovare il ricordo del leggendario milite Malpe
 nsa\, figura eroica a cui la tradizione attribuisce la salvezza del paese.
 \n\nPer l'occasione\, le vie di Guarcino si trasformeranno\, offrendo ai v
 isitatori un'autentica immersione nella storia. Il programma prevede:\n\n 
 	Rievocazioni storiche e scorci di vita quotidiana medievale\n 	Un mercato
  storico\n 	Dimostrazioni di antiche arti e mestieri\n 	Spettacoli\, music
 a e danze a tema\n\nUn'occasione unica per cittadini e turisti di vivere u
 n pomeriggio suggestivo\, tra cultura\, storia e intrattenimento\, in uno 
 dei borghi più caratteristici della Ciociaria.\n\nL'evento è organizzato
  dal Comune di Guarcino\, con il patrocinio della Regione Lazio e la parte
 cipazione della Pro Loco Guarcino-Campocatino e dell'UNPLI.\n\n&nbsp\;\n\n
 &nbsp\;\n\nPer informazioni: Comune di Guarcino Email: COMUNEGUARCINO@LIBE
 RO.IT Tel: 0775 46007
ATTACH;FMTTYPE=image/jpeg:https://lazioeventi.com/wp-content/uploads/2025/
 11/guarcino-feudo.jpg
CATEGORIES:Sagre, Gastronomia e Tradizioni nel Lazio
LOCATION:Guarcino\, Comune\, Guarcino\, Frosinone\, Lazio\, Italia
GEO:41.7997;13.314
X-APPLE-STRUCTURED-LOCATION;VALUE=URI;X-ADDRESS=Comune\, Guarcino\, Frosino
 ne\, Lazio\, Italia;X-APPLE-RADIUS=100;X-TITLE=Guarcino:geo:41.7997,13.314
END:VEVENT
BEGIN:VTIMEZONE
TZID:Europe/Rome
X-LIC-LOCATION:Europe/Rome
BEGIN:STANDARD
DTSTART:20251026T020000
TZOFFSETFROM:+0200
TZOFFSETTO:+0100
TZNAME:CET
END:STANDARD
END:VTIMEZONE
END:VCALENDAR