BEGIN:VCALENDAR
VERSION:2.0
PRODID:-//wp-events-plugin.com//7.2.3.1//EN
TZID:Europe/Rome
X-WR-TIMEZONE:Europe/Rome
BEGIN:VEVENT
UID:29535@lazioeventi.com
DTSTART;TZID=Europe/Rome;VALUE=DATE:20211218
DTEND;TZID=Europe/Rome;VALUE=DATE:20211220
DTSTAMP:20211213T162858Z
URL:https://lazioeventi.com/eventi/gustiamo-il-territorio
SUMMARY:GustiAmo il territorio - Sacrofano - 18 Dicembre 21 00:00
DESCRIPTION:La manifestazione “GustiAmo il territorio” intende valorizz
 are e favorire il consumo delle eccellenze agroalimentari del Lazio e nell
 o specifico valorizzare i prodotti agricoli\, agroalimentari ed enogastron
 omici del nostro territorio.\n\nValorizzare le produzioni tipiche e tradiz
 ionali\, esaltandone il loro legame con il luogo e la stretta relazione co
 n la storia e la cultura delle nostre comunità locali\n\n18 e 19 dicembre
  2021 SACROFANO (RM) – via dello Stadio e Piazza del Mercato\n\nL’even
 to gratuito e aperto a tutti è stato pensato per promuovere e valorizzare
  i prodotti agricoli ed il patrimonio enogastronomico laziale.\nAttraverso
  il coinvolgimento delle aziende agricole e dei produttori territoriali\, 
 promuoviamo le tipicità e le tradizioni del Parco di VEIO.\n\n 	Laborator
 i esperienziali\n 	Convegni formativi\n 	Degustazioni di prodotti tipici\n
 \nLa manifestazione è organizzata da CIAO LAB​ con il finanziamento di 
 ARSIAL​ – Agenzia Regionale per lo Sviluppo e l’Innovazione dell’A
 gricoltura del Lazio\, con il patrocinio gratuito del Comune di Sacrofano
 ​ e dell’Ente Regionale Parco di Veio e dell’Università Agraria di 
 Sacrofano.\n\nIn collaborazione con Orto di Roma Parsec Agri Cultura​\, 
 Associazione Teoremi.net\, Associazione SiAmo Sacrofano​ e di numerose a
 ziende locali.
ATTACH;FMTTYPE=image/jpeg:https://lazioeventi.com/wp-content/uploads/2021/
 12/Gustiamo-il-territorio.jpg
CATEGORIES:Sagre, Gastronomia e Tradizioni nel Lazio
LOCATION:Sacrofano\, Comune di Sacrofano\, Sacrofano\, Roma\, Lazio\, Itali
 a
GEO:42.1061;12.4476
X-APPLE-STRUCTURED-LOCATION;VALUE=URI;X-ADDRESS=Comune di Sacrofano\, Sacro
 fano\, Roma\, Lazio\, Italia;X-APPLE-RADIUS=100;X-TITLE=Sacrofano:geo:42.1
 061,12.4476
END:VEVENT
BEGIN:VTIMEZONE
TZID:Europe/Rome
X-LIC-LOCATION:Europe/Rome
BEGIN:STANDARD
DTSTART:20211031T020000
TZOFFSETFROM:+0200
TZOFFSETTO:+0100
TZNAME:CET
END:STANDARD
END:VTIMEZONE
END:VCALENDAR