BEGIN:VCALENDAR
VERSION:2.0
PRODID:-//wp-events-plugin.com//7.2.3.1//EN
TZID:Europe/Rome
X-WR-TIMEZONE:Europe/Rome
BEGIN:VEVENT
UID:28908@lazioeventi.com
DTSTART;TZID=Europe/Rome:20211031T153000
DTEND;TZID=Europe/Rome:20211031T183000
DTSTAMP:20211027T104513Z
URL:https://lazioeventi.com/eventi/halloween-a-campagnano
SUMMARY:Halloween a Campagnano - Campagnano di Roma - 31 Ottobre 21 15:30
DESCRIPTION:Domenica 31 ottobre dalle 15:30 ci sarà tutto un programma spe
 ciale per tutti i bambini\, per festeggiare insieme HALLOWEEN 2021!\n\nAvr
 emo zucchero filato e pop corn\, il momento delle bolle di sapone e della 
 giocoleria\, musica\, palloncini per tutti i bambini e lo spettacolo del m
 angiafuoco!\n\nAppuntamento in piazza Regina Elena!\n\nCi sarà da diverti
 rsi!!!!
ATTACH;FMTTYPE=image/jpeg:https://lazioeventi.com/wp-content/uploads/2021/
 10/halloween-campagnano.jpg
CATEGORIES:Sport, Tempo Libero e Divertimento nel Lazio
LOCATION:Campagnano di Roma\, Comune di Campagnano di Roma\, Campagnano di 
 Roma\, Roma\, Lazio\, Italia
GEO:42.1405;12.38
X-APPLE-STRUCTURED-LOCATION;VALUE=URI;X-ADDRESS=Comune di Campagnano di Rom
 a\, Campagnano di Roma\, Roma\, Lazio\, Italia;X-APPLE-RADIUS=100;X-TITLE=
 Campagnano di Roma:geo:42.1405,12.38
END:VEVENT
BEGIN:VTIMEZONE
TZID:Europe/Rome
X-LIC-LOCATION:Europe/Rome
BEGIN:STANDARD
DTSTART:20211031T020000
TZOFFSETFROM:+0200
TZOFFSETTO:+0100
TZNAME:CET
END:STANDARD
END:VTIMEZONE
END:VCALENDAR