BEGIN:VCALENDAR
VERSION:2.0
PRODID:-//wp-events-plugin.com//7.2.3.1//EN
TZID:Europe/Rome
X-WR-TIMEZONE:Europe/Rome
BEGIN:VEVENT
UID:43963@lazioeventi.com
DTSTART;TZID=Europe/Rome:20260319T210000
DTEND;TZID=Europe/Rome:20260321T223000
DTSTAMP:20260309T100117Z
URL:https://lazioeventi.com/eventi/hamlet-in-purple
SUMMARY:Hamlet in purple - Roma - 19 Marzo 26 21:00
DESCRIPTION:In un tempo in cui la parola pubblica si è svuotata progressiv
 amente di senso e gli spazi collettivi si desertificano\, un attore solo i
 n scena\, una marionetta\, cinque burattini e un musicista dal vivo riapro
 no la domanda che Shakespeare pose quattro secoli fa: non più essere o no
 n essere\, ma che cosa può essere il teatro quando tutto sembra finito.\n
 Tra parola poetica\, teatro di figura e drammaturgia sonora\, dal 19 al 21
  marzo all’Angelo Mai di Roma va in scena Hamlet in purple firmato da Va
 lentino Mannias\, che cura traduzione\, regia e drammaturgia di una riduzi
 one dell’Amleto di William Shakespeare. Un’indagine radicale sulla fun
 zione del teatro oggi\, sulla crisi e sulla sua possibile rinascita\, attr
 averso una nuova traduzione in endecasillabi che restituisce alla parola s
 hakespeariana una tensione ritmica e politica insieme. \n\nMannias\, insig
 nito del Premio Hystrio alla Vocazione nel 2015\, del Premio Franco Enriqu
 ez nel 2018 e del Premio Ubu nel 2024\, costruisce uno spettacolo che assu
 me Amleto come metafora dell’attore e\, più in profondità\, del teatro
  stesso: una figura sospesa tra dovere e desiderio\, tra rappresentazione 
 e realtà\, chiamata a parlare dentro un sistema che sembra non avere più
  ascolto. In questa prospettiva\, il testo shakespeariano diventa un dispo
 sitivo critico attraverso cui interrogare il ruolo dell’arte come strume
 nto di resistenza al potere e come spazio fragile ma necessario di pensier
 o collettivo.\n\nIl teatro di figura non è qui un semplice elemento estet
 ico\, ma una vera e propria struttura concettuale: marionetta e burattini 
 incarnano una dimensione ambigua\, in bilico tra morte e immortalità\, tr
 a corpo animato e oggetto inerte\, restituendo al gesto scenico una qualit
 à rituale che mette in crisi l’idea stessa di presenza. La presunta fol
 lia di Amleto\, in questa rilettura\, non è solo un tema narrativo\, ma u
 na condizione del linguaggio teatrale\, un territorio instabile in cui rea
 ltà e finzione si contaminano fino a diventare indistinguibili. \nIl viol
 a che dà titolo allo spettacolo non è un dettaglio cromatico ma un dispo
 sitivo rituale. Colore del lutto e del vino\, della terra e della mescita\
 , il viola esiste solo nella percezione umana\, come il teatro. Chiedere a
 l pubblico di vestirsi di viola significa costruire un funerale collettivo
 \, un rito condiviso affinché il teatro possa morire per rinascere come s
 pazio vivo di comunità. Una possibilità di rinascita\, come rito che ten
 ta di restituire al teatro una funzione politica\, non nel senso ideologic
 o del termine\, ma come spazio in cui una comunità può ancora riconoscer
 e le proprie contraddizioni. \nFondamentale\, in questo dispositivo\, è l
 a presenza della musica dal vivo\, pensata come “attore invisibile” da
  Luca Spanu\, che attraversa la scena\, dialoga con i corpi e con le figur
 e\, e costruisce una partitura emotiva capace di agire sotto la soglia del
 la parola. La musica non accompagna\, ma interroga\, amplifica\, talvolta 
 contraddice\, diventando parte integrante della drammaturgia. \nHamlet in 
 Purple si presenta così come un atto insieme di lutto\, resistenza e sper
 anza. Forse il teatro deve prendere coscienza della propria morte per rico
 minciare a vivere. Dunque la domanda non riguarda più soltanto Amleto\, m
 a chi ascolta: che cosa può essere il teatro\, oggi? \n\nAngelo Mai è un
  circolo ARCI. L’accesso alle attività è riservato ai possessori di te
 ssera ARCI valida per l’anno in corso.\n\nHamlet in purple\nDall’Hamle
 t di William Shakespeare\n\nTraduzione\, regia\, drammaturgia: Valentino M
 annias\nMusiche originali e sound design: Luca Spanu\nCon: Valentino Manni
 as e Luca Spanu\nCollaborazione teatro di figura: Is Mascareddas\nCantanti
 : Emanuela Orrù\, Federica Orrù\nLight designer: Andrea Gallo\nFoto di s
 cena: Dietrich Steinmetz\nProduzione: Valentino Mannias\, Bluemotion\nDura
 ta: 65’\n\nNote biografiche\nValentino Mannias è un attore\, autore e r
 egista sardo. Formatosi presso l’Accademia d'arte drammatica Paolo Grass
 i\, nel 2015 vince il premio Hystrio alla vocazione come miglior attore - 
 dopo il quale si concentra anche sulla sua attività di autore e regista. 
 Nel 2018 viene selezionato per partecipare all'École des Maîtres\, il pr
 estigioso laboratorio internazionale di approfondimento teatrale diretto i
 n quell’anno da Tiago Rodrigues. Nello stesso anno vince il premio Franc
 o Enriquez per lo spettacolo l'Avvoltoio in cui collabora col regista Cés
 ar Brie e nel 2024 vince il premio Ubu come miglior attore italiano under 
 35. Scrive\, dirige e interpreta gli spettacoli Esodo\, Giovanna detta anc
 he Primavera (Sardegna Teatro\, Rete giovanidee) e mette in scena l’Ores
 tea di Eschilo di cui cura la traduzione  (Css teatro stabile del FVG\, Sa
 rdegna Teatro\, Ambasciata Italiana di Atene\, Fondazione Sardegna\, Betwe
 en the Seas Atene/New York). Con Bluemotion è protagonista in Pilade di P
 ier Paolo Pasolini (Teatro Nazionale Genova\, Ert Emilia Romagna Teatro)\,
  Cenere (Biennale di Venezia Teatro\, Bluemotion) e Roberto Zucco di Berna
 rd Marie Koltès per la regia di Giorgina Pi (Teatro Nazionale di Genova\,
  Teatro Metastasio di Prato\, Romaeuropa Festival\, Angelo Mai\, Amat\, Is
 tituto Italiano di Cultura di Parigi\, Olinda). Interpreta ruoli principal
 i anche nell’Edipo Re del Teatro dell’Elfo o in \nHermada - strada pri
 vata di Renato Sarti\, ma collabora anche in produzioni come Storia di Q d
 i Dario Fo e Franca Rame (Piccolo Teatro di Milano)\, Pier Paolo! per la r
 egia di Giorgio Barberio Corsetti (Fattore K\, Olinda)\, Quasi Grazia\, in
  cui recita con la scrittrice Michela Murgia per la regia di Veronica Cruc
 iani e Mujeres soñaron caballos di Daniel Veronese per la regia di Robert
 o Rustioni (Fattore K e Sardegna Teatro). Ultimamente prosegue il suo perc
 orso artistico anche in campo cinematografico come protagonista della seri
 e Il Mostro per la regia di Stefano Sollima\, una produzione The Apartment
  - gruppo Freemantle - e AlterEgo disponibile su Netflix in oltre 190 paes
 i.
ATTACH;FMTTYPE=image/jpeg:https://lazioeventi.com/wp-content/uploads/2026/
 03/Hamlet-in-Purple-1-foto-Dietrich-Steinmetz-dimensioni-grandi.jpeg
CATEGORIES:Musica, Spettacoli e Danza nel Lazio
LOCATION:Roma\, Via Leopardi\, Roma\, Roma\, Lazio\, Italia
GEO:41.8942;12.5017
X-APPLE-STRUCTURED-LOCATION;VALUE=URI;X-ADDRESS=Via Leopardi\, Roma\, Roma\
 , Lazio\, Italia;X-APPLE-RADIUS=100;X-TITLE=Roma:geo:41.8942,12.5017
END:VEVENT
BEGIN:VTIMEZONE
TZID:Europe/Rome
X-LIC-LOCATION:Europe/Rome
BEGIN:STANDARD
DTSTART:20251026T020000
TZOFFSETFROM:+0200
TZOFFSETTO:+0100
TZNAME:CET
END:STANDARD
END:VTIMEZONE
END:VCALENDAR