BEGIN:VCALENDAR
VERSION:2.0
PRODID:-//wp-events-plugin.com//7.2.3.1//EN
TZID:Europe/Rome
X-WR-TIMEZONE:Europe/Rome
BEGIN:VEVENT
UID:43920@lazioeventi.com
DTSTART;TZID=Europe/Rome;VALUE=DATE:20260312
DTEND;TZID=Europe/Rome;VALUE=DATE:20260316
DTSTAMP:20260304T104042Z
URL:https://lazioeventi.com/eventi/hanno-ucciso-baudelaire
SUMMARY:Hanno ucciso Baudelaire - Roma - 12 Marzo 26 00:00
DESCRIPTION:HANNO UCCISO BAUDELAIRE\n(Strani fiori)\ndi Marco Buzzi Maresca
 \n\nCon:\nGianni De Feo\n\nRegia e drammaturgia\nGianni De Feo\n\nElementi
  scenografici: Roberto Rinaldi\nCostumi: Janni Altamura\nDisegno luci: Glo
 ria Mancuso\nFoto e grafica: Manuela Giusto\n\nProduzione:\nFlorian Metate
 atro\n\nDal 12 al 15 marzo 2026\n\nHa inaugurato la stagione con uno strao
 rdinario recital dedicato a Jacques Brel e Sergio Endrigo\, accolto con gr
 ande successo. Ora torna nel nuovo cartellone con un progetto completament
 e inedito\, in cui è ancora una volta assoluto protagonista: Gianni De Fe
 o ci conduce alla scoperta di uno dei più grandi poeti della storia\, Cha
 rles Baudelaire.\n\nUn lungotevere di sogno e degrado\, di trasfigurazione
  e violenza. Reale e immaginario. Lontano comunque dalla poesia della Senn
 a e dalle seduzioni della “Ville lumière”.\nUn espulso dalla società
 \, un esule\, un derelitto\, un relitto sublime malato di malinconia d’a
 ssoluto si aggira sulle rive del fiume come su quelle di un dantesco aldil
 à. In questo palcoscenico solitario\, l’uomo\, scivolato dall’alto ne
 lla discarica umana\, trova la sua unica àncora di salvezza nei versi del
  poeta “maledetto”\, fino a una sottile identificazione con la sua ess
 enza. Fino a farlo rivivere. E i compagni di sottoponte lo chiamano “Bau
 delaire”.\n\nÈ Baudelaire perché Baudelaire è un clochard dell’anim
 a. Un gabbiano senza cielo\, un cigno nel deserto\, “Su un rigagnolo pro
 sciugato la bestia aprendo il becco / bagnava nervosamente le ali nella po
 lvere”. L’uomo e il poeta si prestano così l’anima a vicenda. Si fa
 nno specchio uno dell’altro tra verità e menzogna\, entrambi scrutando 
 il cielo da cui furono cacciati. “Je tombais dans l’abîme”.\n\nSple
 en e Ideale. Angoscia e Sogno. Eros e paradisi artificiali sono il sogno i
 mpossibile.\nCosì\, come in un vortice\, eros e morte si rincorrono senza
  possedersi. Come un malato in un’ambulanza\, come un pazzo abbandonato 
 in una stanza. Come il fiume che placido si porta il cadavere dell’anneg
 ata nella Ballata di Bertolt Brecht. Brutalità della realtà e incandesce
 nza del sogno si affrontano in un duello all’ultimo sangue\, incarnandos
 i a tratti negli allucinati versi del poeta francese.\n\nAl termine dello 
 spettacolo\, Teatrosophia avrà il piacere di offrire il consueto aperitiv
 o\, un momento di incontro e condivisione dedicato ad artisti e pubblico.\
 n\nOrari spettacolo: Giovedì e venerdì – ore 21:00 – sabato e domeni
 ca – ore 18:00\n\nBiglietti: Intero: euro 15\,00 + tessera associativa a
 nnuale € 5\,00\n\nPrenotazioni: https://www.teatrosophia.it/index.php?vi
 ew=article&amp\;id=88&amp\;catid=9\n\nN.B: Per accedere alla prenotazione 
 è necessaria la registrazione all’Associazione Culturale Teatrosophia p
 er la sottoscrizione della tessera associativa che sarà valida per tutta 
 la stagione 2025/2026.
ATTACH;FMTTYPE=image/jpeg:https://lazioeventi.com/wp-content/uploads/2026/
 03/17.-BAUDELAIRE.jpg
CATEGORIES:Musica, Spettacoli e Danza nel Lazio
LOCATION:Roma\, Via Leopardi\, Roma\, Roma\, Lazio\, Italia
GEO:41.8942;12.5017
X-APPLE-STRUCTURED-LOCATION;VALUE=URI;X-ADDRESS=Via Leopardi\, Roma\, Roma\
 , Lazio\, Italia;X-APPLE-RADIUS=100;X-TITLE=Roma:geo:41.8942,12.5017
END:VEVENT
BEGIN:VTIMEZONE
TZID:Europe/Rome
X-LIC-LOCATION:Europe/Rome
BEGIN:STANDARD
DTSTART:20251026T020000
TZOFFSETFROM:+0200
TZOFFSETTO:+0100
TZNAME:CET
END:STANDARD
END:VTIMEZONE
END:VCALENDAR