BEGIN:VCALENDAR
VERSION:2.0
PRODID:-//wp-events-plugin.com//7.2.3.1//EN
TZID:Europe/Rome
X-WR-TIMEZONE:Europe/Rome
BEGIN:VEVENT
UID:42695@lazioeventi.com
DTSTART;TZID=Europe/Rome:20251026T183000
DTEND;TZID=Europe/Rome:20251026T203000
DTSTAMP:20251010T072240Z
URL:https://lazioeventi.com/eventi/hao-dong-la-principessa-della-laguna-ve
 neta
SUMMARY:Hao Dong\, la principessa della Laguna Veneta - Roma - 26 Ottobre 2
 5 18:30
DESCRIPTION:“Hao Dong\, la principessa della Laguna Veneta”\, prima ass
 oluta a Fiuggi il 26 ottobre\n\nIl fascino misterioso dell’Oriente incon
 tra la suggestione senza tempo di Venezia in “Hao Dong\, la principessa 
 della Laguna Veneta”\, opera teatrale e musicale per la prima volta in s
 cena a Fiuggi il 26 ottobre 2025\, frutto della collaborazione tra il Muse
 o Sandro Massimini e l’Hotel Villa Igea.\n\nDalla corte di Kublai Khan a
  Venezia\, la giovane principessa mongola Hao Dong\, figlia prediletta del
 l’imperatore della dinastia Yuan\, vive un amore intenso con Marco Polo.
  \nAmmirata e temuta per la sua diversità\, trova nel canto la sua voce p
 iù vera\, capace di incantare la laguna. Ma la guerra e la prigionia del 
 suo sposo la conducono a un destino tragico\, che la trasformerà in legge
 nda.\nLa forza evocativa della storia prende vita grazie alla narrazione d
 i Matteo Micheli\, alle musiche di Alessandro e Felice Severa\, al librett
 o di Manuela Critelli e alla regia di Alessandro Ciccarese. Ad interpretar
 e i protagonisti saranno invece Michael Alfonsi (tenore)\, Silvia Pasini (
 mezzosoprano)\, Michela Nardella (contralto)\, Artemisia Repa (soprano).\n
 \nIl canto\, vero filo conduttore della vicenda\, si fa ponte tra due mond
 i lontani. La voce della principessa\, che nella leggenda ammaliava le acq
 ue della laguna\, si rinnova oggi attraverso\nle interpretazioni liriche d
 ei protagonisti. La scelta di affidare la narrazione al canto lirico sotto
 linea la potenza evocativa della tradizione operistica italiana e al tempo
  stesso l’opera\ncelebra l’importanza del dialogo tra civiltà diverse
 .\n\nPrima dello spettacolo\, dalle ore 17:00\, sarà possibile visitare l
 a mostra "Operetta e teatrini d’epoca"\, allestita all’interno di Vill
 a Igea con una selezione di materiali originali dalla\ncollezione del Muse
 o Sandro Massimini.\n\nSi prega di notare che la prenotazione è obbligato
 ria. È possibile contattare per email info@hotelvillaigeafiuggi.com o per
  telefono 0775 515435. Lo spettacolo si terrà alle ore 18:00 nelle sale i
 nterne dell’hotel.
ATTACH;FMTTYPE=image/jpeg:https://lazioeventi.com/wp-content/uploads/2025/
 10/LOCANDINA_Hao-Dong-la-principessa-della-Laguna-Veneta.jpg
CATEGORIES:Arte e Cultura nel Lazio,Musica, Spettacoli e Danza nel Lazio
LOCATION:Roma\, Via Leopardi\, Roma\, Roma\, Lazio\, Italia
GEO:41.8942;12.5017
X-APPLE-STRUCTURED-LOCATION;VALUE=URI;X-ADDRESS=Via Leopardi\, Roma\, Roma\
 , Lazio\, Italia;X-APPLE-RADIUS=100;X-TITLE=Roma:geo:41.8942,12.5017
END:VEVENT
BEGIN:VTIMEZONE
TZID:Europe/Rome
X-LIC-LOCATION:Europe/Rome
BEGIN:STANDARD
DTSTART:20251026T020000
TZOFFSETFROM:+0200
TZOFFSETTO:+0100
TZNAME:CET
END:STANDARD
END:VTIMEZONE
END:VCALENDAR