BEGIN:VCALENDAR
VERSION:2.0
PRODID:-//wp-events-plugin.com//7.2.3.1//EN
TZID:Europe/Rome
X-WR-TIMEZONE:Europe/Rome
BEGIN:VEVENT
UID:36879@lazioeventi.com
DTSTART;TZID=Europe/Rome:20231006T093000
DTEND;TZID=Europe/Rome:20240303T193000
DTSTAMP:20230901T064943Z
URL:https://lazioeventi.com/eventi/helmut-newton-legacy
SUMMARY:Helmut Newton. Legacy - Roma - 6 Ottobre 23 09:30
DESCRIPTION:Curata da Matthias Harder l’esposizione\, nata in accordo con
  la Newton Foundation\, propone circa 250 fotografie di Helmut Newton. \n\
 nAccanto alle immagini più iconiche sono presenti molte opere inedite che
  illustrano aspetti meno noti del suo lavoro e del suo processo creativo c
 he è rivelato attraverso polaroid e contact sheets.\n\nIl percorso esposi
 tivo ripercorre l’intera carriera di uno dei fotografi più amati e disc
 ussi di tutti i tempi. Accanto agli scatti che hanno fatto la storia\, app
 arsi nelle più importanti copertine di fashion magazines\, un corpus di s
 catti inediti svela aspetti meno noti dell’opera di Newton. Un focus spe
 cifico è dedicato ai servizi di moda considerati all’epoca rivoluzionar
 i\, come la serie ispirata ai film di Alfred Hitchcock\, Francois Truffaut
  e Federico Fellini. Polaroid\, stampe a contatto\, pubblicazioni speciali
  e materiali d’archivio permettono al visitatore di entrare nel cuore de
 l processo creativo di Helmut Newton.\n\nI capitoli cronologici raccontano
  le diverse fasi della vita e della carriera del fotografo\, dagli esordi 
 fino agli ultimi anni di produzione\, con immagini diventate parte della n
 ostra memoria visiva e collettiva\, come la serie Big Nudes. Fino all’ul
 timo\, Newton ha continuato a incantare e a provocare il pubblico con un c
 omplesso lavoro sulla femminilità\, sfidando per oltre sei decenni ogni t
 entativo di categorizzazione della donna. Le protagoniste dei suoi scatti 
 sono soggetti che hanno piena consapevolezza del proprio corpo\, sottile i
 ronia e un atteggiamento di sfida nei confronti dell’altro\, senza mai c
 adere nella volgarità o nella banalità.\n\nL’esposizione si snoda a pa
 rtire dagli anni Quaranta in Australia per poi proseguire negli anni Cinqu
 anta in Europa\, nei Sessanta in Francia\, nei Settanta negli Stati Uniti 
 e negli Ottanta tra Monte Carlo e Los Angeles\, fino ad arrivare ai numero
 si servizi in giro per il mondo degli anni Novanta e all’ultimo periodo 
 della sua carriera.\n\nLo spazio museale dell'Ara Pacis propone in esclusi
 va una decina di immagini di shooting che Newton scattò proprio a Roma\, 
 non presentate nelle esposizioni precedenti. Si tratta di scatti di moda c
 he il fotografo realizzò\, creando quelle atmosfere effimere ed intense c
 he soltanto lui riusciva a evocare\, unendo il fascino della Capitale a qu
 ello dei soggetti\, scelti per incarnare le sue visioni. 
ATTACH;FMTTYPE=image/jpeg:https://lazioeventi.com/wp-content/uploads/2023/
 09/newton.jpg
CATEGORIES:Arte e Cultura nel Lazio
LOCATION:Roma\, Via Leopardi\, Roma\, Roma\, Lazio\, Italia
GEO:41.8942;12.5017
X-APPLE-STRUCTURED-LOCATION;VALUE=URI;X-ADDRESS=Via Leopardi\, Roma\, Roma\
 , Lazio\, Italia;X-APPLE-RADIUS=100;X-TITLE=Roma:geo:41.8942,12.5017
END:VEVENT
BEGIN:VTIMEZONE
TZID:Europe/Rome
X-LIC-LOCATION:Europe/Rome
BEGIN:DAYLIGHT
DTSTART:20230326T030000
TZOFFSETFROM:+0100
TZOFFSETTO:+0200
TZNAME:CEST
END:DAYLIGHT
BEGIN:STANDARD
DTSTART:20231029T020000
TZOFFSETFROM:+0200
TZOFFSETTO:+0100
TZNAME:CET
END:STANDARD
END:VTIMEZONE
END:VCALENDAR