BEGIN:VCALENDAR
VERSION:2.0
PRODID:-//wp-events-plugin.com//7.2.3.1//EN
TZID:Europe/Rome
X-WR-TIMEZONE:Europe/Rome
BEGIN:VEVENT
UID:37107@lazioeventi.com
DTSTART;TZID=Europe/Rome:20230924T120000
DTEND;TZID=Europe/Rome:20230924T233000
DTSTAMP:20230919T062718Z
URL:https://lazioeventi.com/eventi/helpy-day
SUMMARY:HELPY DAY - Castelliri - 24 Settembre 23 12:00
DESCRIPTION:1° FESTIVAL DELLA STREET ART\nDomenica 24 settembre 2023 • P
 iazza Principe di Piemonte • Castelliri \n•••••\nUna giornata 
 all'insegna della solidarietà e dell'arte.\n•••••\nLaboratori p
 er bambini e famiglie all'aperto • Arte di strada • Stand gastronomici
  • Asta di Beneficenza • Live Music no stop\n•••••\nLa Stree
 t Art è una forma di espressione dell'arte moderna che si manifesta in lu
 oghi pubblici. Le principali tecniche di realizzazione: Lo scopo della Str
 eet Art è quello di contrastare la comunicazione di massa\, cercando di r
 aggiungere  un pubblico sempre più grande\, unendo i diversi stili che re
 ndono la Street Art parte fondamentale dell'arte contemporanea.\n•••
 ••\nAnche la musica sarà protagonista\, con DJ set dalle ore 15:30 of
 ferto da: MOREMUSIC • DJ GHOST • DJ GIUSEPPE QUADRINI • CLAUDIA MASS
 ARONI.\nE alle ore 22:00 GABRIELE ESPOSITO - 'O TOUR live.\nGabriele è un
  cantautore partenopeo\, classe 1998\, si è fatto conoscere al grande pub
 blico dopo le sue partecipazioni a X Factor 11 e 12\, grazie ad alcune cov
 er come "Tango" di Tananai in napoletano oppure "Me staje appennenn' amò"
  di Liberato\, e singoli come "L'unica" e "Aret 'a 'nu penziero". La sua c
 ultura musicale spazia da John Mayer\, passando per Shawn Mendes e arrivan
 do a Ed Sheeran.
ATTACH;FMTTYPE=image/jpeg:https://lazioeventi.com/wp-content/uploads/2023/
 09/helpy-day.jpg
CATEGORIES:Sport, Tempo Libero e Divertimento nel Lazio,Arte e Cultura nel
 Lazio,Musica, Spettacoli e Danza nel Lazio
LOCATION:Castelliri\, Comune di Castelliri\, Castelliri\, Frosinone\, Lazio
 \, Italia
GEO:41.6794957;13.55002509999997
X-APPLE-STRUCTURED-LOCATION;VALUE=URI;X-ADDRESS=Comune di Castelliri\, Cast
 elliri\, Frosinone\, Lazio\, Italia;X-APPLE-RADIUS=100;X-TITLE=Castelliri:
 geo:41.6794957,13.55002509999997
END:VEVENT
BEGIN:VTIMEZONE
TZID:Europe/Rome
X-LIC-LOCATION:Europe/Rome
BEGIN:DAYLIGHT
DTSTART:20230326T030000
TZOFFSETFROM:+0100
TZOFFSETTO:+0200
TZNAME:CEST
END:DAYLIGHT
END:VTIMEZONE
END:VCALENDAR